Workbook
Name CALDAY1: _xludf.LAMBDA(INDIRECT("RC[-5]",FALSE)+1)
Name CALDAY2: _xludf.LAMBDA(INDIRECT("R[-5]C",FALSE)+7)
Name SPACINSHORTDAYS: _xludf.LAMBDA(day,_xludf.SWITCH(day,"MON","M O N","TUE","T U E","WED","W E D","THU","T H U","FRI","F R I","SAT","S A T","SUN","S U N"))
Name WEEKLYDAYTITLE: _xludf.LAMBDA(SPACINGDAYS(TEXT(INDIRECT("R[2]C[2]",FALSE),"DDDD")))
Name WEEKLYFIRSTDAY: _xludf.LAMBDA(INDIRECT("$A$1")+[1]Calendar!$AY$29)

Sheet Setup
C2: Setup | O2: SET YOUR START DATE | S2: ← The dates in the 6 weekly planners and the monthly calendar will automatically populate, starting from the date you select.
W3: TODAY IS
O4: 46191 | W4: =TODAY() -> 46045
C7: Cardio | G7: Back | K7: Shoulders | O7: Abs | S7: Legs | W7: Chest | AB7: =IF(Setup!$G$7="","",Setup!$G$7) -> Back | AC7: =IF(Setup!$K$7="","",Setup!$K$7) -> Shoulders | AD7: =IF(Setup!$O$7="","",Setup!$O$7) -> Abs | AE7: =IF(Setup!$S$7="","",Setup!$S$7) -> Legs | AF7: =IF(Setup!$W$7="","",Setup!$W$7) -> Chest | AG7: =IF(Setup!$C$40="","",Setup!$C$40) -> Arm | AH7: =IF(Setup!$G$40="","",Setup!$G$40) -> Glute | AI7: =IF(Setup!$K$40="","",Setup!$K$40) | AJ7: =IF(Setup!$O$40="","",Setup!$O$40) | AK7: =IF(Setup!$S$40="","",Setup!$S$40) | AL7: =IF(Setup!$W$40="","",Setup!$W$40)
AB8: {=G9:G38} -> Pull-Ups | AC8: {=Setup!$K$9:$K$38} -> Overhead Press | AD8: {=Setup!$O$9:$O$38} -> Ab Rollouts | AE8: {=Setup!$S$9:$S$38} -> Box Jumps | AF8: {=Setup!$W$9:$W$38} -> Smith Machine Bench Press | AG8: {=Setup!$C$42:$C$71} -> Barbell Bicep Curls | AH8: {=Setup!$G$42:$G$71} -> Deadlifts | AI8: {=Setup!$K$42:$K$71} -> 0 | AJ8: {=Setup!$O$42:$O$71} -> 0 | AK8: {=Setup!$S$42:$S$71} -> 0 | AL8: {=Setup!$W$42:$W$71} -> 0
C9: Running | G9: Pull-Ups | K9: Overhead Press | O9: Ab Rollouts | S9: Box Jumps | W9: Smith Machine Bench Press | AB9: Lat Pulldowns | AC9: Arnold Press | AD9: Toe Touches | AE9: Hack Squats | AF9: Bench Press | AG9: Dumbbell Bicep Curls | AH9: Glute Bridges | AI9: 0 | AJ9: 0 | AK9: 0 | AL9: 0
C10: Cycling | G10: Lat Pulldowns | K10: Arnold Press | O10: Toe Touches | S10: Hack Squats | W10: Bench Press | AB10: Bent-Over Rows | AC10: Lateral Raises | AD10: Windshield Wipers | AE10: Pistol Squats | AF10: Push-Ups | AG10: Hammer Curls | AH10: Lunges | AI10: 0 | AJ10: 0 | AK10: 0 | AL10: 0
C11: Swimming | G11: Bent-Over Rows | K11: Lateral Raises | O11: Windshield Wipers | S11: Pistol Squats | W11: Push-Ups | AB11: Deadlifts | AC11: Front Raises | AD11: Hanging Leg Raises | AE11: Glute Bridges | AF11: Incline Bench Press | AG11: Cable Curls | AH11: Bulgarian Split Squats | AI11: 0 | AJ11: 0 | AK11: 0 | AL11: 0
C12: Jump Rope | G12: Deadlifts | K12: Front Raises | O12: Hanging Leg Raises | S12: Glute Bridges | W12: Incline Bench Press | AB12: Seated Cable Rows | AC12: Rear Delt Flyes | AD12: Crunches | AE12: Calf Raises | AF12: Dumbbell Flyes | AG12: Tricep Dips | AH12: Step-Ups | AI12: 0 | AJ12: 0 | AK12: 0 | AL12: 0
C13: Dancing | G13: Seated Cable Rows | K13: Rear Delt Flyes | O13: Crunches | S13: Calf Raises | W13: Dumbbell Flyes | AB13: Face Pulls | AC13: Dumbbell Shrugs | AD13: Bicycle Crunches | AE13: Leg Curls | AF13: Chest Dips | AG13: Overhead Tricep Extensions | AH13: Clamshells | AI13: 0 | AJ13: 0 | AK13: 0 | AL13: 0
C14: HIIT | G14: Face Pulls | K14: Dumbbell Shrugs | O14: Bicycle Crunches | S14: Leg Curls | W14: Chest Dips | AB14: Supermans | AC14: Pike Push-Ups | AD14: Side Planks | AE14: Deadlifts | AF14: Svend Press | AG14: Kickbacks | AH14: Frog Pumps | AI14: 0 | AJ14: 0 | AK14: 0 | AL14: 0
C15: Hiking | G15: Supermans | K15: Pike Push-Ups | O15: Side Planks | S15: Deadlifts | W15: Svend Press | AB15: 0 | AC15: Single-Arm Cable Front Raises | AD15: 0 | AE15: Squats | AF15: Cable Crossovers | AG15: Wrist Curls | AH15: 0 | AI15: 0 | AJ15: 0 | AK15: 0 | AL15: 0
C16: Kickboxing | K16: Single-Arm Cable Front Raises | S16: Squats | W16: Cable Crossovers | AB16: 0 | AC16: 0 | AD16: 0 | AE16: Leg Press | AF16: Decline Bench Press | AG16: 0 | AH16: 0 | AI16: 0 | AJ16: 0 | AK16: 0 | AL16: 0
C17: Spinning | S17: Leg Press | W17: Decline Bench Press | AB17: 0 | AC17: 0 | AD17: 0 | AE17: 0 | AF17: 0 | AG17: 0 | AH17: 0 | AI17: 0 | AJ17: 0 | AK17: 0 | AL17: 0
AB18: 0 | AC18: 0 | AD18: 0 | AE18: 0 | AF18: 0 | AG18: 0 | AH18: 0 | AI18: 0 | AJ18: 0 | AK18: 0 | AL18: 0
AB19: 0 | AC19: 0 | AD19: 0 | AE19: 0 | AF19: 0 | AG19: 0 | AH19: 0 | AI19: 0 | AJ19: 0 | AK19: 0 | AL19: 0
AB20: 0 | AC20: 0 | AD20: 0 | AE20: 0 | AF20: 0 | AG20: 0 | AH20: 0 | AI20: 0 | AJ20: 0 | AK20: 0 | AL20: 0
AB21: 0 | AC21: 0 | AD21: 0 | AE21: 0 | AF21: 0 | AG21: 0 | AH21: 0 | AI21: 0 | AJ21: 0 | AK21: 0 | AL21: 0
AB22: 0 | AC22: 0 | AD22: 0 | AE22: 0 | AF22: 0 | AG22: 0 | AH22: 0 | AI22: 0 | AJ22: 0 | AK22: 0 | AL22: 0
AB23: 0 | AC23: 0 | AD23: 0 | AE23: 0 | AF23: 0 | AG23: 0 | AH23: 0 | AI23: 0 | AJ23: 0 | AK23: 0 | AL23: 0
AB24: 0 | AC24: 0 | AD24: 0 | AE24: 0 | AF24: 0 | AG24: 0 | AH24: 0 | AI24: 0 | AJ24: 0 | AK24: 0 | AL24: 0
AB25: 0 | AC25: 0 | AD25: 0 | AE25: 0 | AF25: 0 | AG25: 0 | AH25: 0 | AI25: 0 | AJ25: 0 | AK25: 0 | AL25: 0
AB26: 0 | AC26: 0 | AD26: 0 | AE26: 0 | AF26: 0 | AG26: 0 | AH26: 0 | AI26: 0 | AJ26: 0 | AK26: 0 | AL26: 0
AB27: 0 | AC27: 0 | AD27: 0 | AE27: 0 | AF27: 0 | AG27: 0 | AH27: 0 | AI27: 0 | AJ27: 0 | AK27: 0 | AL27: 0
AB28: 0 | AC28: 0 | AD28: 0 | AE28: 0 | AF28: 0 | AG28: 0 | AH28: 0 | AI28: 0 | AJ28: 0 | AK28: 0 | AL28: 0
AB29: 0 | AC29: 0 | AD29: 0 | AE29: 0 | AF29: 0 | AG29: 0 | AH29: 0 | AI29: 0 | AJ29: 0 | AK29: 0 | AL29: 0
... AB37: 0 | AC37: 0 | AD37: 0 | AE37: 0 | AF37: 0 | AG37: 0 | AH37: 0 | AI37: 0 | AJ37: 0 | AK37: 0 | AL37: 0
C40: Arm | G40: Glute
C42: Barbell Bicep Curls | G42: Deadlifts
C43: Dumbbell Bicep Curls | G43: Glute Bridges
C44: Hammer Curls | G44: Lunges
C45: Cable Curls | G45: Bulgarian Split Squats
C46: Tricep Dips | G46: Step-Ups
C47: Overhead Tricep Extensions | G47: Clamshells
C48: Kickbacks | G48: Frog Pumps
C49: Wrist Curls
C80: © 2025 Hey Morning. All rights reserved.

Sheet Week 1
A1: 0
B2: Week 1
J3: W O R K O U T D A Y S | N3: =7-$V$3 -> 7 | R3: R E S T D A Y S | V3: =COUNTIF(D9,Calendar!$AQ$7)+COUNTIF(L9,Calendar!$AQ$7)+COUNTIF(T9,Calendar!$AQ$7)+COUNTIF(AB9,Calendar!$AQ$7)+COUNTIF(D40,Calendar!$AQ$7)+COUNTIF(L40,Calendar!$AQ$7)+COUNTIF(T40,Calendar!$AQ$7) -> 0 | Z3: © Hey Morning. All rights reserved.
AJ5: data source of the second layer dropdown
B6: {=_xlfn.SWITCH(TEXT(D8,"DDDD"),"SUNDAY","S U N D A Y","MONDAY","M O N D A Y","TUESDAY","T U E S D A Y","WEDNESDAY","W E D N E S D A Y","THURSDAY","T H U R S D A Y","FRIDAY","F R I D A Y","SATURDAY","S A T U R D A Y","SUNDAY","S U N D A Y")} -> T H U R S D A Y | J6: {=_xlfn.SWITCH(TEXT(L8,"DDDD"),"SUNDAY","S U N D A Y","MONDAY","M O N D A Y","TUESDAY","T U E S D A Y","WEDNESDAY","W E D N E S D A Y","THURSDAY","T H U R S D A Y","FRIDAY","F R I D A Y","SATURDAY","S A T U R D A Y","SUNDAY","S U N D A Y")} -> F R I D A Y | R6: {=_xlfn.SWITCH(TEXT(T8,"DDDD"),"SUNDAY","S U N D A Y","MONDAY","M O N D A Y","TUESDAY","T U E S D A Y","WEDNESDAY","W E D N E S D A Y","THURSDAY","T H U R S D A Y","FRIDAY","F R I D A Y","SATURDAY","S A T U R D A Y","SUNDAY","S U N D A Y")} -> S A T U R D A Y | Z6: {=_xlfn.SWITCH(TEXT(AB8,"DDDD"),"SUNDAY","S U N D A Y","MONDAY","M O N D A Y","TUESDAY","T U E S D A Y","WEDNESDAY","W E D N E S D A Y","THURSDAY","T H U R S D A Y","FRIDAY","F R I D A Y","SATURDAY","S A T U R D A Y","SUNDAY","S U N D A Y")} -> S U N D A Y | AJ6: {=_xlfn.LET(_xlpm.a,IF($D$10<>"",INDEX(Setup!$AB$8:$AL$38,,MATCH($D$10,Setup!$AB$7:$AL$7,0)),{""}),_xlpm.b,IF($D$11<>"",INDEX(Setup!$AB$8:$AL$38,,MATCH($D$11,Setup!$AB$7:$AL$7,0)),{""}),_xlpm.c,IF($D$12<>"",INDEX(Setup!$AB$8:$AL$38,,MATCH($D$12,Setup!$AB$7:$AL$7,0)),{""}),_xlpm.stacked,_xlfn.VSTACK(_xlpm.a,_xlpm.b,_xlpm.c),IFERROR(TRANSPOSE(_xlfn._xlws.FILTER(_xlpm.stacked,(_xlpm.stacked<>0)*(_xlpm.stacked<>"")*(_xlpm.stacked<>"#N/A"))),""))}
AJ7: {=_xlfn.LET(_xlpm.a,IF($L$10<>"",INDEX(Setup!$AB$8:$AL$38,,MATCH($L$10,Setup!$AB$7:$AL$7,0)),{""}),_xlpm.b,IF($L$11<>"",INDEX(Setup!$AB$8:$AL$38,,MATCH($L$11,Setup!$AB$7:$AL$7,0)),{""}),_xlpm.c,IF($L$12<>"",INDEX(Setup!$AB$8:$AL$38,,MATCH($L$12,Setup!$AB$7:$AL$7,0)),{""}),_xlpm.stacked,_xlfn.VSTACK(_xlpm.a,_xlpm.b,_xlpm.c),IFERROR(TRANSPOSE(_xlfn._xlws.FILTER(_xlpm.stacked,(_xlpm.stacked<>0)*(_xlpm.stacked<>"")*(_xlpm.stacked<>"#N/A"))),""))}
B8: DATE | D8: =$A$1+Calendar!$AY$29 -> 46191 | J8: DATE | L8: =$A$1+Calendar!$AY$29+1 -> 46192 | R8: DATE | T8: =$A$1+Calendar!$AY$29+2 -> 46193 | Z8: DATE | AB8: =$A$1+Calendar!$AY$29+3 -> 46194 | AJ8: {=_xlfn.LET(_xlpm.a,IF($T$10<>"",INDEX(Setup!$AB$8:$AL$38,,MATCH($T$10,Setup!$AB$7:$AL$7,0)),{""}),_xlpm.b,IF($T$11<>"",INDEX(Setup!$AB$8:$AL$38,,MATCH($T$11,Setup!$AB$7:$AL$7,0)),{""}),_xlpm.c,IF($T$12<>"",INDEX(Setup!$AB$8:$AL$38,,MATCH($T$12,Setup!$AB$7:$AL$7,0)),{""}),_xlpm.stacked,_xlfn.VSTACK(_xlpm.a,_xlpm.b,_xlpm.c),IFERROR(TRANSPOSE(_xlfn._xlws.FILTER(_xlpm.stacked,(_xlpm.stacked<>0)*(_xlpm.stacked<>"")*(_xlpm.stacked<>"#N/A"))),""))}
B9: REST DAY ? | J9: REST DAY ? | R9: REST DAY ? | Z9: REST DAY ? | AJ9: {=_xlfn.LET(_xlpm.a,IF($AB$10<>"",INDEX(Setup!$AB$8:$AL$38,,MATCH($AB$10,Setup!$AB$7:$AL$7,0)),{""}),_xlpm.b,IF($AB$11<>"",INDEX(Setup!$AB$8:$AL$38,,MATCH($AB$11,Setup!$AB$7:$AL$7,0)),{""}),_xlpm.c,IF($AB$12<>"",INDEX(Setup!$AB$8:$AL$38,,MATCH($AB$12,Setup!$AB$7:$AL$7,0)),{""}),_xlpm.stacked,_xlfn.VSTACK(_xlpm.a,_xlpm.b,_xlpm.c),IFERROR(TRANSPOSE(_xlfn._xlws.FILTER(_xlpm.stacked,(_xlpm.stacked<>0)*(_xlpm.stacked<>"")*(_xlpm.stacked<>"#N/A"))),""))}
B10: MUSCLE GROUPS | J10: MUSCLE GROUPS | R10: MUSCLE GROUPS | Z10: MUSCLE GROUPS | AJ10: {=_xlfn.LET(_xlpm.a,IF($D$41<>"",INDEX(Setup!$AB$8:$AL$38,,MATCH($D$41,Setup!$AB$7:$AL$7,0)),{""}),_xlpm.b,IF($D$42<>"",INDEX(Setup!$AB$8:$AL$38,,MATCH($D$42,Setup!$AB$7:$AL$7,0)),{""}),_xlpm.c,IF($D$43<>"",INDEX(Setup!$AB$8:$AL$38,,MATCH($D$43,Setup!$AB$7:$AL$7,0)),{""}),_xlpm.stacked,_xlfn.VSTACK(_xlpm.a,_xlpm.b,_xlpm.c),IFERROR(TRANSPOSE(_xlfn._xlws.FILTER(_xlpm.stacked,(_xlpm.stacked<>0)*(_xlpm.stacked<>"")*(_xlpm.stacked<>"#N/A"))),""))}
AJ11: {=_xlfn.LET(_xlpm.a,IF($L$41<>"",INDEX(Setup!$AB$8:$AL$38,,MATCH($L$41,Setup!$AB$7:$AL$7,0)),{""}),_xlpm.b,IF($L$42<>"",INDEX(Setup!$AB$8:$AL$38,,MATCH($L$42,Setup!$AB$7:$AL$7,0)),{""}),_xlpm.c,IF($L$43<>"",INDEX(Setup!$AB$8:$AL$38,,MATCH($L$43,Setup!$AB$7:$AL$7,0)),{""}),_xlpm.stacked,_xlfn.VSTACK(_xlpm.a,_xlpm.b,_xlpm.c),IFERROR(TRANSPOSE(_xlfn._xlws.FILTER(_xlpm.stacked,(_xlpm.stacked<>0)*(_xlpm.stacked<>"")*(_xlpm.stacked<>"#N/A"))),""))}
AJ12: {=_xlfn.LET(_xlpm.a,IF($T$41<>"",INDEX(Setup!$AB$8:$AL$38,,MATCH($T$41,Setup!$AB$7:$AL$7,0)),{""}),_xlpm.b,IF($T$42<>"",INDEX(Setup!$AB$8:$AL$38,,MATCH($T$42,Setup!$AB$7:$AL$7,0)),{""}),_xlpm.c,IF($T$43<>"",INDEX(Setup!$AB$8:$AL$38,,MATCH($T$43,Setup!$AB$7:$AL$7,0)),{""}),_xlpm.stacked,_xlfn.VSTACK(_xlpm.a,_xlpm.b,_xlpm.c),IFERROR(TRANSPOSE(_xlfn._xlws.FILTER(_xlpm.stacked,(_xlpm.stacked<>0)*(_xlpm.stacked<>"")*(_xlpm.stacked<>"#N/A"))),""))}
B13: EXERCISE | D13: WEIGHT | E13: SETS | F13: REPS | G13: REST | H13: TIME | J13: EXERCISE | L13: WEIGHT | M13: SETS | N13: REPS | O13: REST | P13: TIME | R13: EXERCISE | T13: WEIGHT | U13: SETS | V13: REPS | W13: REST | X13: TIME | Z13: EXERCISE | AB13: WEIGHT | AC13: SETS | AD13: REPS | AE13: REST | AF13: TIME
B29: CARDIO | J29: CARDIO | R29: CARDIO | Z29: CARDIO
B30: EXERCISE | D30: TIME | E30: SPEED | G30: DISTANCE | J30: EXERCISE | L30: TIME | M30: SPEED | O30: DISTANCE | R30: EXERCISE | T30: TIME | U30: SPEED | W30: DISTANCE | Z30: EXERCISE | AB30: TIME | AC30: SPEED | AE30: DISTANCE
B37: {=_xlfn.SWITCH(TEXT(D39,"DDDD"),"SUNDAY","S U N D A Y","MONDAY","M O N D A Y","TUESDAY","T U E S D A Y","WEDNESDAY","W E D N E S D A Y","THURSDAY","T H U R S D A Y","FRIDAY","F R I D A Y","SATURDAY","S A T U R D A Y","SUNDAY","S U N D A Y")} -> M O N D A Y | J37: {=_xlfn.SWITCH(TEXT(L39,"DDDD"),"SUNDAY","S U N D A Y","MONDAY","M O N D A Y","TUESDAY","T U E S D A Y","WEDNESDAY","W E D N E S D A Y","THURSDAY","T H U R S D A Y","FRIDAY","F R I D A Y","SATURDAY","S A T U R D A Y","SUNDAY","S U N D A Y")} -> T U E S D A Y | R37: {=_xlfn.SWITCH(TEXT(T39,"DDDD"),"SUNDAY","S U N D A Y","MONDAY","M O N D A Y","TUESDAY","T U E S D A Y","WEDNESDAY","W E D N E S D A Y","THURSDAY","T H U R S D A Y","FRIDAY","F R I D A Y","SATURDAY","S A T U R D A Y","SUNDAY","S U N D A Y")} -> W E D N E S D A Y | Z37: G O A L
B39: DATE | D39: =$A$1+Calendar!$AY$29+4 -> 46195 | J39: DATE | L39: =$A$1+Calendar!$AY$29+5 -> 46196 | R39: DATE | T39: =$A$1+Calendar!$AY$29+6 -> 46197
B40: REST DAY ? | J40: REST DAY ? | R40: REST DAY ?
B41: MUSCLE GROUPS | J41: MUSCLE GROUPS | R41: MUSCLE GROUPS
B44: EXERCISE | D44: WEIGHT | E44: SETS | F44: REPS | G44: REST | H44: TIME | J44: EXERCISE | L44: WEIGHT | M44: SETS | N44: REPS | O44: REST | P44: TIME | R44: EXERCISE | T44: WEIGHT | U44: SETS | V44: REPS | W44: REST | X44: TIME
Z46: N O T E
B60: CARDIO | J60: CARDIO | R60: CARDIO
B61: EXERCISE | D61: TIME | E61: SPEED | G61: DISTANCE | J61: EXERCISE | L61: TIME | M61: SPEED | O61: DISTANCE | R61: EXERCISE | T61: TIME | U61: SPEED | W61: DISTANCE

Sheet Week 2
A1: 7
B2: Week 2
J3: W O R K O U T D A Y S | N3: =7-$V$3 -> 7 | R3: R E S T D A Y S | V3: =COUNTIF(D9,Calendar!$AQ$7)+COUNTIF(L9,Calendar!$AQ$7)+COUNTIF(T9,Calendar!$AQ$7)+COUNTIF(AB9,Calendar!$AQ$7)+COUNTIF(D40,Calendar!$AQ$7)+COUNTIF(L40,Calendar!$AQ$7)+COUNTIF(T40,Calendar!$AQ$7) -> 0 | Z3: © Hey Morning. All rights reserved.
AJ5: data source of the second layer dropdown
B6: {=_xlfn.SWITCH(TEXT(D8,"DDDD"),"SUNDAY","S U N D A Y","MONDAY","M O N D A Y","TUESDAY","T U E S D A Y","WEDNESDAY","W E D N E S D A Y","THURSDAY","T H U R S D A Y","FRIDAY","F R I D A Y","SATURDAY","S A T U R D A Y","SUNDAY","S U N D A Y")} -> T H U R S D A Y | J6: {=_xlfn.SWITCH(TEXT(L8,"DDDD"),"SUNDAY","S U N D A Y","MONDAY","M O N D A Y","TUESDAY","T U E S D A Y","WEDNESDAY","W E D N E S D A Y","THURSDAY","T H U R S D A Y","FRIDAY","F R I D A Y","SATURDAY","S A T U R D A Y","SUNDAY","S U N D A Y")} -> F R I D A Y | R6: {=_xlfn.SWITCH(TEXT(T8,"DDDD"),"SUNDAY","S U N D A Y","MONDAY","M O N D A Y","TUESDAY","T U E S D A Y","WEDNESDAY","W E D N E S D A Y","THURSDAY","T H U R S D A Y","FRIDAY","F R I D A Y","SATURDAY","S A T U R D A Y","SUNDAY","S U N D A Y")} -> S A T U R D A Y | Z6: {=_xlfn.SWITCH(TEXT(AB8,"DDDD"),"SUNDAY","S U N D A Y","MONDAY","M O N D A Y","TUESDAY","T U E S D A Y","WEDNESDAY","W E D N E S D A Y","THURSDAY","T H U R S D A Y","FRIDAY","F R I D A Y","SATURDAY","S A T U R D A Y","SUNDAY","S U N D A Y")} -> S U N D A Y | AJ6: {=_xlfn.LET(_xlpm.a,IF($D$10<>"",INDEX(Setup!$AB$8:$AL$38,,MATCH($D$10,Setup!$AB$7:$AL$7,0)),{""}),_xlpm.b,IF($D$11<>"",INDEX(Setup!$AB$8:$AL$38,,MATCH($D$11,Setup!$AB$7:$AL$7,0)),{""}),_xlpm.c,IF($D$12<>"",INDEX(Setup!$AB$8:$AL$38,,MATCH($D$12,Setup!$AB$7:$AL$7,0)),{""}),_xlpm.stacked,_xlfn.VSTACK(_xlpm.a,_xlpm.b,_xlpm.c),IFERROR(TRANSPOSE(_xlfn._xlws.FILTER(_xlpm.stacked,(_xlpm.stacked<>0)*(_xlpm.stacked<>"")*(_xlpm.stacked<>"#N/A"))),""))}
AJ7: {=_xlfn.LET(_xlpm.a,IF($L$10<>"",INDEX(Setup!$AB$8:$AL$38,,MATCH($L$10,Setup!$AB$7:$AL$7,0)),{""}),_xlpm.b,IF($L$11<>"",INDEX(Setup!$AB$8:$AL$38,,MATCH($L$11,Setup!$AB$7:$AL$7,0)),{""}),_xlpm.c,IF($L$12<>"",INDEX(Setup!$AB$8:$AL$38,,MATCH($L$12,Setup!$AB$7:$AL$7,0)),{""}),_xlpm.stacked,_xlfn.VSTACK(_xlpm.a,_xlpm.b,_xlpm.c),IFERROR(TRANSPOSE(_xlfn._xlws.FILTER(_xlpm.stacked,(_xlpm.stacked<>0)*(_xlpm.stacked<>"")*(_xlpm.stacked<>"#N/A"))),""))}
B8: DATE | D8: =$A$1+Calendar!$AY$29 -> 46198 | J8: DATE | L8: =$A$1+Calendar!$AY$29+1 -> 46199 | R8: DATE | T8: =$A$1+Calendar!$AY$29+2 -> 46200 | Z8: DATE | AB8: =$A$1+Calendar!$AY$29+3 -> 46201 | AJ8: {=_xlfn.LET(_xlpm.a,IF($T$10<>"",INDEX(Setup!$AB$8:$AL$38,,MATCH($T$10,Setup!$AB$7:$AL$7,0)),{""}),_xlpm.b,IF($T$11<>"",INDEX(Setup!$AB$8:$AL$38,,MATCH($T$11,Setup!$AB$7:$AL$7,0)),{""}),_xlpm.c,IF($T$12<>"",INDEX(Setup!$AB$8:$AL$38,,MATCH($T$12,Setup!$AB$7:$AL$7,0)),{""}),_xlpm.stacked,_xlfn.VSTACK(_xlpm.a,_xlpm.b,_xlpm.c),IFERROR(TRANSPOSE(_xlfn._xlws.FILTER(_xlpm.stacked,(_xlpm.stacked<>0)*(_xlpm.stacked<>"")*(_xlpm.stacked<>"#N/A"))),""))}
B9: REST DAY ? | J9: REST DAY ? | R9: REST DAY ? | Z9: REST DAY ? | AJ9: {=_xlfn.LET(_xlpm.a,IF($AB$10<>"",INDEX(Setup!$AB$8:$AL$38,,MATCH($AB$10,Setup!$AB$7:$AL$7,0)),{""}),_xlpm.b,IF($AB$11<>"",INDEX(Setup!$AB$8:$AL$38,,MATCH($AB$11,Setup!$AB$7:$AL$7,0)),{""}),_xlpm.c,IF($AB$12<>"",INDEX(Setup!$AB$8:$AL$38,,MATCH($AB$12,Setup!$AB$7:$AL$7,0)),{""}),_xlpm.stacked,_xlfn.VSTACK(_xlpm.a,_xlpm.b,_xlpm.c),IFERROR(TRANSPOSE(_xlfn._xlws.FILTER(_xlpm.stacked,(_xlpm.stacked<>0)*(_xlpm.stacked<>"")*(_xlpm.stacked<>"#N/A"))),""))}
B10: MUSCLE GROUPS | J10: MUSCLE GROUPS | R10: MUSCLE GROUPS | Z10: MUSCLE GROUPS | AJ10: {=_xlfn.LET(_xlpm.a,IF($D$41<>"",INDEX(Setup!$AB$8:$AL$38,,MATCH($D$41,Setup!$AB$7:$AL$7,0)),{""}),_xlpm.b,IF($D$42<>"",INDEX(Setup!$AB$8:$AL$38,,MATCH($D$42,Setup!$AB$7:$AL$7,0)),{""}),_xlpm.c,IF($D$43<>"",INDEX(Setup!$AB$8:$AL$38,,MATCH($D$43,Setup!$AB$7:$AL$7,0)),{""}),_xlpm.stacked,_xlfn.VSTACK(_xlpm.a,_xlpm.b,_xlpm.c),IFERROR(TRANSPOSE(_xlfn._xlws.FILTER(_xlpm.stacked,(_xlpm.stacked<>0)*(_xlpm.stacked<>"")*(_xlpm.stacked<>"#N/A"))),""))}
AJ11: {=_xlfn.LET(_xlpm.a,IF($L$41<>"",INDEX(Setup!$AB$8:$AL$38,,MATCH($L$41,Setup!$AB$7:$AL$7,0)),{""}),_xlpm.b,IF($L$42<>"",INDEX(Setup!$AB$8:$AL$38,,MATCH($L$42,Setup!$AB$7:$AL$7,0)),{""}),_xlpm.c,IF($L$43<>"",INDEX(Setup!$AB$8:$AL$38,,MATCH($L$43,Setup!$AB$7:$AL$7,0)),{""}),_xlpm.stacked,_xlfn.VSTACK(_xlpm.a,_xlpm.b,_xlpm.c),IFERROR(TRANSPOSE(_xlfn._xlws.FILTER(_xlpm.stacked,(_xlpm.stacked<>0)*(_xlpm.stacked<>"")*(_xlpm.stacked<>"#N/A"))),""))}
AJ12: {=_xlfn.LET(_xlpm.a,IF($T$41<>"",INDEX(Setup!$AB$8:$AL$38,,MATCH($T$41,Setup!$AB$7:$AL$7,0)),{""}),_xlpm.b,IF($T$42<>"",INDEX(Setup!$AB$8:$AL$38,,MATCH($T$42,Setup!$AB$7:$AL$7,0)),{""}),_xlpm.c,IF($T$43<>"",INDEX(Setup!$AB$8:$AL$38,,MATCH($T$43,Setup!$AB$7:$AL$7,0)),{""}),_xlpm.stacked,_xlfn.VSTACK(_xlpm.a,_xlpm.b,_xlpm.c),IFERROR(TRANSPOSE(_xlfn._xlws.FILTER(_xlpm.stacked,(_xlpm.stacked<>0)*(_xlpm.stacked<>"")*(_xlpm.stacked<>"#N/A"))),""))}
B13: EXERCISE | D13: WEIGHT | E13: SETS | F13: REPS | G13: REST | H13: TIME | J13: EXERCISE | L13: WEIGHT | M13: SETS | N13: REPS | O13: REST | P13: TIME | R13: EXERCISE | T13: WEIGHT | U13: SETS | V13: REPS | W13: REST | X13: TIME | Z13: EXERCISE | AB13: WEIGHT | AC13: SETS | AD13: REPS | AE13: REST | AF13: TIME
B29: CARDIO | J29: CARDIO | R29: CARDIO | Z29: CARDIO
B30: EXERCISE | D30: TIME | E30: SPEED | G30: DISTANCE | J30: EXERCISE | L30: TIME | M30: SPEED | O30: DISTANCE | R30: EXERCISE | T30: TIME | U30: SPEED | W30: DISTANCE | Z30: EXERCISE | AB30: TIME | AC30: SPEED | AE30: DISTANCE
B37: {=_xlfn.SWITCH(TEXT(D39,"DDDD"),"SUNDAY","S U N D A Y","MONDAY","M O N D A Y","TUESDAY","T U E S D A Y","WEDNESDAY","W E D N E S D A Y","THURSDAY","T H U R S D A Y","FRIDAY","F R I D A Y","SATURDAY","S A T U R D A Y","SUNDAY","S U N D A Y")} -> M O N D A Y | J37: {=_xlfn.SWITCH(TEXT(L39,"DDDD"),"SUNDAY","S U N D A Y","MONDAY","M O N D A Y","TUESDAY","T U E S D A Y","WEDNESDAY","W E D N E S D A Y","THURSDAY","T H U R S D A Y","FRIDAY","F R I D A Y","SATURDAY","S A T U R D A Y","SUNDAY","S U N D A Y")} -> T U E S D A Y | R37: {=_xlfn.SWITCH(TEXT(T39,"DDDD"),"SUNDAY","S U N D A Y","MONDAY","M O N D A Y","TUESDAY","T U E S D A Y","WEDNESDAY","W E D N E S D A Y","THURSDAY","T H U R S D A Y","FRIDAY","F R I D A Y","SATURDAY","S A T U R D A Y","SUNDAY","S U N D A Y")} -> W E D N E S D A Y | Z37: G O A L
B39: DATE | D39: =$A$1+Calendar!$AY$29+4 -> 46202 | J39: DATE | L39: =$A$1+Calendar!$AY$29+5 -> 46203 | R39: DATE | T39: =$A$1+Calendar!$AY$29+6 -> 46204
B40: REST DAY ? | J40: REST DAY ? | R40: REST DAY ?
B41: MUSCLE GROUPS | J41: MUSCLE GROUPS | R41: MUSCLE GROUPS
B44: EXERCISE | D44: WEIGHT | E44: SETS | F44: REPS | G44: REST | H44: TIME | J44: EXERCISE | L44: WEIGHT | M44: SETS | N44: REPS | O44: REST | P44: TIME | R44: EXERCISE | T44: WEIGHT | U44: SETS | V44: REPS | W44: REST | X44: TIME
Z46: N O T E
B60: CARDIO | J60: CARDIO | R60: CARDIO
B61: EXERCISE | D61: TIME | E61: SPEED | G61: DISTANCE | J61: EXERCISE | L61: TIME | M61: SPEED | O61: DISTANCE | R61: EXERCISE | T61: TIME | U61: SPEED | W61: DISTANCE

Sheet Week 3
A1: 14
B2: Week 3
J3: W O R K O U T D A Y S | N3: =7-$V$3 -> 7 | R3: R E S T D A Y S | V3: =COUNTIF(D9,Calendar!$AQ$7)+COUNTIF(L9,Calendar!$AQ$7)+COUNTIF(T9,Calendar!$AQ$7)+COUNTIF(AB9,Calendar!$AQ$7)+COUNTIF(D40,Calendar!$AQ$7)+COUNTIF(L40,Calendar!$AQ$7)+COUNTIF(T40,Calendar!$AQ$7) -> 0 | Z3: © Hey Morning. All rights reserved.
AJ5: data source of the second layer dropdown
B6: {=_xlfn.SWITCH(TEXT(D8,"DDDD"),"SUNDAY","S U N D A Y","MONDAY","M O N D A Y","TUESDAY","T U E S D A Y","WEDNESDAY","W E D N E S D A Y","THURSDAY","T H U R S D A Y","FRIDAY","F R I D A Y","SATURDAY","S A T U R D A Y","SUNDAY","S U N D A Y")} -> T H U R S D A Y | J6: {=_xlfn.SWITCH(TEXT(L8,"DDDD"),"SUNDAY","S U N D A Y","MONDAY","M O N D A Y","TUESDAY","T U E S D A Y","WEDNESDAY","W E D N E S D A Y","THURSDAY","T H U R S D A Y","FRIDAY","F R I D A Y","SATURDAY","S A T U R D A Y","SUNDAY","S U N D A Y")} -> F R I D A Y | R6: {=_xlfn.SWITCH(TEXT(T8,"DDDD"),"SUNDAY","S U N D A Y","MONDAY","M O N D A Y","TUESDAY","T U E S D A Y","WEDNESDAY","W E D N E S D A Y","THURSDAY","T H U R S D A Y","FRIDAY","F R I D A Y","SATURDAY","S A T U R D A Y","SUNDAY","S U N D A Y")} -> S A T U R D A Y | Z6: {=_xlfn.SWITCH(TEXT(AB8,"DDDD"),"SUNDAY","S U N D A Y","MONDAY","M O N D A Y","TUESDAY","T U E S D A Y","WEDNESDAY","W E D N E S D A Y","THURSDAY","T H U R S D A Y","FRIDAY","F R I D A Y","SATURDAY","S A T U R D A Y","SUNDAY","S U N D A Y")} -> S U N D A Y | AJ6: {=_xlfn.LET(_xlpm.a,IF($D$10<>"",INDEX(Setup!$AB$8:$AL$38,,MATCH($D$10,Setup!$AB$7:$AL$7,0)),{""}),_xlpm.b,IF($D$11<>"",INDEX(Setup!$AB$8:$AL$38,,MATCH($D$11,Setup!$AB$7:$AL$7,0)),{""}),_xlpm.c,IF($D$12<>"",INDEX(Setup!$AB$8:$AL$38,,MATCH($D$12,Setup!$AB$7:$AL$7,0)),{""}),_xlpm.stacked,_xlfn.VSTACK(_xlpm.a,_xlpm.b,_xlpm.c),IFERROR(TRANSPOSE(_xlfn._xlws.FILTER(_xlpm.stacked,(_xlpm.stacked<>0)*(_xlpm.stacked<>"")*(_xlpm.stacked<>"#N/A"))),""))}
AJ7: {=_xlfn.LET(_xlpm.a,IF($L$10<>"",INDEX(Setup!$AB$8:$AL$38,,MATCH($L$10,Setup!$AB$7:$AL$7,0)),{""}),_xlpm.b,IF($L$11<>"",INDEX(Setup!$AB$8:$AL$38,,MATCH($L$11,Setup!$AB$7:$AL$7,0)),{""}),_xlpm.c,IF($L$12<>"",INDEX(Setup!$AB$8:$AL$38,,MATCH($L$12,Setup!$AB$7:$AL$7,0)),{""}),_xlpm.stacked,_xlfn.VSTACK(_xlpm.a,_xlpm.b,_xlpm.c),IFERROR(TRANSPOSE(_xlfn._xlws.FILTER(_xlpm.stacked,(_xlpm.stacked<>0)*(_xlpm.stacked<>"")*(_xlpm.stacked<>"#N/A"))),""))}
B8: DATE | D8: =$A$1+Calendar!$AY$29 -> 46205 | J8: DATE | L8: =$A$1+Calendar!$AY$29+1 -> 46206 | R8: DATE | T8: =$A$1+Calendar!$AY$29+2 -> 46207 | Z8: DATE | AB8: =$A$1+Calendar!$AY$29+3 -> 46208 | AJ8: {=_xlfn.LET(_xlpm.a,IF($T$10<>"",INDEX(Setup!$AB$8:$AL$38,,MATCH($T$10,Setup!$AB$7:$AL$7,0)),{""}),_xlpm.b,IF($T$11<>"",INDEX(Setup!$AB$8:$AL$38,,MATCH($T$11,Setup!$AB$7:$AL$7,0)),{""}),_xlpm.c,IF($T$12<>"",INDEX(Setup!$AB$8:$AL$38,,MATCH($T$12,Setup!$AB$7:$AL$7,0)),{""}),_xlpm.stacked,_xlfn.VSTACK(_xlpm.a,_xlpm.b,_xlpm.c),IFERROR(TRANSPOSE(_xlfn._xlws.FILTER(_xlpm.stacked,(_xlpm.stacked<>0)*(_xlpm.stacked<>"")*(_xlpm.stacked<>"#N/A"))),""))}
B9: REST DAY ? | J9: REST DAY ? | R9: REST DAY ? | Z9: REST DAY ? | AJ9: {=_xlfn.LET(_xlpm.a,IF($AB$10<>"",INDEX(Setup!$AB$8:$AL$38,,MATCH($AB$10,Setup!$AB$7:$AL$7,0)),{""}),_xlpm.b,IF($AB$11<>"",INDEX(Setup!$AB$8:$AL$38,,MATCH($AB$11,Setup!$AB$7:$AL$7,0)),{""}),_xlpm.c,IF($AB$12<>"",INDEX(Setup!$AB$8:$AL$38,,MATCH($AB$12,Setup!$AB$7:$AL$7,0)),{""}),_xlpm.stacked,_xlfn.VSTACK(_xlpm.a,_xlpm.b,_xlpm.c),IFERROR(TRANSPOSE(_xlfn._xlws.FILTER(_xlpm.stacked,(_xlpm.stacked<>0)*(_xlpm.stacked<>"")*(_xlpm.stacked<>"#N/A"))),""))}
B10: MUSCLE GROUPS | J10: MUSCLE GROUPS | R10: MUSCLE GROUPS | Z10: MUSCLE GROUPS | AJ10: {=_xlfn.LET(_xlpm.a,IF($D$41<>"",INDEX(Setup!$AB$8:$AL$38,,MATCH($D$41,Setup!$AB$7:$AL$7,0)),{""}),_xlpm.b,IF($D$42<>"",INDEX(Setup!$AB$8:$AL$38,,MATCH($D$42,Setup!$AB$7:$AL$7,0)),{""}),_xlpm.c,IF($D$43<>"",INDEX(Setup!$AB$8:$AL$38,,MATCH($D$43,Setup!$AB$7:$AL$7,0)),{""}),_xlpm.stacked,_xlfn.VSTACK(_xlpm.a,_xlpm.b,_xlpm.c),IFERROR(TRANSPOSE(_xlfn._xlws.FILTER(_xlpm.stacked,(_xlpm.stacked<>0)*(_xlpm.stacked<>"")*(_xlpm.stacked<>"#N/A"))),""))}
AJ11: {=_xlfn.LET(_xlpm.a,IF($L$41<>"",INDEX(Setup!$AB$8:$AL$38,,MATCH($L$41,Setup!$AB$7:$AL$7,0)),{""}),_xlpm.b,IF($L$42<>"",INDEX(Setup!$AB$8:$AL$38,,MATCH($L$42,Setup!$AB$7:$AL$7,0)),{""}),_xlpm.c,IF($L$43<>"",INDEX(Setup!$AB$8:$AL$38,,MATCH($L$43,Setup!$AB$7:$AL$7,0)),{""}),_xlpm.stacked,_xlfn.VSTACK(_xlpm.a,_xlpm.b,_xlpm.c),IFERROR(TRANSPOSE(_xlfn._xlws.FILTER(_xlpm.stacked,(_xlpm.stacked<>0)*(_xlpm.stacked<>"")*(_xlpm.stacked<>"#N/A"))),""))}
AJ12: {=_xlfn.LET(_xlpm.a,IF($T$41<>"",INDEX(Setup!$AB$8:$AL$38,,MATCH($T$41,Setup!$AB$7:$AL$7,0)),{""}),_xlpm.b,IF($T$42<>"",INDEX(Setup!$AB$8:$AL$38,,MATCH($T$42,Setup!$AB$7:$AL$7,0)),{""}),_xlpm.c,IF($T$43<>"",INDEX(Setup!$AB$8:$AL$38,,MATCH($T$43,Setup!$AB$7:$AL$7,0)),{""}),_xlpm.stacked,_xlfn.VSTACK(_xlpm.a,_xlpm.b,_xlpm.c),IFERROR(TRANSPOSE(_xlfn._xlws.FILTER(_xlpm.stacked,(_xlpm.stacked<>0)*(_xlpm.stacked<>"")*(_xlpm.stacked<>"#N/A"))),""))}
B13: EXERCISE | D13: WEIGHT | E13: SETS | F13: REPS | G13: REST | H13: TIME | J13: EXERCISE | L13: WEIGHT | M13: SETS | N13: REPS | O13: REST | P13: TIME | R13: EXERCISE | T13: WEIGHT | U13: SETS | V13: REPS | W13: REST | X13: TIME | Z13: EXERCISE | AB13: WEIGHT | AC13: SETS | AD13: REPS | AE13: REST | AF13: TIME
B29: CARDIO | J29: CARDIO | R29: CARDIO | Z29: CARDIO
B30: EXERCISE | D30: TIME | E30: SPEED | G30: DISTANCE | J30: EXERCISE | L30: TIME | M30: SPEED | O30: DISTANCE | R30: EXERCISE | T30: TIME | U30: SPEED | W30: DISTANCE | Z30: EXERCISE | AB30: TIME | AC30: SPEED | AE30: DISTANCE
B37: {=_xlfn.SWITCH(TEXT(D39,"DDDD"),"SUNDAY","S U N D A Y","MONDAY","M O N D A Y","TUESDAY","T U E S D A Y","WEDNESDAY","W E D N E S D A Y","THURSDAY","T H U R S D A Y","FRIDAY","F R I D A Y","SATURDAY","S A T U R D A Y","SUNDAY","S U N D A Y")} -> M O N D A Y | J37: {=_xlfn.SWITCH(TEXT(L39,"DDDD"),"SUNDAY","S U N D A Y","MONDAY","M O N D A Y","TUESDAY","T U E S D A Y","WEDNESDAY","W E D N E S D A Y","THURSDAY","T H U R S D A Y","FRIDAY","F R I D A Y","SATURDAY","S A T U R D A Y","SUNDAY","S U N D A Y")} -> T U E S D A Y | R37: {=_xlfn.SWITCH(TEXT(T39,"DDDD"),"SUNDAY","S U N D A Y","MONDAY","M O N D A Y","TUESDAY","T U E S D A Y","WEDNESDAY","W E D N E S D A Y","THURSDAY","T H U R S D A Y","FRIDAY","F R I D A Y","SATURDAY","S A T U R D A Y","SUNDAY","S U N D A Y")} -> W E D N E S D A Y | Z37: G O A L
B39: DATE | D39: =$A$1+Calendar!$AY$29+4 -> 46209 | J39: DATE | L39: =$A$1+Calendar!$AY$29+5 -> 46210 | R39: DATE | T39: =$A$1+Calendar!$AY$29+6 -> 46211
B40: REST DAY ? | J40: REST DAY ? | R40: REST DAY ?
B41: MUSCLE GROUPS | J41: MUSCLE GROUPS | R41: MUSCLE GROUPS
B44: EXERCISE | D44: WEIGHT | E44: SETS | F44: REPS | G44: REST | H44: TIME | J44: EXERCISE | L44: WEIGHT | M44: SETS | N44: REPS | O44: REST | P44: TIME | R44: EXERCISE | T44: WEIGHT | U44: SETS | V44: REPS | W44: REST | X44: TIME
Z46: N O T E
B60: CARDIO | J60: CARDIO | R60: CARDIO
B61: EXERCISE | D61: TIME | E61: SPEED | G61: DISTANCE | J61: EXERCISE | L61: TIME | M61: SPEED | O61: DISTANCE | R61: EXERCISE | T61: TIME | U61: SPEED | W61: DISTANCE

Sheet Week 4
A1: 21
B2: Week 4
J3: W O R K O U T D A Y S | N3: =7-$V$3 -> 7 | R3: R E S T D A Y S | V3: =COUNTIF(D9,Calendar!$AQ$7)+COUNTIF(L9,Calendar!$AQ$7)+COUNTIF(T9,Calendar!$AQ$7)+COUNTIF(AB9,Calendar!$AQ$7)+COUNTIF(D40,Calendar!$AQ$7)+COUNTIF(L40,Calendar!$AQ$7)+COUNTIF(T40,Calendar!$AQ$7) -> 0 | Z3: © Hey Morning. All rights reserved.
AJ5: data source of the second layer dropdown
B6: {=_xlfn.SWITCH(TEXT(D8,"DDDD"),"SUNDAY","S U N D A Y","MONDAY","M O N D A Y","TUESDAY","T U E S D A Y","WEDNESDAY","W E D N E S D A Y","THURSDAY","T H U R S D A Y","FRIDAY","F R I D A Y","SATURDAY","S A T U R D A Y","SUNDAY","S U N D A Y")} -> T H U R S D A Y | J6: {=_xlfn.SWITCH(TEXT(L8,"DDDD"),"SUNDAY","S U N D A Y","MONDAY","M O N D A Y","TUESDAY","T U E S D A Y","WEDNESDAY","W E D N E S D A Y","THURSDAY","T H U R S D A Y","FRIDAY","F R I D A Y","SATURDAY","S A T U R D A Y","SUNDAY","S U N D A Y")} -> F R I D A Y | R6: {=_xlfn.SWITCH(TEXT(T8,"DDDD"),"SUNDAY","S U N D A Y","MONDAY","M O N D A Y","TUESDAY","T U E S D A Y","WEDNESDAY","W E D N E S D A Y","THURSDAY","T H U R S D A Y","FRIDAY","F R I D A Y","SATURDAY","S A T U R D A Y","SUNDAY","S U N D A Y")} -> S A T U R D A Y | Z6: {=_xlfn.SWITCH(TEXT(AB8,"DDDD"),"SUNDAY","S U N D A Y","MONDAY","M O N D A Y","TUESDAY","T U E S D A Y","WEDNESDAY","W E D N E S D A Y","THURSDAY","T H U R S D A Y","FRIDAY","F R I D A Y","SATURDAY","S A T U R D A Y","SUNDAY","S U N D A Y")} -> S U N D A Y | AJ6: {=_xlfn.LET(_xlpm.a,IF($D$10<>"",INDEX(Setup!$AB$8:$AL$38,,MATCH($D$10,Setup!$AB$7:$AL$7,0)),{""}),_xlpm.b,IF($D$11<>"",INDEX(Setup!$AB$8:$AL$38,,MATCH($D$11,Setup!$AB$7:$AL$7,0)),{""}),_xlpm.c,IF($D$12<>"",INDEX(Setup!$AB$8:$AL$38,,MATCH($D$12,Setup!$AB$7:$AL$7,0)),{""}),_xlpm.stacked,_xlfn.VSTACK(_xlpm.a,_xlpm.b,_xlpm.c),IFERROR(TRANSPOSE(_xlfn._xlws.FILTER(_xlpm.stacked,(_xlpm.stacked<>0)*(_xlpm.stacked<>"")*(_xlpm.stacked<>"#N/A"))),""))}
AJ7: {=_xlfn.LET(_xlpm.a,IF($L$10<>"",INDEX(Setup!$AB$8:$AL$38,,MATCH($L$10,Setup!$AB$7:$AL$7,0)),{""}),_xlpm.b,IF($L$11<>"",INDEX(Setup!$AB$8:$AL$38,,MATCH($L$11,Setup!$AB$7:$AL$7,0)),{""}),_xlpm.c,IF($L$12<>"",INDEX(Setup!$AB$8:$AL$38,,MATCH($L$12,Setup!$AB$7:$AL$7,0)),{""}),_xlpm.stacked,_xlfn.VSTACK(_xlpm.a,_xlpm.b,_xlpm.c),IFERROR(TRANSPOSE(_xlfn._xlws.FILTER(_xlpm.stacked,(_xlpm.stacked<>0)*(_xlpm.stacked<>"")*(_xlpm.stacked<>"#N/A"))),""))}
B8: DATE | D8: =$A$1+Calendar!$AY$29 -> 46212 | J8: DATE | L8: =$A$1+Calendar!$AY$29+1 -> 46213 | R8: DATE | T8: =$A$1+Calendar!$AY$29+2 -> 46214 | Z8: DATE | AB8: =$A$1+Calendar!$AY$29+3 -> 46215 | AJ8: {=_xlfn.LET(_xlpm.a,IF($T$10<>"",INDEX(Setup!$AB$8:$AL$38,,MATCH($T$10,Setup!$AB$7:$AL$7,0)),{""}),_xlpm.b,IF($T$11<>"",INDEX(Setup!$AB$8:$AL$38,,MATCH($T$11,Setup!$AB$7:$AL$7,0)),{""}),_xlpm.c,IF($T$12<>"",INDEX(Setup!$AB$8:$AL$38,,MATCH($T$12,Setup!$AB$7:$AL$7,0)),{""}),_xlpm.stacked,_xlfn.VSTACK(_xlpm.a,_xlpm.b,_xlpm.c),IFERROR(TRANSPOSE(_xlfn._xlws.FILTER(_xlpm.stacked,(_xlpm.stacked<>0)*(_xlpm.stacked<>"")*(_xlpm.stacked<>"#N/A"))),""))}
B9: REST DAY ? | J9: REST DAY ? | R9: REST DAY ? | Z9: REST DAY ? | AJ9: {=_xlfn.LET(_xlpm.a,IF($AB$10<>"",INDEX(Setup!$AB$8:$AL$38,,MATCH($AB$10,Setup!$AB$7:$AL$7,0)),{""}),_xlpm.b,IF($AB$11<>"",INDEX(Setup!$AB$8:$AL$38,,MATCH($AB$11,Setup!$AB$7:$AL$7,0)),{""}),_xlpm.c,IF($AB$12<>"",INDEX(Setup!$AB$8:$AL$38,,MATCH($AB$12,Setup!$AB$7:$AL$7,0)),{""}),_xlpm.stacked,_xlfn.VSTACK(_xlpm.a,_xlpm.b,_xlpm.c),IFERROR(TRANSPOSE(_xlfn._xlws.FILTER(_xlpm.stacked,(_xlpm.stacked<>0)*(_xlpm.stacked<>"")*(_xlpm.stacked<>"#N/A"))),""))}
B10: MUSCLE GROUPS | J10: MUSCLE GROUPS | R10: MUSCLE GROUPS | Z10: MUSCLE GROUPS | AJ10: {=_xlfn.LET(_xlpm.a,IF($D$41<>"",INDEX(Setup!$AB$8:$AL$38,,MATCH($D$41,Setup!$AB$7:$AL$7,0)),{""}),_xlpm.b,IF($D$42<>"",INDEX(Setup!$AB$8:$AL$38,,MATCH($D$42,Setup!$AB$7:$AL$7,0)),{""}),_xlpm.c,IF($D$43<>"",INDEX(Setup!$AB$8:$AL$38,,MATCH($D$43,Setup!$AB$7:$AL$7,0)),{""}),_xlpm.stacked,_xlfn.VSTACK(_xlpm.a,_xlpm.b,_xlpm.c),IFERROR(TRANSPOSE(_xlfn._xlws.FILTER(_xlpm.stacked,(_xlpm.stacked<>0)*(_xlpm.stacked<>"")*(_xlpm.stacked<>"#N/A"))),""))}
AJ11: {=_xlfn.LET(_xlpm.a,IF($L$41<>"",INDEX(Setup!$AB$8:$AL$38,,MATCH($L$41,Setup!$AB$7:$AL$7,0)),{""}),_xlpm.b,IF($L$42<>"",INDEX(Setup!$AB$8:$AL$38,,MATCH($L$42,Setup!$AB$7:$AL$7,0)),{""}),_xlpm.c,IF($L$43<>"",INDEX(Setup!$AB$8:$AL$38,,MATCH($L$43,Setup!$AB$7:$AL$7,0)),{""}),_xlpm.stacked,_xlfn.VSTACK(_xlpm.a,_xlpm.b,_xlpm.c),IFERROR(TRANSPOSE(_xlfn._xlws.FILTER(_xlpm.stacked,(_xlpm.stacked<>0)*(_xlpm.stacked<>"")*(_xlpm.stacked<>"#N/A"))),""))}
AJ12: {=_xlfn.LET(_xlpm.a,IF($T$41<>"",INDEX(Setup!$AB$8:$AL$38,,MATCH($T$41,Setup!$AB$7:$AL$7,0)),{""}),_xlpm.b,IF($T$42<>"",INDEX(Setup!$AB$8:$AL$38,,MATCH($T$42,Setup!$AB$7:$AL$7,0)),{""}),_xlpm.c,IF($T$43<>"",INDEX(Setup!$AB$8:$AL$38,,MATCH($T$43,Setup!$AB$7:$AL$7,0)),{""}),_xlpm.stacked,_xlfn.VSTACK(_xlpm.a,_xlpm.b,_xlpm.c),IFERROR(TRANSPOSE(_xlfn._xlws.FILTER(_xlpm.stacked,(_xlpm.stacked<>0)*(_xlpm.stacked<>"")*(_xlpm.stacked<>"#N/A"))),""))}
B13: EXERCISE | D13: WEIGHT | E13: SETS | F13: REPS | G13: REST | H13: TIME | J13: EXERCISE | L13: WEIGHT | M13: SETS | N13: REPS | O13: REST | P13: TIME | R13: EXERCISE | T13: WEIGHT | U13: SETS | V13: REPS | W13: REST | X13: TIME | Z13: EXERCISE | AB13: WEIGHT | AC13: SETS | AD13: REPS | AE13: REST | AF13: TIME
B29: CARDIO | J29: CARDIO | R29: CARDIO | Z29: CARDIO
B30: EXERCISE | D30: TIME | E30: SPEED | G30: DISTANCE | J30: EXERCISE | L30: TIME | M30: SPEED | O30: DISTANCE | R30: EXERCISE | T30: TIME | U30: SPEED | W30: DISTANCE | Z30: EXERCISE | AB30: TIME | AC30: SPEED | AE30: DISTANCE
B37: {=_xlfn.SWITCH(TEXT(D39,"DDDD"),"SUNDAY","S U N D A Y","MONDAY","M O N D A Y","TUESDAY","T U E S D A Y","WEDNESDAY","W E D N E S D A Y","THURSDAY","T H U R S D A Y","FRIDAY","F R I D A Y","SATURDAY","S A T U R D A Y","SUNDAY","S U N D A Y")} -> M O N D A Y | J37: {=_xlfn.SWITCH(TEXT(L39,"DDDD"),"SUNDAY","S U N D A Y","MONDAY","M O N D A Y","TUESDAY","T U E S D A Y","WEDNESDAY","W E D N E S D A Y","THURSDAY","T H U R S D A Y","FRIDAY","F R I D A Y","SATURDAY","S A T U R D A Y","SUNDAY","S U N D A Y")} -> T U E S D A Y | R37: {=_xlfn.SWITCH(TEXT(T39,"DDDD"),"SUNDAY","S U N D A Y","MONDAY","M O N D A Y","TUESDAY","T U E S D A Y","WEDNESDAY","W E D N E S D A Y","THURSDAY","T H U R S D A Y","FRIDAY","F R I D A Y","SATURDAY","S A T U R D A Y","SUNDAY","S U N D A Y")} -> W E D N E S D A Y | Z37: G O A L
B39: DATE | D39: =$A$1+Calendar!$AY$29+4 -> 46216 | J39: DATE | L39: =$A$1+Calendar!$AY$29+5 -> 46217 | R39: DATE | T39: =$A$1+Calendar!$AY$29+6 -> 46218
B40: REST DAY ? | J40: REST DAY ? | R40: REST DAY ?
B41: MUSCLE GROUPS | J41: MUSCLE GROUPS | R41: MUSCLE GROUPS
B44: EXERCISE | D44: WEIGHT | E44: SETS | F44: REPS | G44: REST | H44: TIME | J44: EXERCISE | L44: WEIGHT | M44: SETS | N44: REPS | O44: REST | P44: TIME | R44: EXERCISE | T44: WEIGHT | U44: SETS | V44: REPS | W44: REST | X44: TIME
Z46: N O T E
B60: CARDIO | J60: CARDIO | R60: CARDIO
B61: EXERCISE | D61: TIME | E61: SPEED | G61: DISTANCE | J61: EXERCISE | L61: TIME | M61: SPEED | O61: DISTANCE | R61: EXERCISE | T61: TIME | U61: SPEED | W61: DISTANCE

Sheet Week 5
A1: 28
B2: Week 5
J3: W O R K O U T D A Y S | N3: =7-$V$3 -> 7 | R3: R E S T D A Y S | V3: =COUNTIF(D9,Calendar!$AQ$7)+COUNTIF(L9,Calendar!$AQ$7)+COUNTIF(T9,Calendar!$AQ$7)+COUNTIF(AB9,Calendar!$AQ$7)+COUNTIF(D40,Calendar!$AQ$7)+COUNTIF(L40,Calendar!$AQ$7)+COUNTIF(T40,Calendar!$AQ$7) -> 0 | Z3: © Hey Morning. All rights reserved.
AJ5: data source of the second layer dropdown
B6: {=_xlfn.SWITCH(TEXT(D8,"DDDD"),"SUNDAY","S U N D A Y","MONDAY","M O N D A Y","TUESDAY","T U E S D A Y","WEDNESDAY","W E D N E S D A Y","THURSDAY","T H U R S D A Y","FRIDAY","F R I D A Y","SATURDAY","S A T U R D A Y","SUNDAY","S U N D A Y")} -> T H U R S D A Y | J6: {=_xlfn.SWITCH(TEXT(L8,"DDDD"),"SUNDAY","S U N D A Y","MONDAY","M O N D A Y","TUESDAY","T U E S D A Y","WEDNESDAY","W E D N E S D A Y","THURSDAY","T H U R S D A Y","FRIDAY","F R I D A Y","SATURDAY","S A T U R D A Y","SUNDAY","S U N D A Y")} -> F R I D A Y | R6: {=_xlfn.SWITCH(TEXT(T8,"DDDD"),"SUNDAY","S U N D A Y","MONDAY","M O N D A Y","TUESDAY","T U E S D A Y","WEDNESDAY","W E D N E S D A Y","THURSDAY","T H U R S D A Y","FRIDAY","F R I D A Y","SATURDAY","S A T U R D A Y","SUNDAY","S U N D A Y")} -> S A T U R D A Y | Z6: {=_xlfn.SWITCH(TEXT(AB8,"DDDD"),"SUNDAY","S U N D A Y","MONDAY","M O N D A Y","TUESDAY","T U E S D A Y","WEDNESDAY","W E D N E S D A Y","THURSDAY","T H U R S D A Y","FRIDAY","F R I D A Y","SATURDAY","S A T U R D A Y","SUNDAY","S U N D A Y")} -> S U N D A Y | AJ6: {=_xlfn.LET(_xlpm.a,IF($D$10<>"",INDEX(Setup!$AB$8:$AL$38,,MATCH($D$10,Setup!$AB$7:$AL$7,0)),{""}),_xlpm.b,IF($D$11<>"",INDEX(Setup!$AB$8:$AL$38,,MATCH($D$11,Setup!$AB$7:$AL$7,0)),{""}),_xlpm.c,IF($D$12<>"",INDEX(Setup!$AB$8:$AL$38,,MATCH($D$12,Setup!$AB$7:$AL$7,0)),{""}),_xlpm.stacked,_xlfn.VSTACK(_xlpm.a,_xlpm.b,_xlpm.c),IFERROR(TRANSPOSE(_xlfn._xlws.FILTER(_xlpm.stacked,(_xlpm.stacked<>0)*(_xlpm.stacked<>"")*(_xlpm.stacked<>"#N/A"))),""))}
AJ7: {=_xlfn.LET(_xlpm.a,IF($L$10<>"",INDEX(Setup!$AB$8:$AL$38,,MATCH($L$10,Setup!$AB$7:$AL$7,0)),{""}),_xlpm.b,IF($L$11<>"",INDEX(Setup!$AB$8:$AL$38,,MATCH($L$11,Setup!$AB$7:$AL$7,0)),{""}),_xlpm.c,IF($L$12<>"",INDEX(Setup!$AB$8:$AL$38,,MATCH($L$12,Setup!$AB$7:$AL$7,0)),{""}),_xlpm.stacked,_xlfn.VSTACK(_xlpm.a,_xlpm.b,_xlpm.c),IFERROR(TRANSPOSE(_xlfn._xlws.FILTER(_xlpm.stacked,(_xlpm.stacked<>0)*(_xlpm.stacked<>"")*(_xlpm.stacked<>"#N/A"))),""))}
B8: DATE | D8: =$A$1+Calendar!$AY$29 -> 46219 | J8: DATE | L8: =$A$1+Calendar!$AY$29+1 -> 46220 | R8: DATE | T8: =$A$1+Calendar!$AY$29+2 -> 46221 | Z8: DATE | AB8: =$A$1+Calendar!$AY$29+3 -> 46222 | AJ8: {=_xlfn.LET(_xlpm.a,IF($T$10<>"",INDEX(Setup!$AB$8:$AL$38,,MATCH($T$10,Setup!$AB$7:$AL$7,0)),{""}),_xlpm.b,IF($T$11<>"",INDEX(Setup!$AB$8:$AL$38,,MATCH($T$11,Setup!$AB$7:$AL$7,0)),{""}),_xlpm.c,IF($T$12<>"",INDEX(Setup!$AB$8:$AL$38,,MATCH($T$12,Setup!$AB$7:$AL$7,0)),{""}),_xlpm.stacked,_xlfn.VSTACK(_xlpm.a,_xlpm.b,_xlpm.c),IFERROR(TRANSPOSE(_xlfn._xlws.FILTER(_xlpm.stacked,(_xlpm.stacked<>0)*(_xlpm.stacked<>"")*(_xlpm.stacked<>"#N/A"))),""))}
B9: REST DAY ? | J9: REST DAY ? | R9: REST DAY ? | Z9: REST DAY ? | AJ9: {=_xlfn.LET(_xlpm.a,IF($AB$10<>"",INDEX(Setup!$AB$8:$AL$38,,MATCH($AB$10,Setup!$AB$7:$AL$7,0)),{""}),_xlpm.b,IF($AB$11<>"",INDEX(Setup!$AB$8:$AL$38,,MATCH($AB$11,Setup!$AB$7:$AL$7,0)),{""}),_xlpm.c,IF($AB$12<>"",INDEX(Setup!$AB$8:$AL$38,,MATCH($AB$12,Setup!$AB$7:$AL$7,0)),{""}),_xlpm.stacked,_xlfn.VSTACK(_xlpm.a,_xlpm.b,_xlpm.c),IFERROR(TRANSPOSE(_xlfn._xlws.FILTER(_xlpm.stacked,(_xlpm.stacked<>0)*(_xlpm.stacked<>"")*(_xlpm.stacked<>"#N/A"))),""))}
B10: MUSCLE GROUPS | J10: MUSCLE GROUPS | R10: MUSCLE GROUPS | Z10: MUSCLE GROUPS | AJ10: {=_xlfn.LET(_xlpm.a,IF($D$41<>"",INDEX(Setup!$AB$8:$AL$38,,MATCH($D$41,Setup!$AB$7:$AL$7,0)),{""}),_xlpm.b,IF($D$42<>"",INDEX(Setup!$AB$8:$AL$38,,MATCH($D$42,Setup!$AB$7:$AL$7,0)),{""}),_xlpm.c,IF($D$43<>"",INDEX(Setup!$AB$8:$AL$38,,MATCH($D$43,Setup!$AB$7:$AL$7,0)),{""}),_xlpm.stacked,_xlfn.VSTACK(_xlpm.a,_xlpm.b,_xlpm.c),IFERROR(TRANSPOSE(_xlfn._xlws.FILTER(_xlpm.stacked,(_xlpm.stacked<>0)*(_xlpm.stacked<>"")*(_xlpm.stacked<>"#N/A"))),""))}
AJ11: {=_xlfn.LET(_xlpm.a,IF($L$41<>"",INDEX(Setup!$AB$8:$AL$38,,MATCH($L$41,Setup!$AB$7:$AL$7,0)),{""}),_xlpm.b,IF($L$42<>"",INDEX(Setup!$AB$8:$AL$38,,MATCH($L$42,Setup!$AB$7:$AL$7,0)),{""}),_xlpm.c,IF($L$43<>"",INDEX(Setup!$AB$8:$AL$38,,MATCH($L$43,Setup!$AB$7:$AL$7,0)),{""}),_xlpm.stacked,_xlfn.VSTACK(_xlpm.a,_xlpm.b,_xlpm.c),IFERROR(TRANSPOSE(_xlfn._xlws.FILTER(_xlpm.stacked,(_xlpm.stacked<>0)*(_xlpm.stacked<>"")*(_xlpm.stacked<>"#N/A"))),""))}
AJ12: {=_xlfn.LET(_xlpm.a,IF($T$41<>"",INDEX(Setup!$AB$8:$AL$38,,MATCH($T$41,Setup!$AB$7:$AL$7,0)),{""}),_xlpm.b,IF($T$42<>"",INDEX(Setup!$AB$8:$AL$38,,MATCH($T$42,Setup!$AB$7:$AL$7,0)),{""}),_xlpm.c,IF($T$43<>"",INDEX(Setup!$AB$8:$AL$38,,MATCH($T$43,Setup!$AB$7:$AL$7,0)),{""}),_xlpm.stacked,_xlfn.VSTACK(_xlpm.a,_xlpm.b,_xlpm.c),IFERROR(TRANSPOSE(_xlfn._xlws.FILTER(_xlpm.stacked,(_xlpm.stacked<>0)*(_xlpm.stacked<>"")*(_xlpm.stacked<>"#N/A"))),""))}
B13: EXERCISE | D13: WEIGHT | E13: SETS | F13: REPS | G13: REST | H13: TIME | J13: EXERCISE | L13: WEIGHT | M13: SETS | N13: REPS | O13: REST | P13: TIME | R13: EXERCISE | T13: WEIGHT | U13: SETS | V13: REPS | W13: REST | X13: TIME | Z13: EXERCISE | AB13: WEIGHT | AC13: SETS | AD13: REPS | AE13: REST | AF13: TIME
B29: CARDIO | J29: CARDIO | R29: CARDIO | Z29: CARDIO
B30: EXERCISE | D30: TIME | E30: SPEED | G30: DISTANCE | J30: EXERCISE | L30: TIME | M30: SPEED | O30: DISTANCE | R30: EXERCISE | T30: TIME | U30: SPEED | W30: DISTANCE | Z30: EXERCISE | AB30: TIME | AC30: SPEED | AE30: DISTANCE
B37: {=_xlfn.SWITCH(TEXT(D39,"DDDD"),"SUNDAY","S U N D A Y","MONDAY","M O N D A Y","TUESDAY","T U E S D A Y","WEDNESDAY","W E D N E S D A Y","THURSDAY","T H U R S D A Y","FRIDAY","F R I D A Y","SATURDAY","S A T U R D A Y","SUNDAY","S U N D A Y")} -> M O N D A Y | J37: {=_xlfn.SWITCH(TEXT(L39,"DDDD"),"SUNDAY","S U N D A Y","MONDAY","M O N D A Y","TUESDAY","T U E S D A Y","WEDNESDAY","W E D N E S D A Y","THURSDAY","T H U R S D A Y","FRIDAY","F R I D A Y","SATURDAY","S A T U R D A Y","SUNDAY","S U N D A Y")} -> T U E S D A Y | R37: {=_xlfn.SWITCH(TEXT(T39,"DDDD"),"SUNDAY","S U N D A Y","MONDAY","M O N D A Y","TUESDAY","T U E S D A Y","WEDNESDAY","W E D N E S D A Y","THURSDAY","T H U R S D A Y","FRIDAY","F R I D A Y","SATURDAY","S A T U R D A Y","SUNDAY","S U N D A Y")} -> W E D N E S D A Y | Z37: G O A L
B39: DATE | D39: =$A$1+Calendar!$AY$29+4 -> 46223 | J39: DATE | L39: =$A$1+Calendar!$AY$29+5 -> 46224 | R39: DATE | T39: =$A$1+Calendar!$AY$29+6 -> 46225
B40: REST DAY ? | J40: REST DAY ? | R40: REST DAY ?
B41: MUSCLE GROUPS | J41: MUSCLE GROUPS | R41: MUSCLE GROUPS
B44: EXERCISE | D44: WEIGHT | E44: SETS | F44: REPS | G44: REST | H44: TIME | J44: EXERCISE | L44: WEIGHT | M44: SETS | N44: REPS | O44: REST | P44: TIME | R44: EXERCISE | T44: WEIGHT | U44: SETS | V44: REPS | W44: REST | X44: TIME
Z46: N O T E
B60: CARDIO | J60: CARDIO | R60: CARDIO
B61: EXERCISE | D61: TIME | E61: SPEED | G61: DISTANCE | J61: EXERCISE | L61: TIME | M61: SPEED | O61: DISTANCE | R61: EXERCISE | T61: TIME | U61: SPEED | W61: DISTANCE

Sheet Week 6
A1: 35
B2: Week 6
J3: W O R K O U T D A Y S | N3: =7-$V$3 -> 7 | R3: R E S T D A Y S | V3: =COUNTIF(D9,Calendar!$AQ$7)+COUNTIF(L9,Calendar!$AQ$7)+COUNTIF(T9,Calendar!$AQ$7)+COUNTIF(AB9,Calendar!$AQ$7)+COUNTIF(D40,Calendar!$AQ$7)+COUNTIF(L40,Calendar!$AQ$7)+COUNTIF(T40,Calendar!$AQ$7) -> 0 | Z3: © Hey Morning. All rights reserved.
AJ5: data source of the second layer dropdown
B6: {=_xlfn.SWITCH(TEXT(D8,"DDDD"),"SUNDAY","S U N D A Y","MONDAY","M O N D A Y","TUESDAY","T U E S D A Y","WEDNESDAY","W E D N E S D A Y","THURSDAY","T H U R S D A Y","FRIDAY","F R I D A Y","SATURDAY","S A T U R D A Y","SUNDAY","S U N D A Y")} -> T H U R S D A Y | J6: {=_xlfn.SWITCH(TEXT(L8,"DDDD"),"SUNDAY","S U N D A Y","MONDAY","M O N D A Y","TUESDAY","T U E S D A Y","WEDNESDAY","W E D N E S D A Y","THURSDAY","T H U R S D A Y","FRIDAY","F R I D A Y","SATURDAY","S A T U R D A Y","SUNDAY","S U N D A Y")} -> F R I D A Y | R6: {=_xlfn.SWITCH(TEXT(T8,"DDDD"),"SUNDAY","S U N D A Y","MONDAY","M O N D A Y","TUESDAY","T U E S D A Y","WEDNESDAY","W E D N E S D A Y","THURSDAY","T H U R S D A Y","FRIDAY","F R I D A Y","SATURDAY","S A T U R D A Y","SUNDAY","S U N D A Y")} -> S A T U R D A Y | Z6: {=_xlfn.SWITCH(TEXT(AB8,"DDDD"),"SUNDAY","S U N D A Y","MONDAY","M O N D A Y","TUESDAY","T U E S D A Y","WEDNESDAY","W E D N E S D A Y","THURSDAY","T H U R S D A Y","FRIDAY","F R I D A Y","SATURDAY","S A T U R D A Y","SUNDAY","S U N D A Y")} -> S U N D A Y | AJ6: {=_xlfn.LET(_xlpm.a,IF($D$10<>"",INDEX(Setup!$AB$8:$AL$38,,MATCH($D$10,Setup!$AB$7:$AL$7,0)),{""}),_xlpm.b,IF($D$11<>"",INDEX(Setup!$AB$8:$AL$38,,MATCH($D$11,Setup!$AB$7:$AL$7,0)),{""}),_xlpm.c,IF($D$12<>"",INDEX(Setup!$AB$8:$AL$38,,MATCH($D$12,Setup!$AB$7:$AL$7,0)),{""}),_xlpm.stacked,_xlfn.VSTACK(_xlpm.a,_xlpm.b,_xlpm.c),IFERROR(TRANSPOSE(_xlfn._xlws.FILTER(_xlpm.stacked,(_xlpm.stacked<>0)*(_xlpm.stacked<>"")*(_xlpm.stacked<>"#N/A"))),""))}
AJ7: {=_xlfn.LET(_xlpm.a,IF($L$10<>"",INDEX(Setup!$AB$8:$AL$38,,MATCH($L$10,Setup!$AB$7:$AL$7,0)),{""}),_xlpm.b,IF($L$11<>"",INDEX(Setup!$AB$8:$AL$38,,MATCH($L$11,Setup!$AB$7:$AL$7,0)),{""}),_xlpm.c,IF($L$12<>"",INDEX(Setup!$AB$8:$AL$38,,MATCH($L$12,Setup!$AB$7:$AL$7,0)),{""}),_xlpm.stacked,_xlfn.VSTACK(_xlpm.a,_xlpm.b,_xlpm.c),IFERROR(TRANSPOSE(_xlfn._xlws.FILTER(_xlpm.stacked,(_xlpm.stacked<>0)*(_xlpm.stacked<>"")*(_xlpm.stacked<>"#N/A"))),""))}
B8: DATE | D8: =$A$1+Calendar!$AY$29 -> 46226 | J8: DATE | L8: =$A$1+Calendar!$AY$29+1 -> 46227 | R8: DATE | T8: =$A$1+Calendar!$AY$29+2 -> 46228 | Z8: DATE | AB8: =$A$1+Calendar!$AY$29+3 -> 46229 | AJ8: {=_xlfn.LET(_xlpm.a,IF($T$10<>"",INDEX(Setup!$AB$8:$AL$38,,MATCH($T$10,Setup!$AB$7:$AL$7,0)),{""}),_xlpm.b,IF($T$11<>"",INDEX(Setup!$AB$8:$AL$38,,MATCH($T$11,Setup!$AB$7:$AL$7,0)),{""}),_xlpm.c,IF($T$12<>"",INDEX(Setup!$AB$8:$AL$38,,MATCH($T$12,Setup!$AB$7:$AL$7,0)),{""}),_xlpm.stacked,_xlfn.VSTACK(_xlpm.a,_xlpm.b,_xlpm.c),IFERROR(TRANSPOSE(_xlfn._xlws.FILTER(_xlpm.stacked,(_xlpm.stacked<>0)*(_xlpm.stacked<>"")*(_xlpm.stacked<>"#N/A"))),""))}
B9: REST DAY ? | J9: REST DAY ? | R9: REST DAY ? | Z9: REST DAY ? | AJ9: {=_xlfn.LET(_xlpm.a,IF($AB$10<>"",INDEX(Setup!$AB$8:$AL$38,,MATCH($AB$10,Setup!$AB$7:$AL$7,0)),{""}),_xlpm.b,IF($AB$11<>"",INDEX(Setup!$AB$8:$AL$38,,MATCH($AB$11,Setup!$AB$7:$AL$7,0)),{""}),_xlpm.c,IF($AB$12<>"",INDEX(Setup!$AB$8:$AL$38,,MATCH($AB$12,Setup!$AB$7:$AL$7,0)),{""}),_xlpm.stacked,_xlfn.VSTACK(_xlpm.a,_xlpm.b,_xlpm.c),IFERROR(TRANSPOSE(_xlfn._xlws.FILTER(_xlpm.stacked,(_xlpm.stacked<>0)*(_xlpm.stacked<>"")*(_xlpm.stacked<>"#N/A"))),""))}
B10: MUSCLE GROUPS | J10: MUSCLE GROUPS | R10: MUSCLE GROUPS | Z10: MUSCLE GROUPS | AJ10: {=_xlfn.LET(_xlpm.a,IF($D$41<>"",INDEX(Setup!$AB$8:$AL$38,,MATCH($D$41,Setup!$AB$7:$AL$7,0)),{""}),_xlpm.b,IF($D$42<>"",INDEX(Setup!$AB$8:$AL$38,,MATCH($D$42,Setup!$AB$7:$AL$7,0)),{""}),_xlpm.c,IF($D$43<>"",INDEX(Setup!$AB$8:$AL$38,,MATCH($D$43,Setup!$AB$7:$AL$7,0)),{""}),_xlpm.stacked,_xlfn.VSTACK(_xlpm.a,_xlpm.b,_xlpm.c),IFERROR(TRANSPOSE(_xlfn._xlws.FILTER(_xlpm.stacked,(_xlpm.stacked<>0)*(_xlpm.stacked<>"")*(_xlpm.stacked<>"#N/A"))),""))}
AJ11: {=_xlfn.LET(_xlpm.a,IF($L$41<>"",INDEX(Setup!$AB$8:$AL$38,,MATCH($L$41,Setup!$AB$7:$AL$7,0)),{""}),_xlpm.b,IF($L$42<>"",INDEX(Setup!$AB$8:$AL$38,,MATCH($L$42,Setup!$AB$7:$AL$7,0)),{""}),_xlpm.c,IF($L$43<>"",INDEX(Setup!$AB$8:$AL$38,,MATCH($L$43,Setup!$AB$7:$AL$7,0)),{""}),_xlpm.stacked,_xlfn.VSTACK(_xlpm.a,_xlpm.b,_xlpm.c),IFERROR(TRANSPOSE(_xlfn._xlws.FILTER(_xlpm.stacked,(_xlpm.stacked<>0)*(_xlpm.stacked<>"")*(_xlpm.stacked<>"#N/A"))),""))}
AJ12: {=_xlfn.LET(_xlpm.a,IF($T$41<>"",INDEX(Setup!$AB$8:$AL$38,,MATCH($T$41,Setup!$AB$7:$AL$7,0)),{""}),_xlpm.b,IF($T$42<>"",INDEX(Setup!$AB$8:$AL$38,,MATCH($T$42,Setup!$AB$7:$AL$7,0)),{""}),_xlpm.c,IF($T$43<>"",INDEX(Setup!$AB$8:$AL$38,,MATCH($T$43,Setup!$AB$7:$AL$7,0)),{""}),_xlpm.stacked,_xlfn.VSTACK(_xlpm.a,_xlpm.b,_xlpm.c),IFERROR(TRANSPOSE(_xlfn._xlws.FILTER(_xlpm.stacked,(_xlpm.stacked<>0)*(_xlpm.stacked<>"")*(_xlpm.stacked<>"#N/A"))),""))}
B13: EXERCISE | D13: WEIGHT | E13: SETS | F13: REPS | G13: REST | H13: TIME | J13: EXERCISE | L13: WEIGHT | M13: SETS | N13: REPS | O13: REST | P13: TIME | R13: EXERCISE | T13: WEIGHT | U13: SETS | V13: REPS | W13: REST | X13: TIME | Z13: EXERCISE | AB13: WEIGHT | AC13: SETS | AD13: REPS | AE13: REST | AF13: TIME
B29: CARDIO | J29: CARDIO | R29: CARDIO | Z29: CARDIO
B30: EXERCISE | D30: TIME | E30: SPEED | G30: DISTANCE | J30: EXERCISE | L30: TIME | M30: SPEED | O30: DISTANCE | R30: EXERCISE | T30: TIME | U30: SPEED | W30: DISTANCE | Z30: EXERCISE | AB30: TIME | AC30: SPEED | AE30: DISTANCE
B37: {=_xlfn.SWITCH(TEXT(D39,"DDDD"),"SUNDAY","S U N D A Y","MONDAY","M O N D A Y","TUESDAY","T U E S D A Y","WEDNESDAY","W E D N E S D A Y","THURSDAY","T H U R S D A Y","FRIDAY","F R I D A Y","SATURDAY","S A T U R D A Y","SUNDAY","S U N D A Y")} -> M O N D A Y | J37: {=_xlfn.SWITCH(TEXT(L39,"DDDD"),"SUNDAY","S U N D A Y","MONDAY","M O N D A Y","TUESDAY","T U E S D A Y","WEDNESDAY","W E D N E S D A Y","THURSDAY","T H U R S D A Y","FRIDAY","F R I D A Y","SATURDAY","S A T U R D A Y","SUNDAY","S U N D A Y")} -> T U E S D A Y | R37: {=_xlfn.SWITCH(TEXT(T39,"DDDD"),"SUNDAY","S U N D A Y","MONDAY","M O N D A Y","TUESDAY","T U E S D A Y","WEDNESDAY","W E D N E S D A Y","THURSDAY","T H U R S D A Y","FRIDAY","F R I D A Y","SATURDAY","S A T U R D A Y","SUNDAY","S U N D A Y")} -> W E D N E S D A Y | Z37: G O A L
B39: DATE | D39: =$A$1+Calendar!$AY$29+4 -> 46230 | J39: DATE | L39: =$A$1+Calendar!$AY$29+5 -> 46231 | R39: DATE | T39: =$A$1+Calendar!$AY$29+6 -> 46232
B40: REST DAY ? | J40: REST DAY ? | R40: REST DAY ?
B41: MUSCLE GROUPS | J41: MUSCLE GROUPS | R41: MUSCLE GROUPS
B44: EXERCISE | D44: WEIGHT | E44: SETS | F44: REPS | G44: REST | H44: TIME | J44: EXERCISE | L44: WEIGHT | M44: SETS | N44: REPS | O44: REST | P44: TIME | R44: EXERCISE | T44: WEIGHT | U44: SETS | V44: REPS | W44: REST | X44: TIME
Z46: N O T E
B60: CARDIO | J60: CARDIO | R60: CARDIO
B61: EXERCISE | D61: TIME | E61: SPEED | G61: DISTANCE | J61: EXERCISE | L61: TIME | M61: SPEED | O61: DISTANCE | R61: EXERCISE | T61: TIME | U61: SPEED | W61: DISTANCE

Sheet Calendar
B2: =Setup!O4 -> 46191 | AK2: #VALUE!
K3: planned workout days | T3: completed workout days | AC3: rest days
K4: =COUNTIF(AU18:BA23,">0") -> 0 | T4: =COUNTIF(AU10:BA15,"=1") -> 0 | AC4: =42-(COUNTIF(C21,"")+COUNTIF(H21,"")+COUNTIF(M21,"")+COUNTIF(R21,"")+COUNTIF(W21,"")+COUNTIF(AB21,"")+COUNTIF(AG21,"")+COUNTIF(C26,"")+COUNTIF(H26,"")+COUNTIF(M26,"")+COUNTIF(R26,"")+COUNTIF(W26,"")+COUNTIF(AB26,"")+COUNTIF(AG26,"")+COUNTIF(C31,"")+COUNTIF(H31,"")+COUNTIF(M31,"")+COUNTIF(R31,"")+COUNTIF(W31,"")+COUNTIF(AB31,"")+COUNTIF(AG31,"")+COUNTIF(C36,"")+COUNTIF(H36,"")+COUNTIF(M36,"")+COUNTIF(R36,"")+COUNTIF(W36,"")+COUNTIF(AB36,"")+COUNTIF(AG36,"")+COUNTIF(C41,"")+COUNTIF(H41,"")+COUNTIF(M41,"")+COUNTIF(R41,"")+COUNTIF(W41,"")+COUNTIF(AB41,"")+COUNTIF(AG41,"")+COUNTIF(C46,"")+COUNTIF(H46,"")+COUNTIF(M46,"")+COUNTIF(R46,"")+COUNTIF(W46,"")+COUNTIF(AB46,"")+COUNTIF(AG46,"")) -> 0
B5: W O R K O U T C A L E N D A R
AO7: =SUMPRODUCT($AO$11:$AO$52,$AP$11:$AP$52) -> 0 | AP7: Completed | AQ7: ✓
AO8: =SUM($AP$11:$AP$52)-$AO$7 -> 0 | AP8: Remaining
AN10: DAILY PROGRESS | AQ10: FILTERED DAILY PROGRESS | AU10: {=IFERROR(SUMPRODUCT((LEN(C22:C25)>0)*(B22:B25=$AQ$7))/AU18,0)} -> 0 | AV10: {=IFERROR(SUMPRODUCT((LEN(H22:H25)>0)*(G22:G25=AQ7))/INDIRECT(ADDRESS(ROW()+8,COLUMN())),0)} -> 0 | AW10: {=IFERROR(SUMPRODUCT((LEN(M22:M25)>0)*(L22:L25=AQ7))/INDIRECT(ADDRESS(ROW()+8,COLUMN())),0)} -> 0 | AX10: {=IFERROR(SUMPRODUCT((LEN(R22:R25)>0)*(Q22:Q25=AQ7))/INDIRECT(ADDRESS(ROW()+8,COLUMN())),0)} -> 0 | AY10: {=IFERROR(SUMPRODUCT((LEN(W22:W25)>0)*(V22:V25=AQ7))/INDIRECT(ADDRESS(ROW()+8,COLUMN())),0)} -> 0 | AZ10: {=IFERROR(SUMPRODUCT((LEN(AB22:AB25)>0)*(AA22:AA25=AQ7))/INDIRECT(ADDRESS(ROW()+8,COLUMN())),0)} -> 0 | BA10: {=IFERROR(SUMPRODUCT((LEN(AG22:AG25)>0)*(AF22:AF25=AQ7))/INDIRECT(ADDRESS(ROW()+8,COLUMN())),0)} -> 0
B11: =IFERROR($AO$7/SUM($AP$11:$AP$52),0) -> 0 | AN11: {=INDIRECT(ADDRESS(21+5*ROUNDDOWN((ROW()-11)/7,0),2+MOD(ROW()-11,7)*5))} -> 46191 | AO11: {=INDIRECT(ADDRESS(ROW($AU$10)+ROUNDDOWN((ROW()-11)/7,0),COLUMN($AU$10)+MOD(ROW()-11,7)))} -> 0 | AP11: {=INDIRECT(ADDRESS(ROW($AU$18)+ROUNDDOWN((ROW()-11)/7,0),COLUMN($AU$18)+MOD(ROW()-11,7)))} -> 0 | AQ11: {=_xlfn._xlws.FILTER(AN11:AP47,NOT(AN11:AN47=""),AP11:AP47>0)} -> 46191 | AR11: 0 | AS11: 0 | AU11: {=IFERROR(SUMPRODUCT((LEN(C27:C30)>0)*(B27:B30=$AQ$7))/INDIRECT(ADDRESS(ROW()+8,COLUMN())),0)} -> 0 | AV11: {=IFERROR(SUMPRODUCT((LEN(H27:H30)>0)*(G27:G30=AQ7))/INDIRECT(ADDRESS(ROW()+8,COLUMN())),0)} -> 0 | AW11: {=IFERROR(SUMPRODUCT((LEN(M27:M30)>0)*(L27:L30=AQ7))/INDIRECT(ADDRESS(ROW()+8,COLUMN())),0)} -> 0 | AX11: {=IFERROR(SUMPRODUCT((LEN(R27:R30)>0)*(Q27:Q30=AQ7))/INDIRECT(ADDRESS(ROW()+8,COLUMN())),0)} -> 0 | AY11: {=IFERROR(SUMPRODUCT((LEN(W27:W30)>0)*(V27:V30=AQ7))/INDIRECT(ADDRESS(ROW()+8,COLUMN())),0)} -> 0 | AZ11: {=IFERROR(SUMPRODUCT((LEN(AB27:AB30)>0)*(AA27:AA30=AQ7))/INDIRECT(ADDRESS(ROW()+8,COLUMN())),0)} -> 0 | BA11: {=IFERROR(SUMPRODUCT((LEN(AG27:AG30)>0)*(AF27:AF30=AQ7))/INDIRECT(ADDRESS(ROW()+8,COLUMN())),0)} -> 0
AN12: {=INDIRECT(ADDRESS(21+5*ROUNDDOWN((ROW()-11)/7,0),2+MOD(ROW()-11,7)*5))} -> 46192 | AO12: {=INDIRECT(ADDRESS(ROW($AU$10)+ROUNDDOWN((ROW()-11)/7,0),COLUMN($AU$10)+MOD(ROW()-11,7)))} -> 0 | AP12: {=INDIRECT(ADDRESS(ROW($AU$18)+ROUNDDOWN((ROW()-11)/7,0),COLUMN($AU$18)+MOD(ROW()-11,7)))} -> 0 | AQ12: 46192 | AR12: 0 | AS12: 0 | AU12: {=IFERROR(SUMPRODUCT((LEN(C32:C35)>0)*(B32:B35=$AQ$7))/INDIRECT(ADDRESS(ROW()+8,COLUMN())),0)} -> 0 | AV12: {=IFERROR(SUMPRODUCT((LEN(H32:H35)>0)*(G32:G35=AQ7))/INDIRECT(ADDRESS(ROW()+8,COLUMN())),0)} -> 0 | AW12: {=IFERROR(SUMPRODUCT((LEN(M32:M35)>0)*(L32:L35=AQ7))/INDIRECT(ADDRESS(ROW()+8,COLUMN())),0)} -> 0 | AX12: {=IFERROR(SUMPRODUCT((LEN(R32:R35)>0)*(Q32:Q35=AQ7))/INDIRECT(ADDRESS(ROW()+8,COLUMN())),0)} -> 0 | AY12: {=IFERROR(SUMPRODUCT((LEN(W32:W35)>0)*(V32:V35=AQ7))/INDIRECT(ADDRESS(ROW()+8,COLUMN())),0)} -> 0 | AZ12: {=IFERROR(SUMPRODUCT((LEN(AB32:AB35)>0)*(AA32:AA35=AQ7))/INDIRECT(ADDRESS(ROW()+8,COLUMN())),0)} -> 0 | BA12: {=IFERROR(SUMPRODUCT((LEN(AG32:AG35)>0)*(AF32:AF35=AQ7))/INDIRECT(ADDRESS(ROW()+8,COLUMN())),0)} -> 0
AN13: {=INDIRECT(ADDRESS(21+5*ROUNDDOWN((ROW()-11)/7,0),2+MOD(ROW()-11,7)*5))} -> 46193 | AO13: {=INDIRECT(ADDRESS(ROW($AU$10)+ROUNDDOWN((ROW()-11)/7,0),COLUMN($AU$10)+MOD(ROW()-11,7)))} -> 0 | AP13: {=INDIRECT(ADDRESS(ROW($AU$18)+ROUNDDOWN((ROW()-11)/7,0),COLUMN($AU$18)+MOD(ROW()-11,7)))} -> 0 | AQ13: 46193 | AR13: 0 | AS13: 0 | AU13: {=IFERROR(SUMPRODUCT((LEN(C37:C40)>0)*(B37:B40=$AQ$7))/INDIRECT(ADDRESS(ROW()+8,COLUMN())),0)} -> 0 | AV13: {=IFERROR(SUMPRODUCT((LEN(H37:H40)>0)*(G37:G40=AQ7))/INDIRECT(ADDRESS(ROW()+8,COLUMN())),0)} -> 0 | AW13: {=IFERROR(SUMPRODUCT((LEN(M37:M40)>0)*(L37:L40=AQ7))/INDIRECT(ADDRESS(ROW()+8,COLUMN())),0)} -> 0 | AX13: {=IFERROR(SUMPRODUCT((LEN(R37:R40)>0)*(Q37:Q40=AQ7))/INDIRECT(ADDRESS(ROW()+8,COLUMN())),0)} -> 0 | AY13: {=IFERROR(SUMPRODUCT((LEN(W37:W40)>0)*(V37:V40=AQ7))/INDIRECT(ADDRESS(ROW()+8,COLUMN())),0)} -> 0 | AZ13: {=IFERROR(SUMPRODUCT((LEN(AB37:AB40)>0)*(AA37:AA40=AQ7))/INDIRECT(ADDRESS(ROW()+8,COLUMN())),0)} -> 0 | BA13: {=IFERROR(SUMPRODUCT((LEN(AG37:AG40)>0)*(AF37:AF40=AQ7))/INDIRECT(ADDRESS(ROW()+8,COLUMN())),0)} -> 0
AN14: {=INDIRECT(ADDRESS(21+5*ROUNDDOWN((ROW()-11)/7,0),2+MOD(ROW()-11,7)*5))} -> 46194 | AO14: {=INDIRECT(ADDRESS(ROW($AU$10)+ROUNDDOWN((ROW()-11)/7,0),COLUMN($AU$10)+MOD(ROW()-11,7)))} -> 0 | AP14: {=INDIRECT(ADDRESS(ROW($AU$18)+ROUNDDOWN((ROW()-11)/7,0),COLUMN($AU$18)+MOD(ROW()-11,7)))} -> 0 | AQ14: 46194 | AR14: 0 | AS14: 0 | AU14: {=IFERROR(SUMPRODUCT((LEN(C42:C45)>0)*(B42:B45=$AQ$7))/INDIRECT(ADDRESS(ROW()+8,COLUMN())),0)} -> 0 | AV14: {=IFERROR(SUMPRODUCT((LEN(H42:H45)>0)*(G42:G45=AQ7))/INDIRECT(ADDRESS(ROW()+8,COLUMN())),0)} -> 0 | AW14: {=IFERROR(SUMPRODUCT((LEN(M42:M45)>0)*(L42:L45=AQ7))/INDIRECT(ADDRESS(ROW()+8,COLUMN())),0)} -> 0 | AX14: {=IFERROR(SUMPRODUCT((LEN(R42:R45)>0)*(Q42:Q45=AQ7))/INDIRECT(ADDRESS(ROW()+8,COLUMN())),0)} -> 0 | AY14: {=IFERROR(SUMPRODUCT((LEN(W42:W45)>0)*(V42:V45=AQ7))/INDIRECT(ADDRESS(ROW()+8,COLUMN())),0)} -> 0 | AZ14: {=IFERROR(SUMPRODUCT((LEN(AB42:AB45)>0)*(AA42:AA45=AQ7))/INDIRECT(ADDRESS(ROW()+8,COLUMN())),0)} -> 0 | BA14: {=IFERROR(SUMPRODUCT((LEN(AG42:AG45)>0)*(AF42:AF45=AQ7))/INDIRECT(ADDRESS(ROW()+8,COLUMN())),0)} -> 0
AN15: {=INDIRECT(ADDRESS(21+5*ROUNDDOWN((ROW()-11)/7,0),2+MOD(ROW()-11,7)*5))} -> 46195 | AO15: {=INDIRECT(ADDRESS(ROW($AU$10)+ROUNDDOWN((ROW()-11)/7,0),COLUMN($AU$10)+MOD(ROW()-11,7)))} -> 0 | AP15: {=INDIRECT(ADDRESS(ROW($AU$18)+ROUNDDOWN((ROW()-11)/7,0),COLUMN($AU$18)+MOD(ROW()-11,7)))} -> 0 | AQ15: 46195 | AR15: 0 | AS15: 0 | AU15: {=IFERROR(SUMPRODUCT((LEN(C47:C50)>0)*(B47:B50=$AQ$7))/INDIRECT(ADDRESS(ROW()+8,COLUMN())),0)} -> 0 | AV15: {=IFERROR(SUMPRODUCT((LEN(H47:H50)>0)*(G47:G50=AQ7))/INDIRECT(ADDRESS(ROW()+8,COLUMN())),0)} -> 0 | AW15: {=IFERROR(SUMPRODUCT((LEN(M47:M50)>0)*(L47:L50=AQ7))/INDIRECT(ADDRESS(ROW()+8,COLUMN())),0)} -> 0 | AX15: {=IFERROR(SUMPRODUCT((LEN(R47:R50)>0)*(Q47:Q50=AQ7))/INDIRECT(ADDRESS(ROW()+8,COLUMN())),0)} -> 0 | AY15: {=IFERROR(SUMPRODUCT((LEN(W47:W50)>0)*(V47:V50=AQ7))/INDIRECT(ADDRESS(ROW()+8,COLUMN())),0)} -> 0 | AZ15: {=IFERROR(SUMPRODUCT((LEN(AB47:AB50)>0)*(AA47:AA50=AQ7))/INDIRECT(ADDRESS(ROW()+8,COLUMN())),0)} -> 0 | BA15: {=IFERROR(SUMPRODUCT((LEN(AG47:AG50)>0)*(AF47:AF50=AQ7))/INDIRECT(ADDRESS(ROW()+8,COLUMN())),0)} -> 0
AN16: {=INDIRECT(ADDRESS(21+5*ROUNDDOWN((ROW()-11)/7,0),2+MOD(ROW()-11,7)*5))} -> 46196 | AO16: {=INDIRECT(ADDRESS(ROW($AU$10)+ROUNDDOWN((ROW()-11)/7,0),COLUMN($AU$10)+MOD(ROW()-11,7)))} -> 0 | AP16: {=INDIRECT(ADDRESS(ROW($AU$18)+ROUNDDOWN((ROW()-11)/7,0),COLUMN($AU$18)+MOD(ROW()-11,7)))} -> 0 | AQ16: 46196 | AR16: 0 | AS16: 0
AN17: {=INDIRECT(ADDRESS(21+5*ROUNDDOWN((ROW()-11)/7,0),2+MOD(ROW()-11,7)*5))} -> 46197 | AO17: {=INDIRECT(ADDRESS(ROW($AU$10)+ROUNDDOWN((ROW()-11)/7,0),COLUMN($AU$10)+MOD(ROW()-11,7)))} -> 0 | AP17: {=INDIRECT(ADDRESS(ROW($AU$18)+ROUNDDOWN((ROW()-11)/7,0),COLUMN($AU$18)+MOD(ROW()-11,7)))} -> 0 | AQ17: 46197 | AR17: 0 | AS17: 0
AN18: {=INDIRECT(ADDRESS(21+5*ROUNDDOWN((ROW()-11)/7,0),2+MOD(ROW()-11,7)*5))} -> 46198 | AO18: {=INDIRECT(ADDRESS(ROW($AU$10)+ROUNDDOWN((ROW()-11)/7,0),COLUMN($AU$10)+MOD(ROW()-11,7)))} -> 0 | AP18: {=INDIRECT(ADDRESS(ROW($AU$18)+ROUNDDOWN((ROW()-11)/7,0),COLUMN($AU$18)+MOD(ROW()-11,7)))} -> 0 | AQ18: 46198 | AR18: 0 | AS18: 0 | AU18: =IFERROR(4-COUNTBLANK(C22:C25),0) -> 0 | AV18: =IFERROR(4-COUNTBLANK(H22:H25),0) -> 0 | AW18: =IFERROR(4-COUNTBLANK(M22:M25),0) -> 0 | AX18: =IFERROR(4-COUNTBLANK(R22:R25),0) -> 0 | AY18: =IFERROR(4-COUNTBLANK(W22:W25),0) -> 0 | AZ18: =IFERROR(4-COUNTBLANK(AB22:AB25),0) -> 0 | BA18: =IFERROR(4-COUNTBLANK(AG22:AG25),0) -> 0
B19: {=_xlfn.SWITCH(UPPER(TEXT(B$21,"DDD")),"MON","M O N","TUE","T U E","WED","W E D","THU","T H U","FRI","F R I","SAT","S A T","SUN","S U N")} -> T H U | G19: {=_xlfn.SWITCH(UPPER(TEXT(G$21,"DDD")),"MON","M O N","TUE","T U E","WED","W E D","THU","T H U","FRI","F R I","SAT","S A T","SUN","S U N")} -> F R I | L19: {=_xlfn.SWITCH(UPPER(TEXT(L$21,"DDD")),"MON","M O N","TUE","T U E","WED","W E D","THU","T H U","FRI","F R I","SAT","S A T","SUN","S U N")} -> S A T | Q19: {=_xlfn.SWITCH(UPPER(TEXT(Q$21,"DDD")),"MON","M O N","TUE","T U E","WED","W E D","THU","T H U","FRI","F R I","SAT","S A T","SUN","S U N")} -> S U N | V19: {=_xlfn.SWITCH(UPPER(TEXT(V$21,"DDD")),"MON","M O N","TUE","T U E","WED","W E D","THU","T H U","FRI","F R I","SAT","S A T","SUN","S U N")} -> M O N | AA19: {=_xlfn.SWITCH(UPPER(TEXT(AA$21,"DDD")),"MON","M O N","TUE","T U E","WED","W E D","THU","T H U","FRI","F R I","SAT","S A T","SUN","S U N")} -> T U E | AF19: {=_xlfn.SWITCH(UPPER(TEXT(AF$21,"DDD")),"MON","M O N","TUE","T U E","WED","W E D","THU","T H U","FRI","F R I","SAT","S A T","SUN","S U N")} -> W E D | AK19: W E E K L Y P R O G R E S S | AN19: {=INDIRECT(ADDRESS(21+5*ROUNDDOWN((ROW()-11)/7,0),2+MOD(ROW()-11,7)*5))} -> 46199 | AO19: {=INDIRECT(ADDRESS(ROW($AU$10)+ROUNDDOWN((ROW()-11)/7,0),COLUMN($AU$10)+MOD(ROW()-11,7)))} -> 0 | AP19: {=INDIRECT(ADDRESS(ROW($AU$18)+ROUNDDOWN((ROW()-11)/7,0),COLUMN($AU$18)+MOD(ROW()-11,7)))} -> 0 | AQ19: 46199 | AR19: 0 | AS19: 0 | AU19: =IFERROR(4-COUNTBLANK(C27:C30),0) -> 0 | AV19: =IFERROR(4-COUNTBLANK(H27:H30),0) -> 0 | AW19: =IFERROR(4-COUNTBLANK(M27:M30),0) -> 0 | AX19: =IFERROR(4-COUNTBLANK(R27:R30),0) -> 0 | AY19: =IFERROR(4-COUNTBLANK(W27:W30),0) -> 0 | AZ19: =IFERROR(4-COUNTBLANK(AB27:AB30),0) -> 0 | BA19: =IFERROR(4-COUNTBLANK(AG27:AG30),0) -> 0
AN20: {=INDIRECT(ADDRESS(21+5*ROUNDDOWN((ROW()-11)/7,0),2+MOD(ROW()-11,7)*5))} -> 46200 | AO20: {=INDIRECT(ADDRESS(ROW($AU$10)+ROUNDDOWN((ROW()-11)/7,0),COLUMN($AU$10)+MOD(ROW()-11,7)))} -> 0 | AP20: {=INDIRECT(ADDRESS(ROW($AU$18)+ROUNDDOWN((ROW()-11)/7,0),COLUMN($AU$18)+MOD(ROW()-11,7)))} -> 0 | AQ20: 46200 | AR20: 0 | AS20: 0 | AU20: =IFERROR(4-COUNTBLANK(C32:C35),0) -> 0 | AV20: =IFERROR(4-COUNTBLANK(H32:H35),0) -> 0 | AW20: =IFERROR(4-COUNTBLANK(M32:M35),0) -> 0 | AX20: =IFERROR(4-COUNTBLANK(R32:R35),0) -> 0 | AY20: =IFERROR(4-COUNTBLANK(W32:W35),0) -> 0 | AZ20: =IFERROR(4-COUNTBLANK(AB32:AB35),0) -> 0 | BA20: =IFERROR(4-COUNTBLANK(AG32:AG35),0) -> 0
B21: =$AY$29 -> 46191 | C21: =IF('Week 1'!D9="✓","REST DAY ","") | G21: =B21+1 -> 46192 | H21: =IF('Week 1'!L9="✓","REST DAY ","") | L21: =B21+2 -> 46193 | M21: =IF('Week 1'!T9="✓","REST DAY ","") | Q21: =B21+3 -> 46194 | R21: =IF('Week 1'!AB9="✓","REST DAY ","") | V21: =B21+4 -> 46195 | W21: =IF('Week 1'!D40="✓","REST DAY ","") | AA21: =B21+5 -> 46196 | AB21: =IF('Week 1'!L40="✓","REST DAY ","") | AF21: =B21+6 -> 46197 | AG21: =IF('Week 1'!T40="✓","REST DAY ","") | AN21: {=INDIRECT(ADDRESS(21+5*ROUNDDOWN((ROW()-11)/7,0),2+MOD(ROW()-11,7)*5))} -> 46201 | AO21: {=INDIRECT(ADDRESS(ROW($AU$10)+ROUNDDOWN((ROW()-11)/7,0),COLUMN($AU$10)+MOD(ROW()-11,7)))} -> 0 | AP21: {=INDIRECT(ADDRESS(ROW($AU$18)+ROUNDDOWN((ROW()-11)/7,0),COLUMN($AU$18)+MOD(ROW()-11,7)))} -> 0 | AQ21: 46201 | AR21: 0 | AS21: 0 | AU21: =IFERROR(4-COUNTBLANK(C37:C40),0) -> 0 | AV21: =IFERROR(4-COUNTBLANK(H37:H40),0) -> 0 | AW21: =IFERROR(4-COUNTBLANK(M37:M40),0) -> 0 | AX21: =IFERROR(4-COUNTBLANK(R37:R40),0) -> 0 | AY21: =IFERROR(4-COUNTBLANK(W37:W40),0) -> 0 | AZ21: =IFERROR(4-COUNTBLANK(AB37:AB40),0) -> 0 | BA21: =IFERROR(4-COUNTBLANK(AG37:AG40),0) -> 0
C22: =_xlfn.LET(_xlpm.v,'Week 1'!D10,IF(_xlpm.v="","",_xlpm.v)) | H22: =_xlfn.LET(_xlpm.v,'Week 1'!L10,IF(_xlpm.v="","",_xlpm.v)) | M22: =_xlfn.LET(_xlpm.v,'Week 1'!T10,IF(_xlpm.v="","",_xlpm.v)) | R22: =_xlfn.LET(_xlpm.v,'Week 1'!AB10,IF(_xlpm.v="","",_xlpm.v)) | W22: =_xlfn.LET(_xlpm.v,'Week 1'!D41,IF(_xlpm.v="","",_xlpm.v)) | AB22: =_xlfn.LET(_xlpm.v,'Week 1'!L41,IF(_xlpm.v="","",_xlpm.v)) | AG22: =_xlfn.LET(_xlpm.v,'Week 1'!T41,IF(_xlpm.v="","",_xlpm.v)) | AK22: =IFERROR((COUNTIF($B$22:$B$25,"✓")+COUNTIF($G$22:$G$25,"✓")+COUNTIF($L$22:$L$25,"✓")+COUNTIF($Q$22:$Q$25,"✓")+COUNTIF($V$22:$V$25,"✓")+COUNTIF($AA$22:$AA$25,"✓")+COUNTIF($AF$22:$AF$25,"✓"))/(28-(COUNTIF($C$22:$C$25,"")+COUNTIF($H$22:$H$25,"")+COUNTIF($M$22:$M$25,"")+COUNTIF($R$22:$R$25,"")+COUNTIF($W$22:$W$25,"")+COUNTIF($AB$22:$AB$25,"")+COUNTIF($AG$22:$AG$25,""))),0) -> 0 | AL22: =AK22 -> 0 | AN22: {=INDIRECT(ADDRESS(21+5*ROUNDDOWN((ROW()-11)/7,0),2+MOD(ROW()-11,7)*5))} -> 46202 | AO22: {=INDIRECT(ADDRESS(ROW($AU$10)+ROUNDDOWN((ROW()-11)/7,0),COLUMN($AU$10)+MOD(ROW()-11,7)))} -> 0 | AP22: {=INDIRECT(ADDRESS(ROW($AU$18)+ROUNDDOWN((ROW()-11)/7,0),COLUMN($AU$18)+MOD(ROW()-11,7)))} -> 0 | AQ22: 46202 | AR22: 0 | AS22: 0 | AU22: =IFERROR(4-COUNTBLANK(C42:C45),0) -> 0 | AV22: =IFERROR(4-COUNTBLANK(H42:H45),0) -> 0 | AW22: =IFERROR(4-COUNTBLANK(M42:M45),0) -> 0 | AX22: =IFERROR(4-COUNTBLANK(R42:R45),0) -> 0 | AY22: =IFERROR(4-COUNTBLANK(W42:W45),0) -> 0 | AZ22: =IFERROR(4-COUNTBLANK(AB42:AB45),0) -> 0 | BA22: =IFERROR(4-COUNTBLANK(AG42:AG45),0) -> 0
C23: =_xlfn.LET(_xlpm.v,'Week 1'!D11,IF(_xlpm.v="","",_xlpm.v)) | H23: =_xlfn.LET(_xlpm.v,'Week 1'!L11,IF(_xlpm.v="","",_xlpm.v)) | M23: =_xlfn.LET(_xlpm.v,'Week 1'!T11,IF(_xlpm.v="","",_xlpm.v)) | R23: =_xlfn.LET(_xlpm.v,'Week 1'!AB11,IF(_xlpm.v="","",_xlpm.v)) | W23: =_xlfn.LET(_xlpm.v,'Week 1'!D42,IF(_xlpm.v="","",_xlpm.v)) | AB23: =_xlfn.LET(_xlpm.v,'Week 1'!L42,IF(_xlpm.v="","",_xlpm.v)) | AG23: =_xlfn.LET(_xlpm.v,'Week 1'!T42,IF(_xlpm.v="","",_xlpm.v)) | AN23: {=INDIRECT(ADDRESS(21+5*ROUNDDOWN((ROW()-11)/7,0),2+MOD(ROW()-11,7)*5))} -> 46203 | AO23: {=INDIRECT(ADDRESS(ROW($AU$10)+ROUNDDOWN((ROW()-11)/7,0),COLUMN($AU$10)+MOD(ROW()-11,7)))} -> 0 | AP23: {=INDIRECT(ADDRESS(ROW($AU$18)+ROUNDDOWN((ROW()-11)/7,0),COLUMN($AU$18)+MOD(ROW()-11,7)))} -> 0 | AQ23: 46203 | AR23: 0 | AS23: 0 | AU23: =IFERROR(4-COUNTBLANK(C47:C50),0) -> 0 | AV23: {=IFERROR(SUMPRODUCT(LEN(H47:H50)>0),0)} -> 0 | AW23: =IFERROR(4-COUNTBLANK(M47:M50),0) -> 0 | AX23: =IFERROR(4-COUNTBLANK(R47:R50),0) -> 0 | AY23: =IFERROR(4-COUNTBLANK(W47:W50),0) -> 0 | AZ23: {=IFERROR(SUMPRODUCT(LEN(AB47:AB50)>0),0)} -> 0 | BA23: =IFERROR(4-COUNTBLANK(AG47:AG50),0) -> 0
C24: =_xlfn.LET(_xlpm.v,'Week 1'!D12,IF(_xlpm.v="","",_xlpm.v)) | H24: =_xlfn.LET(_xlpm.v,'Week 1'!L12,IF(_xlpm.v="","",_xlpm.v)) | M24: =_xlfn.LET(_xlpm.v,'Week 1'!T12,IF(_xlpm.v="","",_xlpm.v)) | R24: =_xlfn.LET(_xlpm.v,'Week 1'!AB12,IF(_xlpm.v="","",_xlpm.v)) | W24: =_xlfn.LET(_xlpm.v,'Week 1'!D43,IF(_xlpm.v="","",_xlpm.v)) | AB24: =_xlfn.LET(_xlpm.v,'Week 1'!L43,IF(_xlpm.v="","",_xlpm.v)) | AG24: =_xlfn.LET(_xlpm.v,'Week 1'!T43,IF(_xlpm.v="","",_xlpm.v)) | AN24: {=INDIRECT(ADDRESS(21+5*ROUNDDOWN((ROW()-11)/7,0),2+MOD(ROW()-11,7)*5))} -> 46204 | AO24: {=INDIRECT(ADDRESS(ROW($AU$10)+ROUNDDOWN((ROW()-11)/7,0),COLUMN($AU$10)+MOD(ROW()-11,7)))} -> 0 | AP24: {=INDIRECT(ADDRESS(ROW($AU$18)+ROUNDDOWN((ROW()-11)/7,0),COLUMN($AU$18)+MOD(ROW()-11,7)))} -> 0 | AQ24: 46204 | AR24: 0 | AS24: 0
C25: =IF(COUNTIF('Week 1'!C31:C35,"<>")>0,"Cardio","") | H25: =IF(COUNTIF('Week 1'!K31:K35,"<>")>0,"Cardio","") | M25: =IF(COUNTIF('Week 1'!S31:S35,"<>")>0,"Cardio","") | R25: =IF(COUNTIF('Week 1'!AA31:AA35,"<>")>0,"Cardio","") | W25: =IF(COUNTIF('Week 1'!C62:C66,"<>")>0,"Cardio","") | AB25: =IF(COUNTIF('Week 1'!K62:K66,"<>")>0,"Cardio","") | AG25: =IF(COUNTIF('Week 1'!S62:S66,"<>")>0,"Cardio","") | AN25: {=INDIRECT(ADDRESS(21+5*ROUNDDOWN((ROW()-11)/7,0),2+MOD(ROW()-11,7)*5))} -> 46205 | AO25: {=INDIRECT(ADDRESS(ROW($AU$10)+ROUNDDOWN((ROW()-11)/7,0),COLUMN($AU$10)+MOD(ROW()-11,7)))} -> 0 | AP25: {=INDIRECT(ADDRESS(ROW($AU$18)+ROUNDDOWN((ROW()-11)/7,0),COLUMN($AU$18)+MOD(ROW()-11,7)))} -> 0 | AQ25: 46205 | AR25: 0 | AS25: 0
B26: =B21+7 -> 46198 | C26: =IF('Week 2'!D9="✓","REST DAY ","") | G26: =B21+8 -> 46199 | H26: =IF('Week 2'!L9="✓","REST DAY ","") | L26: =B21+9 -> 46200 | M26: =IF('Week 2'!T9="✓","REST DAY ","") | Q26: =B21+10 -> 46201 | R26: =IF('Week 2'!AB9="✓","REST DAY ","") | V26: =B21+11 -> 46202 | W26: =IF('Week 2'!D40="✓","REST DAY ","") | AA26: =B21+12 -> 46203 | AB26: =IF('Week 2'!L40="✓","REST DAY ","") | AF26: =B21+13 -> 46204 | AG26: =IF('Week 2'!T40="✓","REST DAY ","") | AN26: {=INDIRECT(ADDRESS(21+5*ROUNDDOWN((ROW()-11)/7,0),2+MOD(ROW()-11,7)*5))} -> 46206 | AO26: {=INDIRECT(ADDRESS(ROW($AU$10)+ROUNDDOWN((ROW()-11)/7,0),COLUMN($AU$10)+MOD(ROW()-11,7)))} -> 0 | AP26: {=INDIRECT(ADDRESS(ROW($AU$18)+ROUNDDOWN((ROW()-11)/7,0),COLUMN($AU$18)+MOD(ROW()-11,7)))} -> 0 | AQ26: 46206 | AR26: 0 | AS26: 0
C27: =_xlfn.LET(_xlpm.v,'Week 2'!D10,IF(_xlpm.v="","",_xlpm.v)) | H27: =_xlfn.LET(_xlpm.v,'Week 2'!L10,IF(_xlpm.v="","",_xlpm.v)) | M27: =_xlfn.LET(_xlpm.v,'Week 2'!T10,IF(_xlpm.v="","",_xlpm.v)) | R27: =_xlfn.LET(_xlpm.v,'Week 2'!AB10,IF(_xlpm.v="","",_xlpm.v)) | W27: =_xlfn.LET(_xlpm.v,'Week 2'!D41,IF(_xlpm.v="","",_xlpm.v)) | AB27: =_xlfn.LET(_xlpm.v,'Week 2'!L41,IF(_xlpm.v="","",_xlpm.v)) | AG27: =_xlfn.LET(_xlpm.v,'Week 2'!T41,IF(_xlpm.v="","",_xlpm.v)) | AK27: =IFERROR((COUNTIF($B$27:$B$30,"✓")+COUNTIF($G$27:$G$30,"✓")+COUNTIF($L$27:$L$30,"✓")+COUNTIF($Q$27:$Q$30,"✓")+COUNTIF($V$27:$V$30,"✓")+COUNTIF($AA$27:$AA$30,"✓")+COUNTIF($AF$27:$AF$30,"✓"))/(28-(COUNTIF($C$27:$C$30,"")+COUNTIF($H$27:$H$30,"")+COUNTIF($M$27:$M$30,"")+COUNTIF($R$27:$R$30,"")+COUNTIF($W$27:$W$30,"")+COUNTIF($AB$27:$AB$30,"")+COUNTIF($AG$27:$AG$30,""))),0) -> 0 | AL27: =AK27 -> 0 | AN27: {=INDIRECT(ADDRESS(21+5*ROUNDDOWN((ROW()-11)/7,0),2+MOD(ROW()-11,7)*5))} -> 46207 | AO27: {=INDIRECT(ADDRESS(ROW($AU$10)+ROUNDDOWN((ROW()-11)/7,0),COLUMN($AU$10)+MOD(ROW()-11,7)))} -> 0 | AP27: {=INDIRECT(ADDRESS(ROW($AU$18)+ROUNDDOWN((ROW()-11)/7,0),COLUMN($AU$18)+MOD(ROW()-11,7)))} -> 0 | AQ27: 46207 | AR27: 0 | AS27: 0 | AU27: =Setup!C7 -> Cardio | AV27: =SUM(COUNTIFS($C$22:$AJ$25,$AU27,$C$22:$AJ$25,"<>"),COUNTIFS($C$27:$AJ$30,$AU27,$C$27:$AJ$30,"<>"),COUNTIFS($C$32:$AJ$35,$AU27,$C$32:$AJ$35,"<>"),COUNTIFS($C$37:$AJ$40,$AU27,$C$37:$AJ$40,"<>"),COUNTIFS($C$42:$AJ$45,$AU27,$C$42:$AJ$45,"<>"),COUNTIFS($C$47:$AJ$50,$AU27,$C$47:$AJ$50,"<>")) -> 0
C28: =_xlfn.LET(_xlpm.v,'Week 2'!D11,IF(_xlpm.v="","",_xlpm.v)) | H28: =_xlfn.LET(_xlpm.v,'Week 2'!L11,IF(_xlpm.v="","",_xlpm.v)) | M28: =_xlfn.LET(_xlpm.v,'Week 2'!T11,IF(_xlpm.v="","",_xlpm.v)) | R28: =_xlfn.LET(_xlpm.v,'Week 2'!AB11,IF(_xlpm.v="","",_xlpm.v)) | W28: =_xlfn.LET(_xlpm.v,'Week 2'!D42,IF(_xlpm.v="","",_xlpm.v)) | AB28: =_xlfn.LET(_xlpm.v,'Week 2'!L42,IF(_xlpm.v="","",_xlpm.v)) | AG28: =_xlfn.LET(_xlpm.v,'Week 2'!T42,IF(_xlpm.v="","",_xlpm.v)) | AN28: {=INDIRECT(ADDRESS(21+5*ROUNDDOWN((ROW()-11)/7,0),2+MOD(ROW()-11,7)*5))} -> 46208 | AO28: {=INDIRECT(ADDRESS(ROW($AU$10)+ROUNDDOWN((ROW()-11)/7,0),COLUMN($AU$10)+MOD(ROW()-11,7)))} -> 0 | AP28: {=INDIRECT(ADDRESS(ROW($AU$18)+ROUNDDOWN((ROW()-11)/7,0),COLUMN($AU$18)+MOD(ROW()-11,7)))} -> 0 | AQ28: 46208 | AR28: 0 | AS28: 0 | AU28: =Setup!G7 -> Back | AV28: =SUM(COUNTIFS($C$22:$AJ$25,$AU28,$C$22:$AJ$25,"<>"),COUNTIFS($C$27:$AJ$30,$AU28,$C$27:$AJ$30,"<>"),COUNTIFS($C$32:$AJ$35,$AU28,$C$32:$AJ$35,"<>"),COUNTIFS($C$37:$AJ$40,$AU28,$C$37:$AJ$40,"<>"),COUNTIFS($C$42:$AJ$45,$AU28,$C$42:$AJ$45,"<>"),COUNTIFS($C$47:$AJ$50,$AU28,$C$47:$AJ$50,"<>")) -> 0
C29: =_xlfn.LET(_xlpm.v,'Week 2'!D12,IF(_xlpm.v="","",_xlpm.v)) | H29: =_xlfn.LET(_xlpm.v,'Week 2'!L12,IF(_xlpm.v="","",_xlpm.v)) | M29: =_xlfn.LET(_xlpm.v,'Week 2'!T12,IF(_xlpm.v="","",_xlpm.v)) | R29: =_xlfn.LET(_xlpm.v,'Week 2'!AB12,IF(_xlpm.v="","",_xlpm.v)) | W29: =_xlfn.LET(_xlpm.v,'Week 2'!D43,IF(_xlpm.v="","",_xlpm.v)) | AB29: =_xlfn.LET(_xlpm.v,'Week 2'!L43,IF(_xlpm.v="","",_xlpm.v)) | AG29: =_xlfn.LET(_xlpm.v,'Week 2'!T43,IF(_xlpm.v="","",_xlpm.v)) | AN29: {=INDIRECT(ADDRESS(21+5*ROUNDDOWN((ROW()-11)/7,0),2+MOD(ROW()-11,7)*5))} -> 46209 | AO29: {=INDIRECT(ADDRESS(ROW($AU$10)+ROUNDDOWN((ROW()-11)/7,0),COLUMN($AU$10)+MOD(ROW()-11,7)))} -> 0 | AP29: {=INDIRECT(ADDRESS(ROW($AU$18)+ROUNDDOWN((ROW()-11)/7,0),COLUMN($AU$18)+MOD(ROW()-11,7)))} -> 0 | AQ29: 46209 | AR29: 0 | AS29: 0 | AU29: =Setup!K7 -> Shoulders | AV29: =SUM(COUNTIFS($C$22:$AJ$25,$AU29,$C$22:$AJ$25,"<>"),COUNTIFS($C$27:$AJ$30,$AU29,$C$27:$AJ$30,"<>"),COUNTIFS($C$32:$AJ$35,$AU29,$C$32:$AJ$35,"<>"),COUNTIFS($C$37:$AJ$40,$AU29,$C$37:$AJ$40,"<>"),COUNTIFS($C$42:$AJ$45,$AU29,$C$42:$AJ$45,"<>"),COUNTIFS($C$47:$AJ$50,$AU29,$C$47:$AJ$50,"<>")) -> 0 | AY29: =Setup!$O$4 -> 46191
C30: =IF(COUNTIF('Week 2'!C31:C35,"<>")>0,"Cardio","") | H30: =IF(COUNTIF('Week 2'!K31:K35,"<>")>0,"Cardio","") | M30: =IF(COUNTIF('Week 2'!S31:S35,"<>")>0,"Cardio","") | R30: =IF(COUNTIF('Week 2'!AA31:AA35,"<>")>0,"Cardio","") | W30: =IF(COUNTIF('Week 2'!C62:C66,"<>")>0,"Cardio","") | AB30: =IF(COUNTIF('Week 2'!K62:K66,"<>")>0,"Cardio","") | AG30: =IF(COUNTIF('Week 2'!S62:S66,"<>")>0,"Cardio","") | AN30: {=INDIRECT(ADDRESS(21+5*ROUNDDOWN((ROW()-11)/7,0),2+MOD(ROW()-11,7)*5))} -> 46210 | AO30: {=INDIRECT(ADDRESS(ROW($AU$10)+ROUNDDOWN((ROW()-11)/7,0),COLUMN($AU$10)+MOD(ROW()-11,7)))} -> 0 | AP30: {=INDIRECT(ADDRESS(ROW($AU$18)+ROUNDDOWN((ROW()-11)/7,0),COLUMN($AU$18)+MOD(ROW()-11,7)))} -> 0 | AQ30: 46210 | AR30: 0 | AS30: 0 | AU30: =Setup!O7 -> Abs | AV30: =SUM(COUNTIFS($C$22:$AJ$25,$AU30,$C$22:$AJ$25,"<>"),COUNTIFS($C$27:$AJ$30,$AU30,$C$27:$AJ$30,"<>"),COUNTIFS($C$32:$AJ$35,$AU30,$C$32:$AJ$35,"<>"),COUNTIFS($C$37:$AJ$40,$AU30,$C$37:$AJ$40,"<>"),COUNTIFS($C$42:$AJ$45,$AU30,$C$42:$AJ$45,"<>"),COUNTIFS($C$47:$AJ$50,$AU30,$C$47:$AJ$50,"<>")) -> 0
B31: =B21+14 -> 46205 | C31: =IF('Week 3'!D9="✓","REST DAY ","") | G31: =B21+15 -> 46206 | H31: =IF('Week 3'!L9="✓","REST DAY ","") | L31: =B21+16 -> 46207 | M31: =IF('Week 3'!T9="✓","REST DAY ","") | Q31: =B21+17 -> 46208 | R31: =IF('Week 3'!AB9="✓","REST DAY ","") | V31: =B21+18 -> 46209 | W31: =IF('Week 3'!D40="✓","REST DAY ","") | AA31: =B21+19 -> 46210 | AB31: =IF('Week 3'!L40="✓","REST DAY ","") | AF31: =B21+20 -> 46211 | AG31: =IF('Week 3'!T40="✓","REST DAY ","") | AN31: {=INDIRECT(ADDRESS(21+5*ROUNDDOWN((ROW()-11)/7,0),2+MOD(ROW()-11,7)*5))} -> 46211 | AO31: {=INDIRECT(ADDRESS(ROW($AU$10)+ROUNDDOWN((ROW()-11)/7,0),COLUMN($AU$10)+MOD(ROW()-11,7)))} -> 0 | AP31: {=INDIRECT(ADDRESS(ROW($AU$18)+ROUNDDOWN((ROW()-11)/7,0),COLUMN($AU$18)+MOD(ROW()-11,7)))} -> 0 | AQ31: 46211 | AR31: 0 | AS31: 0 | AU31: =Setup!S7 -> Legs | AV31: =SUM(COUNTIFS($C$22:$AJ$25,$AU31,$C$22:$AJ$25,"<>"),COUNTIFS($C$27:$AJ$30,$AU31,$C$27:$AJ$30,"<>"),COUNTIFS($C$32:$AJ$35,$AU31,$C$32:$AJ$35,"<>"),COUNTIFS($C$37:$AJ$40,$AU31,$C$37:$AJ$40,"<>"),COUNTIFS($C$42:$AJ$45,$AU31,$C$42:$AJ$45,"<>"),COUNTIFS($C$47:$AJ$50,$AU31,$C$47:$AJ$50,"<>")) -> 0
C32: =_xlfn.LET(_xlpm.v,'Week 3'!D10,IF(_xlpm.v="","",_xlpm.v)) | H32: =_xlfn.LET(_xlpm.v,'Week 3'!L10,IF(_xlpm.v="","",_xlpm.v)) | M32: =_xlfn.LET(_xlpm.v,'Week 3'!T10,IF(_xlpm.v="","",_xlpm.v)) | R32: =_xlfn.LET(_xlpm.v,'Week 3'!AB10,IF(_xlpm.v="","",_xlpm.v)) | W32: =_xlfn.LET(_xlpm.v,'Week 3'!D41,IF(_xlpm.v="","",_xlpm.v)) | AB32: =_xlfn.LET(_xlpm.v,'Week 3'!L41,IF(_xlpm.v="","",_xlpm.v)) | AG32: =_xlfn.LET(_xlpm.v,'Week 3'!T41,IF(_xlpm.v="","",_xlpm.v)) | AK32: =IFERROR((COUNTIF($B$32:$B$35,"✓")+COUNTIF($G$32:$G$35,"✓")+COUNTIF($L$32:$L$35,"✓")+COUNTIF($Q$32:$Q$35,"✓")+COUNTIF($V$32:$V$35,"✓")+COUNTIF($AA$32:$AA$35,"✓")+COUNTIF($AF$32:$AF$35,"✓"))/(28-(COUNTIF($C$32:$C$35,"")+COUNTIF($H$32:$H$35,"")+COUNTIF($M$32:$M$35,"")+COUNTIF($R$32:$R$35,"")+COUNTIF($W$32:$W$35,"")+COUNTIF($AB$32:$AB$35,"")+COUNTIF($AG$32:$AG$35,""))),0) -> 0 | AL32: =AK32 -> 0 | AN32: {=INDIRECT(ADDRESS(21+5*ROUNDDOWN((ROW()-11)/7,0),2+MOD(ROW()-11,7)*5))} -> 46212 | AO32: {=INDIRECT(ADDRESS(ROW($AU$10)+ROUNDDOWN((ROW()-11)/7,0),COLUMN($AU$10)+MOD(ROW()-11,7)))} -> 0 | AP32: {=INDIRECT(ADDRESS(ROW($AU$18)+ROUNDDOWN((ROW()-11)/7,0),COLUMN($AU$18)+MOD(ROW()-11,7)))} -> 0 | AQ32: 46212 | AR32: 0 | AS32: 0 | AU32: =Setup!W7 -> Chest | AV32: =SUM(COUNTIFS($C$22:$AJ$25,$AU32,$C$22:$AJ$25,"<>"),COUNTIFS($C$27:$AJ$30,$AU32,$C$27:$AJ$30,"<>"),COUNTIFS($C$32:$AJ$35,$AU32,$C$32:$AJ$35,"<>"),COUNTIFS($C$37:$AJ$40,$AU32,$C$37:$AJ$40,"<>"),COUNTIFS($C$42:$AJ$45,$AU32,$C$42:$AJ$45,"<>"),COUNTIFS($C$47:$AJ$50,$AU32,$C$47:$AJ$50,"<>")) -> 0
C33: =_xlfn.LET(_xlpm.v,'Week 3'!D11,IF(_xlpm.v="","",_xlpm.v)) | H33: =_xlfn.LET(_xlpm.v,'Week 3'!L11,IF(_xlpm.v="","",_xlpm.v)) | M33: =_xlfn.LET(_xlpm.v,'Week 3'!T11,IF(_xlpm.v="","",_xlpm.v)) | R33: =_xlfn.LET(_xlpm.v,'Week 3'!AB11,IF(_xlpm.v="","",_xlpm.v)) | W33: =_xlfn.LET(_xlpm.v,'Week 3'!D42,IF(_xlpm.v="","",_xlpm.v)) | AB33: =_xlfn.LET(_xlpm.v,'Week 3'!L42,IF(_xlpm.v="","",_xlpm.v)) | AG33: =_xlfn.LET(_xlpm.v,'Week 3'!T42,IF(_xlpm.v="","",_xlpm.v)) | AN33: {=INDIRECT(ADDRESS(21+5*ROUNDDOWN((ROW()-11)/7,0),2+MOD(ROW()-11,7)*5))} -> 46213 | AO33: {=INDIRECT(ADDRESS(ROW($AU$10)+ROUNDDOWN((ROW()-11)/7,0),COLUMN($AU$10)+MOD(ROW()-11,7)))} -> 0 | AP33: {=INDIRECT(ADDRESS(ROW($AU$18)+ROUNDDOWN((ROW()-11)/7,0),COLUMN($AU$18)+MOD(ROW()-11,7)))} -> 0 | AQ33: 46213 | AR33: 0 | AS33: 0 | AU33: =Setup!C40 -> Arm | AV33: =SUM(COUNTIFS($C$22:$AJ$25,$AU33,$C$22:$AJ$25,"<>"),COUNTIFS($C$27:$AJ$30,$AU33,$C$27:$AJ$30,"<>"),COUNTIFS($C$32:$AJ$35,$AU33,$C$32:$AJ$35,"<>"),COUNTIFS($C$37:$AJ$40,$AU33,$C$37:$AJ$40,"<>"),COUNTIFS($C$42:$AJ$45,$AU33,$C$42:$AJ$45,"<>"),COUNTIFS($C$47:$AJ$50,$AU33,$C$47:$AJ$50,"<>")) -> 0
C34: =_xlfn.LET(_xlpm.v,'Week 3'!D12,IF(_xlpm.v="","",_xlpm.v)) | H34: =_xlfn.LET(_xlpm.v,'Week 3'!L12,IF(_xlpm.v="","",_xlpm.v)) | M34: =_xlfn.LET(_xlpm.v,'Week 3'!T12,IF(_xlpm.v="","",_xlpm.v)) | R34: =_xlfn.LET(_xlpm.v,'Week 3'!AB12,IF(_xlpm.v="","",_xlpm.v)) | W34: =_xlfn.LET(_xlpm.v,'Week 3'!D43,IF(_xlpm.v="","",_xlpm.v)) | AB34: =_xlfn.LET(_xlpm.v,'Week 3'!L43,IF(_xlpm.v="","",_xlpm.v)) | AG34: =_xlfn.LET(_xlpm.v,'Week 3'!T43,IF(_xlpm.v="","",_xlpm.v)) | AN34: {=INDIRECT(ADDRESS(21+5*ROUNDDOWN((ROW()-11)/7,0),2+MOD(ROW()-11,7)*5))} -> 46214 | AO34: {=INDIRECT(ADDRESS(ROW($AU$10)+ROUNDDOWN((ROW()-11)/7,0),COLUMN($AU$10)+MOD(ROW()-11,7)))} -> 0 | AP34: {=INDIRECT(ADDRESS(ROW($AU$18)+ROUNDDOWN((ROW()-11)/7,0),COLUMN($AU$18)+MOD(ROW()-11,7)))} -> 0 | AQ34: 46214 | AR34: 0 | AS34: 0 | AU34: =Setup!G40 -> Glute | AV34: =SUM(COUNTIFS($C$22:$AJ$25,$AU34,$C$22:$AJ$25,"<>"),COUNTIFS($C$27:$AJ$30,$AU34,$C$27:$AJ$30,"<>"),COUNTIFS($C$32:$AJ$35,$AU34,$C$32:$AJ$35,"<>"),COUNTIFS($C$37:$AJ$40,$AU34,$C$37:$AJ$40,"<>"),COUNTIFS($C$42:$AJ$45,$AU34,$C$42:$AJ$45,"<>"),COUNTIFS($C$47:$AJ$50,$AU34,$C$47:$AJ$50,"<>")) -> 0
C35: =IF(COUNTIF('Week 3'!C31:C35,"<>")>0,"Cardio","") | H35: =IF(COUNTIF('Week 3'!K31:K35,"<>")>0,"Cardio","") | M35: =IF(COUNTIF('Week 3'!S31:S35,"<>")>0,"Cardio","") | R35: =IF(COUNTIF('Week 3'!AA31:AA35,"<>")>0,"Cardio","") | W35: =IF(COUNTIF('Week 3'!C62:C66,"<>")>0,"Cardio","") | AB35: =IF(COUNTIF('Week 3'!K62:K66,"<>")>0,"Cardio","") | AG35: =IF(COUNTIF('Week 3'!S62:S66,"<>")>0,"Cardio","") | AN35: {=INDIRECT(ADDRESS(21+5*ROUNDDOWN((ROW()-11)/7,0),2+MOD(ROW()-11,7)*5))} -> 46215 | AO35: {=INDIRECT(ADDRESS(ROW($AU$10)+ROUNDDOWN((ROW()-11)/7,0),COLUMN($AU$10)+MOD(ROW()-11,7)))} -> 0 | AP35: {=INDIRECT(ADDRESS(ROW($AU$18)+ROUNDDOWN((ROW()-11)/7,0),COLUMN($AU$18)+MOD(ROW()-11,7)))} -> 0 | AQ35: 46215 | AR35: 0 | AS35: 0 | AU35: =Setup!K40 -> 0 | AV35: =SUM(COUNTIFS($C$22:$AJ$25,$AU35,$C$22:$AJ$25,"<>"),COUNTIFS($C$27:$AJ$30,$AU35,$C$27:$AJ$30,"<>"),COUNTIFS($C$32:$AJ$35,$AU35,$C$32:$AJ$35,"<>"),COUNTIFS($C$37:$AJ$40,$AU35,$C$37:$AJ$40,"<>"),COUNTIFS($C$42:$AJ$45,$AU35,$C$42:$AJ$45,"<>"),COUNTIFS($C$47:$AJ$50,$AU35,$C$47:$AJ$50,"<>")) -> 0
B36: =B21+21 -> 46212 | C36: =IF('Week 4'!D9="✓","REST DAY ","") | G36: =B21+22 -> 46213 | H36: =IF('Week 4'!L9="✓","REST DAY ","") | L36: =B21+23 -> 46214 | M36: =IF('Week 4'!T9="✓","REST DAY ","") | Q36: =B21+24 -> 46215 | R36: =IF('Week 4'!AB9="✓","REST DAY ","") | V36: =B21+25 -> 46216 | W36: =IF('Week 4'!D40="✓","REST DAY ","") | AA36: =B21+26 -> 46217 | AB36: =IF('Week 4'!L40="✓","REST DAY ","") | AF36: =B21+27 -> 46218 | AG36: =IF('Week 4'!T40="✓","REST DAY ","") | AN36: {=INDIRECT(ADDRESS(21+5*ROUNDDOWN((ROW()-11)/7,0),2+MOD(ROW()-11,7)*5))} -> 46216 | AO36: {=INDIRECT(ADDRESS(ROW($AU$10)+ROUNDDOWN((ROW()-11)/7,0),COLUMN($AU$10)+MOD(ROW()-11,7)))} -> 0 | AP36: {=INDIRECT(ADDRESS(ROW($AU$18)+ROUNDDOWN((ROW()-11)/7,0),COLUMN($AU$18)+MOD(ROW()-11,7)))} -> 0 | AQ36: 46216 | AR36: 0 | AS36: 0 | AU36: =Setup!O40 -> 0 | AV36: =SUM(COUNTIFS($C$22:$AJ$25,$AU36,$C$22:$AJ$25,"<>"),COUNTIFS($C$27:$AJ$30,$AU36,$C$27:$AJ$30,"<>"),COUNTIFS($C$32:$AJ$35,$AU36,$C$32:$AJ$35,"<>"),COUNTIFS($C$37:$AJ$40,$AU36,$C$37:$AJ$40,"<>"),COUNTIFS($C$42:$AJ$45,$AU36,$C$42:$AJ$45,"<>"),COUNTIFS($C$47:$AJ$50,$AU36,$C$47:$AJ$50,"<>")) -> 0
C37: =_xlfn.LET(_xlpm.v,'Week 4'!D10,IF(_xlpm.v="","",_xlpm.v)) | H37: =_xlfn.LET(_xlpm.v,'Week 4'!L10,IF(_xlpm.v="","",_xlpm.v)) | M37: =_xlfn.LET(_xlpm.v,'Week 4'!T10,IF(_xlpm.v="","",_xlpm.v)) | R37: =_xlfn.LET(_xlpm.v,'Week 4'!AB10,IF(_xlpm.v="","",_xlpm.v)) | W37: =_xlfn.LET(_xlpm.v,'Week 4'!D41,IF(_xlpm.v="","",_xlpm.v)) | AB37: =_xlfn.LET(_xlpm.v,'Week 4'!L41,IF(_xlpm.v="","",_xlpm.v)) | AG37: =_xlfn.LET(_xlpm.v,'Week 4'!T41,IF(_xlpm.v="","",_xlpm.v)) | AK37: =IFERROR((COUNTIF($B$37:$B$40,"✓")+COUNTIF($G$37:$G$40,"✓")+COUNTIF($L$37:$L$40,"✓")+COUNTIF($Q$37:$Q$40,"✓")+COUNTIF($V$37:$V$40,"✓")+COUNTIF($AA$37:$AA$40,"✓")+COUNTIF($AF$37:$AF$40,"✓"))/(28-(COUNTIF($C$37:$C$40,"")+COUNTIF($H$37:$H$40,"")+COUNTIF($M$37:$M$40,"")+COUNTIF($R$37:$R$40,"")+COUNTIF($W$37:$W$40,"")+COUNTIF($AB$37:$AB$40,"")+COUNTIF($AG$37:$AG$40,""))),0) -> 0 | AL37: =AK37 -> 0 | AN37: {=INDIRECT(ADDRESS(21+5*ROUNDDOWN((ROW()-11)/7,0),2+MOD(ROW()-11,7)*5))} -> 46217 | AO37: {=INDIRECT(ADDRESS(ROW($AU$10)+ROUNDDOWN((ROW()-11)/7,0),COLUMN($AU$10)+MOD(ROW()-11,7)))} -> 0 | AP37: {=INDIRECT(ADDRESS(ROW($AU$18)+ROUNDDOWN((ROW()-11)/7,0),COLUMN($AU$18)+MOD(ROW()-11,7)))} -> 0 | AQ37: 46217 | AR37: 0 | AS37: 0 | AU37: =Setup!S40 -> 0 | AV37: =SUM(COUNTIFS($C$22:$AJ$25,$AU37,$C$22:$AJ$25,"<>"),COUNTIFS($C$27:$AJ$30,$AU37,$C$27:$AJ$30,"<>"),COUNTIFS($C$32:$AJ$35,$AU37,$C$32:$AJ$35,"<>"),COUNTIFS($C$37:$AJ$40,$AU37,$C$37:$AJ$40,"<>"),COUNTIFS($C$42:$AJ$45,$AU37,$C$42:$AJ$45,"<>"),COUNTIFS($C$47:$AJ$50,$AU37,$C$47:$AJ$50,"<>")) -> 0
C38: =_xlfn.LET(_xlpm.v,'Week 4'!D11,IF(_xlpm.v="","",_xlpm.v)) | H38: =_xlfn.LET(_xlpm.v,'Week 4'!L11,IF(_xlpm.v="","",_xlpm.v)) | M38: =_xlfn.LET(_xlpm.v,'Week 4'!T11,IF(_xlpm.v="","",_xlpm.v)) | R38: =_xlfn.LET(_xlpm.v,'Week 4'!AB11,IF(_xlpm.v="","",_xlpm.v)) | W38: =_xlfn.LET(_xlpm.v,'Week 4'!D42,IF(_xlpm.v="","",_xlpm.v)) | AB38: =_xlfn.LET(_xlpm.v,'Week 4'!L42,IF(_xlpm.v="","",_xlpm.v)) | AG38: =_xlfn.LET(_xlpm.v,'Week 4'!T42,IF(_xlpm.v="","",_xlpm.v)) | AN38: {=INDIRECT(ADDRESS(21+5*ROUNDDOWN((ROW()-11)/7,0),2+MOD(ROW()-11,7)*5))} -> 46218 | AO38: {=INDIRECT(ADDRESS(ROW($AU$10)+ROUNDDOWN((ROW()-11)/7,0),COLUMN($AU$10)+MOD(ROW()-11,7)))} -> 0 | AP38: {=INDIRECT(ADDRESS(ROW($AU$18)+ROUNDDOWN((ROW()-11)/7,0),COLUMN($AU$18)+MOD(ROW()-11,7)))} -> 0 | AQ38: 46218 | AR38: 0 | AS38: 0 | AU38: =Setup!W40 -> 0 | AV38: =SUM(COUNTIFS($C$22:$AJ$25,$AU38,$C$22:$AJ$25,"<>"),COUNTIFS($C$27:$AJ$30,$AU38,$C$27:$AJ$30,"<>"),COUNTIFS($C$32:$AJ$35,$AU38,$C$32:$AJ$35,"<>"),COUNTIFS($C$37:$AJ$40,$AU38,$C$37:$AJ$40,"<>"),COUNTIFS($C$42:$AJ$45,$AU38,$C$42:$AJ$45,"<>"),COUNTIFS($C$47:$AJ$50,$AU38,$C$47:$AJ$50,"<>")) -> 0
C39: =_xlfn.LET(_xlpm.v,'Week 4'!D12,IF(_xlpm.v="","",_xlpm.v)) | H39: =_xlfn.LET(_xlpm.v,'Week 4'!L12,IF(_xlpm.v="","",_xlpm.v)) | M39: =_xlfn.LET(_xlpm.v,'Week 4'!T12,IF(_xlpm.v="","",_xlpm.v)) | R39: =_xlfn.LET(_xlpm.v,'Week 4'!AB12,IF(_xlpm.v="","",_xlpm.v)) | W39: =_xlfn.LET(_xlpm.v,'Week 4'!D43,IF(_xlpm.v="","",_xlpm.v)) | AB39: =_xlfn.LET(_xlpm.v,'Week 4'!L43,IF(_xlpm.v="","",_xlpm.v)) | AG39: =_xlfn.LET(_xlpm.v,'Week 4'!T43,IF(_xlpm.v="","",_xlpm.v)) | AN39: {=INDIRECT(ADDRESS(21+5*ROUNDDOWN((ROW()-11)/7,0),2+MOD(ROW()-11,7)*5))} -> 46219 | AO39: {=INDIRECT(ADDRESS(ROW($AU$10)+ROUNDDOWN((ROW()-11)/7,0),COLUMN($AU$10)+MOD(ROW()-11,7)))} -> 0 | AP39: {=INDIRECT(ADDRESS(ROW($AU$18)+ROUNDDOWN((ROW()-11)/7,0),COLUMN($AU$18)+MOD(ROW()-11,7)))} -> 0 | AQ39: 46219 | AR39: 0 | AS39: 0
C40: =IF(COUNTIF('Week 4'!C31:C35,"<>")>0,"Cardio","") | H40: =IF(COUNTIF('Week 4'!K31:K35,"<>")>0,"Cardio","") | M40: =IF(COUNTIF('Week 4'!S31:S35,"<>")>0,"Cardio","") | R40: =IF(COUNTIF('Week 4'!AA31:AA35,"<>")>0,"Cardio","") | W40: =IF(COUNTIF('Week 4'!C62:C66,"<>")>0,"Cardio","") | AB40: =IF(COUNTIF('Week 4'!K62:K66,"<>")>0,"Cardio","") | AG40: =IF(COUNTIF('Week 4'!S62:S66,"<>")>0,"Cardio","") | AN40: {=INDIRECT(ADDRESS(21+5*ROUNDDOWN((ROW()-11)/7,0),2+MOD(ROW()-11,7)*5))} -> 46220 | AO40: {=INDIRECT(ADDRESS(ROW($AU$10)+ROUNDDOWN((ROW()-11)/7,0),COLUMN($AU$10)+MOD(ROW()-11,7)))} -> 0 | AP40: {=INDIRECT(ADDRESS(ROW($AU$18)+ROUNDDOWN((ROW()-11)/7,0),COLUMN($AU$18)+MOD(ROW()-11,7)))} -> 0 | AQ40: 46220 | AR40: 0 | AS40: 0
B41: =B21+28 -> 46219 | C41: =IF('Week 5'!D9="✓","REST DAY ","") | G41: =B21+29 -> 46220 | H41: =IF('Week 5'!L9="✓","REST DAY ","") | L41: =B21+30 -> 46221 | M41: =IF('Week 5'!T9="✓","REST DAY ","") | Q41: =B21+31 -> 46222 | R41: =IF('Week 5'!AB9="✓","REST DAY ","") | V41: =B21+32 -> 46223 | W41: =IF('Week 5'!D40="✓","REST DAY ","") | AA41: =B21+33 -> 46224 | AB41: =IF('Week 5'!L40="✓","REST DAY ","") | AF41: =B21+34 -> 46225 | AG41: =IF('Week 5'!T40="✓","REST DAY ","") | AN41: {=INDIRECT(ADDRESS(21+5*ROUNDDOWN((ROW()-11)/7,0),2+MOD(ROW()-11,7)*5))} -> 46221 | AO41: {=INDIRECT(ADDRESS(ROW($AU$10)+ROUNDDOWN((ROW()-11)/7,0),COLUMN($AU$10)+MOD(ROW()-11,7)))} -> 0 | AP41: {=INDIRECT(ADDRESS(ROW($AU$18)+ROUNDDOWN((ROW()-11)/7,0),COLUMN($AU$18)+MOD(ROW()-11,7)))} -> 0 | AQ41: 46221 | AR41: 0 | AS41: 0
C42: =_xlfn.LET(_xlpm.v,'Week 5'!D10,IF(_xlpm.v="","",_xlpm.v)) | H42: =_xlfn.LET(_xlpm.v,'Week 5'!L10,IF(_xlpm.v="","",_xlpm.v)) | M42: =_xlfn.LET(_xlpm.v,'Week 5'!T10,IF(_xlpm.v="","",_xlpm.v)) | R42: =_xlfn.LET(_xlpm.v,'Week 5'!AB10,IF(_xlpm.v="","",_xlpm.v)) | W42: =_xlfn.LET(_xlpm.v,'Week 5'!D41,IF(_xlpm.v="","",_xlpm.v)) | AB42: =_xlfn.LET(_xlpm.v,'Week 5'!L41,IF(_xlpm.v="","",_xlpm.v)) | AG42: =_xlfn.LET(_xlpm.v,'Week 5'!T41,IF(_xlpm.v="","",_xlpm.v)) | AK42: =IFERROR((COUNTIF($B$42:$B$45,"✓")+COUNTIF($G$42:$G$45,"✓")+COUNTIF($L$42:$L$45,"✓")+COUNTIF($Q$42:$Q$45,"✓")+COUNTIF($V$42:$V$45,"✓")+COUNTIF($AA$42:$AA$45,"✓")+COUNTIF($AF$42:$AF$45,"✓"))/(28-(COUNTIF($C$42:$C$45,"")+COUNTIF($H$42:$H$45,"")+COUNTIF($M$42:$M$45,"")+COUNTIF($R$42:$R$45,"")+COUNTIF($W$42:$W$45,"")+COUNTIF($AB$42:$AB$45,"")+COUNTIF($AG$42:$AG$45,""))),0) -> 0 | AL42: =AK42 -> 0 | AN42: {=INDIRECT(ADDRESS(21+5*ROUNDDOWN((ROW()-11)/7,0),2+MOD(ROW()-11,7)*5))} -> 46222 | AO42: {=INDIRECT(ADDRESS(ROW($AU$10)+ROUNDDOWN((ROW()-11)/7,0),COLUMN($AU$10)+MOD(ROW()-11,7)))} -> 0 | AP42: {=INDIRECT(ADDRESS(ROW($AU$18)+ROUNDDOWN((ROW()-11)/7,0),COLUMN($AU$18)+MOD(ROW()-11,7)))} -> 0 | AQ42: 46222 | AR42: 0 | AS42: 0
C43: =_xlfn.LET(_xlpm.v,'Week 5'!D11,IF(_xlpm.v="","",_xlpm.v)) | H43: =_xlfn.LET(_xlpm.v,'Week 5'!L11,IF(_xlpm.v="","",_xlpm.v)) | M43: =_xlfn.LET(_xlpm.v,'Week 5'!T11,IF(_xlpm.v="","",_xlpm.v)) | R43: =_xlfn.LET(_xlpm.v,'Week 5'!AB11,IF(_xlpm.v="","",_xlpm.v)) | W43: =_xlfn.LET(_xlpm.v,'Week 5'!D42,IF(_xlpm.v="","",_xlpm.v)) | AB43: =_xlfn.LET(_xlpm.v,'Week 5'!L42,IF(_xlpm.v="","",_xlpm.v)) | AG43: =_xlfn.LET(_xlpm.v,'Week 5'!T42,IF(_xlpm.v="","",_xlpm.v)) | AN43: {=INDIRECT(ADDRESS(21+5*ROUNDDOWN((ROW()-11)/7,0),2+MOD(ROW()-11,7)*5))} -> 46223 | AO43: {=INDIRECT(ADDRESS(ROW($AU$10)+ROUNDDOWN((ROW()-11)/7,0),COLUMN($AU$10)+MOD(ROW()-11,7)))} -> 0 | AP43: {=INDIRECT(ADDRESS(ROW($AU$18)+ROUNDDOWN((ROW()-11)/7,0),COLUMN($AU$18)+MOD(ROW()-11,7)))} -> 0 | AQ43: 46223 | AR43: 0 | AS43: 0
C44: =_xlfn.LET(_xlpm.v,'Week 5'!D12,IF(_xlpm.v="","",_xlpm.v)) | H44: =_xlfn.LET(_xlpm.v,'Week 5'!L12,IF(_xlpm.v="","",_xlpm.v)) | M44: =_xlfn.LET(_xlpm.v,'Week 5'!T12,IF(_xlpm.v="","",_xlpm.v)) | R44: =_xlfn.LET(_xlpm.v,'Week 5'!AB12,IF(_xlpm.v="","",_xlpm.v)) | W44: =_xlfn.LET(_xlpm.v,'Week 5'!D43,IF(_xlpm.v="","",_xlpm.v)) | AB44: =_xlfn.LET(_xlpm.v,'Week 5'!L43,IF(_xlpm.v="","",_xlpm.v)) | AG44: =_xlfn.LET(_xlpm.v,'Week 5'!T43,IF(_xlpm.v="","",_xlpm.v)) | AN44: {=INDIRECT(ADDRESS(21+5*ROUNDDOWN((ROW()-11)/7,0),2+MOD(ROW()-11,7)*5))} -> 46224 | AO44: {=INDIRECT(ADDRESS(ROW($AU$10)+ROUNDDOWN((ROW()-11)/7,0),COLUMN($AU$10)+MOD(ROW()-11,7)))} -> 0 | AP44: {=INDIRECT(ADDRESS(ROW($AU$18)+ROUNDDOWN((ROW()-11)/7,0),COLUMN($AU$18)+MOD(ROW()-11,7)))} -> 0 | AQ44: 46224 | AR44: 0 | AS44: 0
C45: =IF(COUNTIF('Week 5'!C31:C35,"<>")>0,"Cardio","") | H45: =IF(COUNTIF('Week 5'!K31:K35,"<>")>0,"Cardio","") | M45: =IF(COUNTIF('Week 5'!S31:S35,"<>")>0,"Cardio","") | R45: =IF(COUNTIF('Week 5'!AA31:AA35,"<>")>0,"Cardio","") | W45: =IF(COUNTIF('Week 5'!C62:C66,"<>")>0,"Cardio","") | AB45: =IF(COUNTIF('Week 5'!K62:K66,"<>")>0,"Cardio","") | AG45: =IF(COUNTIF('Week 5'!S62:S66,"<>")>0,"Cardio","") | AN45: {=INDIRECT(ADDRESS(21+5*ROUNDDOWN((ROW()-11)/7,0),2+MOD(ROW()-11,7)*5))} -> 46225 | AO45: {=INDIRECT(ADDRESS(ROW($AU$10)+ROUNDDOWN((ROW()-11)/7,0),COLUMN($AU$10)+MOD(ROW()-11,7)))} -> 0 | AP45: {=INDIRECT(ADDRESS(ROW($AU$18)+ROUNDDOWN((ROW()-11)/7,0),COLUMN($AU$18)+MOD(ROW()-11,7)))} -> 0 | AQ45: 46225 | AR45: 0 | AS45: 0
B46: =B21+35 -> 46226 | C46: =IF('Week 6'!D9="✓","REST DAY ","") | G46: =B21+36 -> 46227 | H46: =IF('Week 6'!L9="✓","REST DAY ","") | L46: =B21+37 -> 46228 | M46: =IF('Week 6'!T9="✓","REST DAY ","") | Q46: =B21+38 -> 46229 | R46: =IF('Week 6'!AB9="✓","REST DAY ","") | V46: =B21+39 -> 46230 | W46: =IF('Week 6'!D40="✓","REST DAY ","") | AA46: =B21+40 -> 46231 | AB46: =IF('Week 6'!L40="✓","REST DAY ","") | AF46: =B21+41 -> 46232 | AG46: =IF('Week 6'!T40="✓","REST DAY ","") | AN46: {=INDIRECT(ADDRESS(21+5*ROUNDDOWN((ROW()-11)/7,0),2+MOD(ROW()-11,7)*5))} -> 46226 | AO46: {=INDIRECT(ADDRESS(ROW($AU$10)+ROUNDDOWN((ROW()-11)/7,0),COLUMN($AU$10)+MOD(ROW()-11,7)))} -> 0 | AP46: {=INDIRECT(ADDRESS(ROW($AU$18)+ROUNDDOWN((ROW()-11)/7,0),COLUMN($AU$18)+MOD(ROW()-11,7)))} -> 0 | AQ46: 46226 | AR46: 0 | AS46: 0
C47: =_xlfn.LET(_xlpm.v,'Week 6'!D10,IF(_xlpm.v="","",_xlpm.v)) | H47: =_xlfn.LET(_xlpm.v,'Week 6'!L10,IF(_xlpm.v="","",_xlpm.v)) | M47: =_xlfn.LET(_xlpm.v,'Week 6'!T10,IF(_xlpm.v="","",_xlpm.v)) | R47: =_xlfn.LET(_xlpm.v,'Week 6'!AB10,IF(_xlpm.v="","",_xlpm.v)) | W47: =_xlfn.LET(_xlpm.v,'Week 6'!D41,IF(_xlpm.v="","",_xlpm.v)) | AB47: =_xlfn.LET(_xlpm.v,'Week 6'!L41,IF(_xlpm.v="","",_xlpm.v)) | AG47: =_xlfn.LET(_xlpm.v,'Week 6'!T41,IF(_xlpm.v="","",_xlpm.v)) | AK47: =IFERROR((COUNTIF($B$47:$B$50,"✓")+COUNTIF($G$47:$G$50,"✓")+COUNTIF($L$47:$L$50,"✓")+COUNTIF($Q$47:$Q$50,"✓")+COUNTIF($V$47:$V$50,"✓")+COUNTIF($AA$47:$AA$50,"✓")+COUNTIF($AF$47:$AF$50,"✓"))/(28-(COUNTIF($C$47:$C$50,"")+COUNTIF($H$47:$H$50,"")+COUNTIF($M$47:$M$50,"")+COUNTIF($R$47:$R$50,"")+COUNTIF($W$47:$W$50,"")+COUNTIF($AB$47:$AB$50,"")+COUNTIF($AG$47:$AG$50,""))),0) -> 0 | AL47: =AK47 -> 0 | AN47: {=INDIRECT(ADDRESS(21+5*ROUNDDOWN((ROW()-11)/7,0),2+MOD(ROW()-11,7)*5))} -> 46227 | AO47: {=INDIRECT(ADDRESS(ROW($AU$10)+ROUNDDOWN((ROW()-11)/7,0),COLUMN($AU$10)+MOD(ROW()-11,7)))} -> 0 | AP47: {=INDIRECT(ADDRESS(ROW($AU$18)+ROUNDDOWN((ROW()-11)/7,0),COLUMN($AU$18)+MOD(ROW()-11,7)))} -> 0 | AQ47: 46227 | AR47: 0 | AS47: 0
C48: =_xlfn.LET(_xlpm.v,'Week 6'!D11,IF(_xlpm.v="","",_xlpm.v)) | H48: =_xlfn.LET(_xlpm.v,'Week 6'!L11,IF(_xlpm.v="","",_xlpm.v)) | M48: =_xlfn.LET(_xlpm.v,'Week 6'!T11,IF(_xlpm.v="","",_xlpm.v)) | R48: =_xlfn.LET(_xlpm.v,'Week 6'!AB11,IF(_xlpm.v="","",_xlpm.v)) | W48: =_xlfn.LET(_xlpm.v,'Week 6'!D42,IF(_xlpm.v="","",_xlpm.v)) | AB48: =_xlfn.LET(_xlpm.v,'Week 6'!L42,IF(_xlpm.v="","",_xlpm.v)) | AG48: =_xlfn.LET(_xlpm.v,'Week 6'!T42,IF(_xlpm.v="","",_xlpm.v)) | AN48: {=INDIRECT(ADDRESS(21+5*ROUNDDOWN((ROW()-11)/7,0),2+MOD(ROW()-11,7)*5))} -> 46228 | AO48: {=INDIRECT(ADDRESS(ROW($AU$10)+ROUNDDOWN((ROW()-11)/7,0),COLUMN($AU$10)+MOD(ROW()-11,7)))} -> 0 | AP48: {=INDIRECT(ADDRESS(ROW($AU$18)+ROUNDDOWN((ROW()-11)/7,0),COLUMN($AU$18)+MOD(ROW()-11,7)))} -> 0
C49: =_xlfn.LET(_xlpm.v,'Week 6'!D12,IF(_xlpm.v="","",_xlpm.v)) | H49: =_xlfn.LET(_xlpm.v,'Week 6'!L12,IF(_xlpm.v="","",_xlpm.v)) | M49: =_xlfn.LET(_xlpm.v,'Week 6'!T12,IF(_xlpm.v="","",_xlpm.v)) | R49: =_xlfn.LET(_xlpm.v,'Week 6'!AB12,IF(_xlpm.v="","",_xlpm.v)) | W49: =_xlfn.LET(_xlpm.v,'Week 6'!D43,IF(_xlpm.v="","",_xlpm.v)) | AB49: =_xlfn.LET(_xlpm.v,'Week 6'!L43,IF(_xlpm.v="","",_xlpm.v)) | AG49: =_xlfn.LET(_xlpm.v,'Week 6'!T43,IF(_xlpm.v="","",_xlpm.v)) | AN49: {=INDIRECT(ADDRESS(21+5*ROUNDDOWN((ROW()-11)/7,0),2+MOD(ROW()-11,7)*5))} -> 46229 | AO49: {=INDIRECT(ADDRESS(ROW($AU$10)+ROUNDDOWN((ROW()-11)/7,0),COLUMN($AU$10)+MOD(ROW()-11,7)))} -> 0 | AP49: {=INDIRECT(ADDRESS(ROW($AU$18)+ROUNDDOWN((ROW()-11)/7,0),COLUMN($AU$18)+MOD(ROW()-11,7)))} -> 0
C50: =IF(COUNTIF('Week 6'!C31:C35,"<>")>0,"Cardio","") | H50: =IF(COUNTIF('Week 6'!K31:K35,"<>")>0,"Cardio","") | M50: =IF(COUNTIF('Week 6'!S31:S35,"<>")>0,"Cardio","") | R50: =IF(COUNTIF('Week 6'!AA31:AA35,"<>")>0,"Cardio","") | W50: =IF(COUNTIF('Week 6'!C62:C66,"<>")>0,"Cardio","") | AB50: =IF(COUNTIF('Week 6'!K62:K66,"<>")>0,"Cardio","") | AG50: =IF(COUNTIF('Week 6'!S62:S66,"<>")>0,"Cardio","") | AN50: {=INDIRECT(ADDRESS(21+5*ROUNDDOWN((ROW()-11)/7,0),2+MOD(ROW()-11,7)*5))} -> 46230 | AO50: {=INDIRECT(ADDRESS(ROW($AU$10)+ROUNDDOWN((ROW()-11)/7,0),COLUMN($AU$10)+MOD(ROW()-11,7)))} -> 0 | AP50: {=INDIRECT(ADDRESS(ROW($AU$18)+ROUNDDOWN((ROW()-11)/7,0),COLUMN($AU$18)+MOD(ROW()-11,7)))} -> 0
AN51: {=INDIRECT(ADDRESS(21+5*ROUNDDOWN((ROW()-11)/7,0),2+MOD(ROW()-11,7)*5))} -> 46231 | AO51: {=INDIRECT(ADDRESS(ROW($AU$10)+ROUNDDOWN((ROW()-11)/7,0),COLUMN($AU$10)+MOD(ROW()-11,7)))} -> 0 | AP51: {=INDIRECT(ADDRESS(ROW($AU$18)+ROUNDDOWN((ROW()-11)/7,0),COLUMN($AU$18)+MOD(ROW()-11,7)))} -> 0
AN52: {=INDIRECT(ADDRESS(21+5*ROUNDDOWN((ROW()-11)/7,0),2+MOD(ROW()-11,7)*5))} -> 46232 | AO52: {=INDIRECT(ADDRESS(ROW($AU$10)+ROUNDDOWN((ROW()-11)/7,0),COLUMN($AU$10)+MOD(ROW()-11,7)))} -> 0 | AP52: {=INDIRECT(ADDRESS(ROW($AU$18)+ROUNDDOWN((ROW()-11)/7,0),COLUMN($AU$18)+MOD(ROW()-11,7)))} -> 0
AN54: {=INDIRECT(ADDRESS(17+5*ROUNDDOWN((ROW()-2)/7,0),2+MOD(ROW()-12,7)*5))} -> 0
AN55: {=INDIRECT(ADDRESS(17+5*ROUNDDOWN((ROW()-2)/7,0),2+MOD(ROW()-12,7)*5))} -> 0
B57: © 2025 Hey Morning. All rights reserved.
