Workbook
Name CALDAY1: _xludf.LAMBDA(INDIRECT("RC[-5]",FALSE)+1)
Name CALDAY2: _xludf.LAMBDA(INDIRECT("R[-5]C",FALSE)+7)
Name SPACINSHORTDAYS: _xludf.LAMBDA(day,_xludf.SWITCH(day,"MON","M O N","TUE","T U E","WED","W E D","THU","T H U","FRI","F R I","SAT","S A T","SUN","S U N"))
Name WEEKLYDAYTITLE: _xludf.LAMBDA(SPACINGDAYS(TEXT(INDIRECT("R[2]C[2]",FALSE),"DDDD")))
Name WEEKLYFIRSTDAY: _xludf.LAMBDA(INDIRECT("$A$1")+[1]Calendar!$AY$29)

Sheet Setup
C2: Setup | O2: SET YOUR START DATE | S2: ← The dates in the 6 weekly planners and the monthly calendar will automatically populate, starting from the date you select.
W3: TODAY IS
O4: 46191 | W4: =TODAY() -> 46045
C7: Cardio | G7: Back | K7: Shoulders | O7: Abs | S7: Legs | W7: Chest | AB7: =IF(Setup!$G$7="","",Setup!$G$7) -> Back | AC7: =IF(Setup!$K$7="","",Setup!$K$7) -> Shoulders | AD7: =IF(Setup!$O$7="","",Setup!$O$7) -> Abs | AE7: =IF(Setup!$S$7="","",Setup!$S$7) -> Legs | AF7: =IF(Setup!$W$7="","",Setup!$W$7) -> Chest | AG7: =IF(Setup!$C$40="","",Setup!$C$40) -> Arm | AH7: =IF(Setup!$G$40="","",Setup!$G$40) -> Glute | AI7: =IF(Setup!$K$40="","",Setup!$K$40) | AJ7: =IF(Setup!$O$40="","",Setup!$O$40) | AK7: =IF(Setup!$S$40="","",Setup!$S$40) | AL7: =IF(Setup!$W$40="","",Setup!$W$40)
AB8: {=G9:G38} -> Pull-Ups | AC8: {=Setup!$K$9:$K$38} -> Overhead Press | AD8: {=Setup!$O$9:$O$38} -> Ab Rollouts | AE8: {=Setup!$S$9:$S$38} -> Box Jumps | AF8: {=Setup!$W$9:$W$38} -> Smith Machine Bench Press | AG8: {=Setup!$C$42:$C$71} -> Barbell Bicep Curls | AH8: {=Setup!$G$42:$G$71} -> Deadlifts | AI8: {=Setup!$K$42:$K$71} -> 0 | AJ8: {=Setup!$O$42:$O$71} -> 0 | AK8: {=Setup!$S$42:$S$71} -> 0 | AL8: {=Setup!$W$42:$W$71} -> 0
C9: Running | G9: Pull-Ups | K9: Overhead Press | O9: Ab Rollouts | S9: Box Jumps | W9: Smith Machine Bench Press | AB9: Lat Pulldowns | AC9: Arnold Press | AD9: Toe Touches | AE9: Hack Squats | AF9: Bench Press | AG9: Dumbbell Bicep Curls | AH9: Glute Bridges | AI9: 0 | AJ9: 0 | AK9: 0 | AL9: 0
C10: Cycling | G10: Lat Pulldowns | K10: Arnold Press | O10: Toe Touches | S10: Hack Squats | W10: Bench Press | AB10: Bent-Over Rows | AC10: Lateral Raises | AD10: Windshield Wipers | AE10: Pistol Squats | AF10: Push-Ups | AG10: Hammer Curls | AH10: Lunges | AI10: 0 | AJ10: 0 | AK10: 0 | AL10: 0
C11: Swimming | G11: Bent-Over Rows | K11: Lateral Raises | O11: Windshield Wipers | S11: Pistol Squats | W11: Push-Ups | AB11: Deadlifts | AC11: Front Raises | AD11: Hanging Leg Raises | AE11: Glute Bridges | AF11: Incline Bench Press | AG11: Cable Curls | AH11: Bulgarian Split Squats | AI11: 0 | AJ11: 0 | AK11: 0 | AL11: 0
C12: Jump Rope | G12: Deadlifts | K12: Front Raises | O12: Hanging Leg Raises | S12: Glute Bridges | W12: Incline Bench Press | AB12: Seated Cable Rows | AC12: Rear Delt Flyes | AD12: Crunches | AE12: Calf Raises | AF12: Dumbbell Flyes | AG12: Tricep Dips | AH12: Step-Ups | AI12: 0 | AJ12: 0 | AK12: 0 | AL12: 0
C13: Dancing | G13: Seated Cable Rows | K13: Rear Delt Flyes | O13: Crunches | S13: Calf Raises | W13: Dumbbell Flyes | AB13: Face Pulls | AC13: Dumbbell Shrugs | AD13: Bicycle Crunches | AE13: Leg Curls | AF13: Chest Dips | AG13: Overhead Tricep Extensions | AH13: Clamshells | AI13: 0 | AJ13: 0 | AK13: 0 | AL13: 0
C14: HIIT | G14: Face Pulls | K14: Dumbbell Shrugs | O14: Bicycle Crunches | S14: Leg Curls | W14: Chest Dips | AB14: Supermans | AC14: Pike Push-Ups | AD14: Side Planks | AE14: Deadlifts | AF14: Svend Press | AG14: Kickbacks | AH14: Frog Pumps | AI14: 0 | AJ14: 0 | AK14: 0 | AL14: 0
C15: Hiking | G15: Supermans | K15: Pike Push-Ups | O15: Side Planks | S15: Deadlifts | W15: Svend Press | AB15: 0 | AC15: Single-Arm Cable Front Raises | AD15: 0 | AE15: Squats | AF15: Cable Crossovers | AG15: Wrist Curls | AH15: 0 | AI15: 0 | AJ15: 0 | AK15: 0 | AL15: 0
C16: Kickboxing | K16: Single-Arm Cable Front Raises | S16: Squats | W16: Cable Crossovers | AB16: 0 | AC16: 0 | AD16: 0 | AE16: Leg Press | AF16: Decline Bench Press | AG16: 0 | AH16: 0 | AI16: 0 | AJ16: 0 | AK16: 0 | AL16: 0
C17: Spinning | S17: Leg Press | W17: Decline Bench Press | AB17: 0 | AC17: 0 | AD17: 0 | AE17: 0 | AF17: 0 | AG17: 0 | AH17: 0 | AI17: 0 | AJ17: 0 | AK17: 0 | AL17: 0
AB18: 0 | AC18: 0 | AD18: 0 | AE18: 0 | AF18: 0 | AG18: 0 | AH18: 0 | AI18: 0 | AJ18: 0 | AK18: 0 | AL18: 0
AB19: 0 | AC19: 0 | AD19: 0 | AE19: 0 | AF19: 0 | AG19: 0 | AH19: 0 | AI19: 0 | AJ19: 0 | AK19: 0 | AL19: 0
AB20: 0 | AC20: 0 | AD20: 0 | AE20: 0 | AF20: 0 | AG20: 0 | AH20: 0 | AI20: 0 | AJ20: 0 | AK20: 0 | AL20: 0
AB21: 0 | AC21: 0 | AD21: 0 | AE21: 0 | AF21: 0 | AG21: 0 | AH21: 0 | AI21: 0 | AJ21: 0 | AK21: 0 | AL21: 0
AB22: 0 | AC22: 0 | AD22: 0 | AE22: 0 | AF22: 0 | AG22: 0 | AH22: 0 | AI22: 0 | AJ22: 0 | AK22: 0 | AL22: 0
AB23: 0 | AC23: 0 | AD23: 0 | AE23: 0 | AF23: 0 | AG23: 0 | AH23: 0 | AI23: 0 | AJ23: 0 | AK23: 0 | AL23: 0
AB24: 0 | AC24: 0 | AD24: 0 | AE24: 0 | AF24: 0 | AG24: 0 | AH24: 0 | AI24: 0 | AJ24: 0 | AK24: 0 | AL24: 0
AB25: 0 | AC25: 0 | AD25: 0 | AE25: 0 | AF25: 0 | AG25: 0 | AH25: 0 | AI25: 0 | AJ25: 0 | AK25: 0 | AL25: 0
AB26: 0 | AC26: 0 | AD26: 0 | AE26: 0 | AF26: 0 | AG26: 0 | AH26: 0 | AI26: 0 | AJ26: 0 | AK26: 0 | AL26: 0
AB27: 0 | AC27: 0 | AD27: 0 | AE27: 0 | AF27: 0 | AG27: 0 | AH27: 0 | AI27: 0 | AJ27: 0 | AK27: 0 | AL27: 0
AB28: 0 | AC28: 0 | AD28: 0 | AE28: 0 | AF28: 0 | AG28: 0 | AH28: 0 | AI28: 0 | AJ28: 0 | AK28: 0 | AL28: 0
AB29: 0 | AC29: 0 | AD29: 0 | AE29: 0 | AF29: 0 | AG29: 0 | AH29: 0 | AI29: 0 | AJ29: 0 | AK29: 0 | AL29: 0
... AB37: 0 | AC37: 0 | AD37: 0 | AE37: 0 | AF37: 0 | AG37: 0 | AH37: 0 | AI37: 0 | AJ37: 0 | AK37: 0 | AL37: 0
C40: Arm | G40: Glute
C42: Barbell Bicep Curls | G42: Deadlifts
C43: Dumbbell Bicep Curls | G43: Glute Bridges
C44: Hammer Curls | G44: Lunges
C45: Cable Curls | G45: Bulgarian Split Squats
C46: Tricep Dips | G46: Step-Ups
C47: Overhead Tricep Extensions | G47: Clamshells
C48: Kickbacks | G48: Frog Pumps
C49: Wrist Curls
C80: © 2025 Hey Morning. All rights reserved.

Sheet Week 1
A1: 0
B2: Week 1
J3: W O R K O U T D A Y S | N3: =7-$V$3 -> 7 | R3: R E S T D A Y S | V3: =COUNTIF(D9,Calendar!$AQ$7)+COUNTIF(L9,Calendar!$AQ$7)+COUNTIF(T9,Calendar!$AQ$7)+COUNTIF(AB9,Calendar!$AQ$7)+COUNTIF(D40,Calendar!$AQ$7)+COUNTIF(L40,Calendar!$AQ$7)+COUNTIF(T40,Calendar!$AQ$7) -> 0 | Z3: © Hey Morning. All rights reserved.
AJ5: data source of the second layer dropdown
B6: {=_xlfn.SWITCH(TEXT(D8,"DDDD"),"SUNDAY","S U N D A Y","MONDAY","M O N D A Y","TUESDAY","T U E S D A Y","WEDNESDAY","W E D N E S D A Y","THURSDAY","T H U R S D A Y","FRIDAY","F R I D A Y","SATURDAY","S A T U R D A Y","SUNDAY","S U N D A Y")} -> T H U R S D A Y | J6: {=_xlfn.SWITCH(TEXT(L8,"DDDD"),"SUNDAY","S U N D A Y","MONDAY","M O N D A Y","TUESDAY","T U E S D A Y","WEDNESDAY","W E D N E S D A Y","THURSDAY","T H U R S D A Y","FRIDAY","F R I D A Y","SATURDAY","S A T U R D A Y","SUNDAY","S U N D A Y")} -> F R I D A Y | R6: {=_xlfn.SWITCH(TEXT(T8,"DDDD"),"SUNDAY","S U N D A Y","MONDAY","M O N D A Y","TUESDAY","T U E S D A Y","WEDNESDAY","W E D N E S D A Y","THURSDAY","T H U R S D A Y","FRIDAY","F R I D A Y","SATURDAY","S A T U R D A Y","SUNDAY","S U N D A Y")} -> S A T U R D A Y | Z6: {=_xlfn.SWITCH(TEXT(AB8,"DDDD"),"SUNDAY","S U N D A Y","MONDAY","M O N D A Y","TUESDAY","T U E S D A Y","WEDNESDAY","W E D N E S D A Y","THURSDAY","T H U R S D A Y","FRIDAY","F R I D A Y","SATURDAY","S A T U R D A Y","SUNDAY","S U N D A Y")} -> S U N D A Y | AJ6: {=_xlfn.LET(_xlpm.a,IF($D$10<>"",INDEX(Setup!$AB$8:$AL$38,,MATCH($D$10,Setup!$AB$7:$AL$7,0)),{""}),_xlpm.b,IF($D$11<>"",INDEX(Setup!$AB$8:$AL$38,,MATCH($D$11,Setup!$AB$7:$AL$7,0)),{""}),_xlpm.c,IF($D$12<>"",INDEX(Setup!$AB$8:$AL$38,,MATCH($D$12,Setup!$AB$7:$AL$7,0)),{""}),_xlpm.stacked,_xlfn.VSTACK(_xlpm.a,_xlpm.b,_xlpm.c),IFERROR(TRANSPOSE(_xlfn._xlws.FILTER(_xlpm.stacked,(_xlpm.stacked<>0)*(_xlpm.stacked<>"")*(_xlpm.stacked<>"#N/A"))),""))}
AJ7: {=_xlfn.LET(_xlpm.a,IF($L$10<>"",INDEX(Setup!$AB$8:$AL$38,,MATCH($L$10,Setup!$AB$7:$AL$7,0)),{""}),_xlpm.b,IF($L$11<>"",INDEX(Setup!$AB$8:$AL$38,,MATCH($L$11,Setup!$AB$7:$AL$7,0)),{""}),_xlpm.c,IF($L$12<>"",INDEX(Setup!$AB$8:$AL$38,,MATCH($L$12,Setup!$AB$7:$AL$7,0)),{""}),_xlpm.stacked,_xlfn.VSTACK(_xlpm.a,_xlpm.b,_xlpm.c),IFERROR(TRANSPOSE(_xlfn._xlws.FILTER(_xlpm.stacked,(_xlpm.stacked<>0)*(_xlpm.stacked<>"")*(_xlpm.stacked<>"#N/A"))),""))}
B8: DATE | D8: =$A$1+Calendar!$AY$29 -> 46191 | J8: DATE | L8: =$A$1+Calendar!$AY$29+1 -> 46192 | R8: DATE | T8: =$A$1+Calendar!$AY$29+2 -> 46193 | Z8: DATE | AB8: =$A$1+Calendar!$AY$29+3 -> 46194 | AJ8: {=_xlfn.LET(_xlpm.a,IF($T$10<>"",INDEX(Setup!$AB$8:$AL$38,,MATCH($T$10,Setup!$AB$7:$AL$7,0)),{""}),_xlpm.b,IF($T$11<>"",INDEX(Setup!$AB$8:$AL$38,,MATCH($T$11,Setup!$AB$7:$AL$7,0)),{""}),_xlpm.c,IF($T$12<>"",INDEX(Setup!$AB$8:$AL$38,,MATCH($T$12,Setup!$AB$7:$AL$7,0)),{""}),_xlpm.stacked,_xlfn.VSTACK(_xlpm.a,_xlpm.b,_xlpm.c),IFERROR(TRANSPOSE(_xlfn._xlws.FILTER(_xlpm.stacked,(_xlpm.stacked<>0)*(_xlpm.stacked<>"")*(_xlpm.stacked<>"#N/A"))),""))}
B9: REST DAY ? | J9: REST DAY ? | R9: REST DAY ? | Z9: REST DAY ? | AJ9: {=_xlfn.LET(_xlpm.a,IF($AB$10<>"",INDEX(Setup!$AB$8:$AL$38,,MATCH($AB$10,Setup!$AB$7:$AL$7,0)),{""}),_xlpm.b,IF($AB$11<>"",INDEX(Setup!$AB$8:$AL$38,,MATCH($AB$11,Setup!$AB$7:$AL$7,0)),{""}),_xlpm.c,IF($AB$12<>"",INDEX(Setup!$AB$8:$AL$38,,MATCH($AB$12,Setup!$AB$7:$AL$7,0)),{""}),_xlpm.stacked,_xlfn.VSTACK(_xlpm.a,_xlpm.b,_xlpm.c),IFERROR(TRANSPOSE(_xlfn._xlws.FILTER(_xlpm.stacked,(_xlpm.stacked<>0)*(_xlpm.stacked<>"")*(_xlpm.stacked<>"#N/A"))),""))}
B10: MUSCLE GROUPS | J10: MUSCLE GROUPS | R10: MUSCLE GROUPS | Z10: MUSCLE GROUPS | AJ10: {=_xlfn.LET(_xlpm.a,IF($D$41<>"",INDEX(Setup!$AB$8:$AL$38,,MATCH($D$41,Setup!$AB$7:$AL$7,0)),{""}),_xlpm.b,IF($D$42<>"",INDEX(Setup!$AB$8:$AL$38,,MATCH($D$42,Setup!$AB$7:$AL$7,0)),{""}),_xlpm.c,IF($D$43<>"",INDEX(Setup!$AB$8:$AL$38,,MATCH($D$43,Setup!$AB$7:$AL$7,0)),{""}),_xlpm.stacked,_xlfn.VSTACK(_xlpm.a,_xlpm.b,_xlpm.c),IFERROR(TRANSPOSE(_xlfn._xlws.FILTER(_xlpm.stacked,(_xlpm.stacked<>0)*(_xlpm.stacked<>"")*(_xlpm.stacked<>"#N/A"))),""))}
AJ11: {=_xlfn.LET(_xlpm.a,IF($L$41<>"",INDEX(Setup!$AB$8:$AL$38,,MATCH($L$41,Setup!$AB$7:$AL$7,0)),{""}),_xlpm.b,IF($L$42<>"",INDEX(Setup!$AB$8:$AL$38,,MATCH($L$42,Setup!$AB$7:$AL$7,0)),{""}),_xlpm.c,IF($L$43<>"",INDEX(Setup!$AB$8:$AL$38,,MATCH($L$43,Setup!$AB$7:$AL$7,0)),{""}),_xlpm.stacked,_xlfn.VSTACK(_xlpm.a,_xlpm.b,_xlpm.c),IFERROR(TRANSPOSE(_xlfn._xlws.FILTER(_xlpm.stacked,(_xlpm.stacked<>0)*(_xlpm.stacked<>"")*(_xlpm.stacked<>"#N/A"))),""))}
AJ12: {=_xlfn.LET(_xlpm.a,IF($T$41<>"",INDEX(Setup!$AB$8:$AL$38,,MATCH($T$41,Setup!$AB$7:$AL$7,0)),{""}),_xlpm.b,IF($T$42<>"",INDEX(Setup!$AB$8:$AL$38,,MATCH($T$42,Setup!$AB$7:$AL$7,0)),{""}),_xlpm.c,IF($T$43<>"",INDEX(Setup!$AB$8:$AL$38,,MATCH($T$43,Setup!$AB$7:$AL$7,0)),{""}),_xlpm.stacked,_xlfn.VSTACK(_xlpm.a,_xlpm.b,_xlpm.c),IFERROR(TRANSPOSE(_xlfn._xlws.FILTER(_xlpm.stacked,(_xlpm.stacked<>0)*(_xlpm.stacked<>"")*(_xlpm.stacked<>"#N/A"))),""))}
B13: EXERCISE | D13: WEIGHT | E13: SETS | F13: REPS | G13: REST | H13: TIME | J13: EXERCISE | L13: WEIGHT | M13: SETS | N13: REPS | O13: REST | P13: TIME | R13: EXERCISE | T13: WEIGHT | U13: SETS | V13: REPS | W13: REST | X13: TIME | Z13: EXERCISE | AB13: WEIGHT | AC13: SETS | AD13: REPS | AE13: REST | AF13: TIME
B29: CARDIO | J29: CARDIO | R29: CARDIO | Z29: CARDIO
B30: EXERCISE | D30: TIME | E30: SPEED | G30: DISTANCE | J30: EXERCISE | L30: TIME | M30: SPEED | O30: DISTANCE | R30: EXERCISE | T30: TIME | U30: SPEED | W30: DISTANCE | Z30: EXERCISE | AB30: TIME | AC30: SPEED | AE30: DISTANCE
B37: {=_xlfn.SWITCH(TEXT(D39,"DDDD"),"SUNDAY","S U N D A Y","MONDAY","M O N D A Y","TUESDAY","T U E S D A Y","WEDNESDAY","W E D N E S D A Y","THURSDAY","T H U R S D A Y","FRIDAY","F R I D A Y","SATURDAY","S A T U R D A Y","SUNDAY","S U N D A Y")} -> M O N D A Y | J37: {=_xlfn.SWITCH(TEXT(L39,"DDDD"),"SUNDAY","S U N D A Y","MONDAY","M O N D A Y","TUESDAY","T U E S D A Y","WEDNESDAY","W E D N E S D A Y","THURSDAY","T H U R S D A Y","FRIDAY","F R I D A Y","SATURDAY","S A T U R D A Y","SUNDAY","S U N D A Y")} -> T U E S D A Y | R37: {=_xlfn.SWITCH(TEXT(T39,"DDDD"),"SUNDAY","S U N D A Y","MONDAY","M O N D A Y","TUESDAY","T U E S D A Y","WEDNESDAY","W E D N E S D A Y","THURSDAY","T H U R S D A Y","FRIDAY","F R I D A Y","SATURDAY","S A T U R D A Y","SUNDAY","S U N D A Y")} -> W E D N E S D A Y | Z37: G O A L
B39: DATE | D39: =$A$1+Calendar!$AY$29+4 -> 46195 | J39: DATE | L39: =$A$1+Calendar!$AY$29+5 -> 46196 | R39: DATE | T39: =$A$1+Calendar!$AY$29+6 -> 46197
B40: REST DAY ? | J40: REST DAY ? | R40: REST DAY ?
B41: MUSCLE GROUPS | J41: MUSCLE GROUPS | R41: MUSCLE GROUPS
B44: EXERCISE | D44: WEIGHT | E44: SETS | F44: REPS | G44: REST | H44: TIME | J44: EXERCISE | L44: WEIGHT | M44: SETS | N44: REPS | O44: REST | P44: TIME | R44: EXERCISE | T44: WEIGHT | U44: SETS | V44: REPS | W44: REST | X44: TIME
Z46: N O T E
B60: CARDIO | J60: CARDIO | R60: CARDIO
B61: EXERCISE | D61: TIME | E61: SPEED | G61: DISTANCE | J61: EXERCISE | L61: TIME | M61: SPEED | O61: DISTANCE | R61: EXERCISE | T61: TIME | U61: SPEED | W61: DISTANCE

Sheet Week 2
A1: 7
B2: Week 2
J3: W O R K O U T D A Y S | N3: =7-$V$3 -> 7 | R3: R E S T D A Y S | V3: =COUNTIF(D9,Calendar!$AQ$7)+COUNTIF(L9,Calendar!$AQ$7)+COUNTIF(T9,Calendar!$AQ$7)+COUNTIF(AB9,Calendar!$AQ$7)+COUNTIF(D40,Calendar!$AQ$7)+COUNTIF(L40,Calendar!$AQ$7)+COUNTIF(T40,Calendar!$AQ$7) -> 0 | Z3: © Hey Morning. All rights reserved.
AJ5: data source of the second layer dropdown
B6: {=_xlfn.SWITCH(TEXT(D8,"DDDD"),"SUNDAY","S U N D A Y","MONDAY","M O N D A Y","TUESDAY","T U E S D A Y","WEDNESDAY","W E D N E S D A Y","THURSDAY","T H U R S D A Y","FRIDAY","F R I D A Y","SATURDAY","S A T U R D A Y","SUNDAY","S U N D A Y")} -> T H U R S D A Y | J6: {=_xlfn.SWITCH(TEXT(L8,"DDDD"),"SUNDAY","S U N D A Y","MONDAY","M O N D A Y","TUESDAY","T U E S D A Y","WEDNESDAY","W E D N E S D A Y","THURSDAY","T H U R S D A Y","FRIDAY","F R I D A Y","SATURDAY","S A T U R D A Y","SUNDAY","S U N D A Y")} -> F R I D A Y | R6: {=_xlfn.SWITCH(TEXT(T8,"DDDD"),"SUNDAY","S U N D A Y","MONDAY","M O N D A Y","TUESDAY","T U E S D A Y","WEDNESDAY","W E D N E S D A Y","THURSDAY","T H U R S D A Y","FRIDAY","F R I D A Y","SATURDAY","S A T U R D A Y","SUNDAY","S U N D A Y")} -> S A T U R D A Y | Z6: {=_xlfn.SWITCH(TEXT(AB8,"DDDD"),"SUNDAY","S U N D A Y","MONDAY","M O N D A Y","TUESDAY","T U E S D A Y","WEDNESDAY","W E D N E S D A Y","THURSDAY","T H U R S D A Y","FRIDAY","F R I D A Y","SATURDAY","S A T U R D A Y","SUNDAY","S U N D A Y")} -> S U N D A Y | AJ6: {=_xlfn.LET(_xlpm.a,IF($D$10<>"",INDEX(Setup!$AB$8:$AL$38,,MATCH($D$10,Setup!$AB$7:$AL$7,0)),{""}),_xlpm.b,IF($D$11<>"",INDEX(Setup!$AB$8:$AL$38,,MATCH($D$11,Setup!$AB$7:$AL$7,0)),{""}),_xlpm.c,IF($D$12<>"",INDEX(Setup!$AB$8:$AL$38,,MATCH($D$12,Setup!$AB$7:$AL$7,0)),{""}),_xlpm.stacked,_xlfn.VSTACK(_xlpm.a,_xlpm.b,_xlpm.c),IFERROR(TRANSPOSE(_xlfn._xlws.FILTER(_xlpm.stacked,(_xlpm.stacked<>0)*(_xlpm.stacked<>"")*(_xlpm.stacked<>"#N/A"))),""))}
AJ7: {=_xlfn.LET(_xlpm.a,IF($L$10<>"",INDEX(Setup!$AB$8:$AL$38,,MATCH($L$10,Setup!$AB$7:$AL$7,0)),{""}),_xlpm.b,IF($L$11<>"",INDEX(Setup!$AB$8:$AL$38,,MATCH($L$11,Setup!$AB$7:$AL$7,0)),{""}),_xlpm.c,IF($L$12<>"",INDEX(Setup!$AB$8:$AL$38,,MATCH($L$12,Setup!$AB$7:$AL$7,0)),{""}),_xlpm.stacked,_xlfn.VSTACK(_xlpm.a,_xlpm.b,_xlpm.c),IFERROR(TRANSPOSE(_xlfn._xlws.FILTER(_xlpm.stacked,(_xlpm.stacked<>0)*(_xlpm.stacked<>"")*(_xlpm.stacked<>"#N/A"))),""))}
B8: DATE | D8: =$A$1+Calendar!$AY$29 -> 46198 | J8: DATE | L8: =$A$1+Calendar!$AY$29+1 -> 46199 | R8: DATE | T8: =$A$1+Calendar!$AY$29+2 -> 46200 | Z8: DATE | AB8: =$A$1+Calendar!$AY$29+3 -> 46201 | AJ8: {=_xlfn.LET(_xlpm.a,IF($T$10<>"",INDEX(Setup!$AB$8:$AL$38,,MATCH($T$10,Setup!$AB$7:$AL$7,0)),{""}),_xlpm.b,IF($T$11<>"",INDEX(Setup!$AB$8:$AL$38,,MATCH($T$11,Setup!$AB$7:$AL$7,0)),{""}),_xlpm.c,IF($T$12<>"",INDEX(Setup!$AB$8:$AL$38,,MATCH($T$12,Setup!$AB$7:$AL$7,0)),{""}),_xlpm.stacked,_xlfn.VSTACK(_xlpm.a,_xlpm.b,_xlpm.c),IFERROR(TRANSPOSE(_xlfn._xlws.FILTER(_xlpm.stacked,(_xlpm.stacked<>0)*(_xlpm.stacked<>"")*(_xlpm.stacked<>"#N/A"))),""))}
B9: REST DAY ? | J9: REST DAY ? | R9: REST DAY ? | Z9: REST DAY ? | AJ9: {=_xlfn.LET(_xlpm.a,IF($AB$10<>"",INDEX(Setup!$AB$8:$AL$38,,MATCH($AB$10,Setup!$AB$7:$AL$7,0)),{""}),_xlpm.b,IF($AB$11<>"",INDEX(Setup!$AB$8:$AL$38,,MATCH($AB$11,Setup!$AB$7:$AL$7,0)),{""}),_xlpm.c,IF($AB$12<>"",INDEX(Setup!$AB$8:$AL$38,,MATCH($AB$12,Setup!$AB$7:$AL$7,0)),{""}),_xlpm.stacked,_xlfn.VSTACK(_xlpm.a,_xlpm.b,_xlpm.c),IFERROR(TRANSPOSE(_xlfn._xlws.FILTER(_xlpm.stacked,(_xlpm.stacked<>0)*(_xlpm.stacked<>"")*(_xlpm.stacked<>"#N/A"))),""))}
B10: MUSCLE GROUPS | J10: MUSCLE GROUPS | R10: MUSCLE GROUPS | Z10: MUSCLE GROUPS | AJ10: {=_xlfn.LET(_xlpm.a,IF($D$41<>"",INDEX(Setup!$AB$8:$AL$38,,MATCH($D$41,Setup!$AB$7:$AL$7,0)),{""}),_xlpm.b,IF($D$42<>"",INDEX(Setup!$AB$8:$AL$38,,MATCH($D$42,Setup!$AB$7:$AL$7,0)),{""}),_xlpm.c,IF($D$43<>"",INDEX(Setup!$AB$8:$AL$38,,MATCH($D$43,Setup!$AB$7:$AL$7,0)),{""}),_xlpm.stacked,_xlfn.VSTACK(_xlpm.a,_xlpm.b,_xlpm.c),IFERROR(TRANSPOSE(_xlfn._xlws.FILTER(_xlpm.stacked,(_xlpm.stacked<>0)*(_xlpm.stacked<>"")*(_xlpm.stacked<>"#N/A"))),""))}
AJ11: {=_xlfn.LET(_xlpm.a,IF($L$41<>"",INDEX(Setup!$AB$8:$AL$38,,MATCH($L$41,Setup!$AB$7:$AL$7,0)),{""}),_xlpm.b,IF($L$42<>"",INDEX(Setup!$AB$8:$AL$38,,MATCH($L$42,Setup!$AB$7:$AL$7,0)),{""}),_xlpm.c,IF($L$43<>"",INDEX(Setup!$AB$8:$AL$38,,MATCH($L$43,Setup!$AB$7:$AL$7,0)),{""}),_xlpm.stacked,_xlfn.VSTACK(_xlpm.a,_xlpm.b,_xlpm.c),IFERROR(TRANSPOSE(_xlfn._xlws.FILTER(_xlpm.stacked,(_xlpm.stacked<>0)*(_xlpm.stacked<>"")*(_xlpm.stacked<>"#N/A"))),""))}
AJ12: {=_xlfn.LET(_xlpm.a,IF($T$41<>"",INDEX(Setup!$AB$8:$AL$38,,MATCH($T$41,Setup!$AB$7:$AL$7,0)),{""}),_xlpm.b,IF($T$42<>"",INDEX(Setup!$AB$8:$AL$38,,MATCH($T$42,Setup!$AB$7:$AL$7,0)),{""}),_xlpm.c,IF($T$43<>"",INDEX(Setup!$AB$8:$AL$38,,MATCH($T$43,Setup!$AB$7:$AL$7,0)),{""}),_xlpm.stacked,_xlfn.VSTACK(_xlpm.a,_xlpm.b,_xlpm.c),IFERROR(TRANSPOSE(_xlfn._xlws.FILTER(_xlpm.stacked,(_xlpm.stacked<>0)*(_xlpm.stacked<>"")*(_xlpm.stacked<>"#N/A"))),""))}
B13: EXERCISE | D13: WEIGHT | E13: SETS | F13: REPS | G13: REST | H13: TIME | J13: EXERCISE | L13: WEIGHT | M13: SETS | N13: REPS | O13: REST | P13: TIME | R13: EXERCISE | T13: WEIGHT | U13: SETS | V13: REPS | W13: REST | X13: TIME | Z13: EXERCISE | AB13: WEIGHT | AC13: SETS | AD13: REPS | AE13: REST | AF13: TIME
B29: CARDIO | J29: CARDIO | R29: CARDIO | Z29: CARDIO
B30: EXERCISE | D30: TIME | E30: SPEED | G30: DISTANCE | J30: EXERCISE | L30: TIME | M30: SPEED | O30: DISTANCE | R30: EXERCISE | T30: TIME | U30: SPEED | W30: DISTANCE | Z30: EXERCISE | AB30: TIME | AC30: SPEED | AE30: DISTANCE
B37: {=_xlfn.SWITCH(TEXT(D39,"DDDD"),"SUNDAY","S U N D A Y","MONDAY","M O N D A Y","TUESDAY","T U E S D A Y","WEDNESDAY","W E D N E S D A Y","THURSDAY","T H U R S D A Y","FRIDAY","F R I D A Y","SATURDAY","S A T U R D A Y","SUNDAY","S U N D A Y")} -> M O N D A Y | J37: {=_xlfn.SWITCH(TEXT(L39,"DDDD"),"SUNDAY","S U N D A Y","MONDAY","M O N D A Y","TUESDAY","T U E S D A Y","WEDNESDAY","W E D N E S D A Y","THURSDAY","T H U R S D A Y","FRIDAY","F R I D A Y","SATURDAY","S A T U R D A Y","SUNDAY","S U N D A Y")} -> T U E S D A Y | R37: {=_xlfn.SWITCH(TEXT(T39,"DDDD"),"SUNDAY","S U N D A Y","MONDAY","M O N D A Y","TUESDAY","T U E S D A Y","WEDNESDAY","W E D N E S D A Y","THURSDAY","T H U R S D A Y","FRIDAY","F R I D A Y","SATURDAY","S A T U R D A Y","SUNDAY","S U N D A Y")} -> W E D N E S D A Y | Z37: G O A L
B39: DATE | D39: =$A$1+Calendar!$AY$29+4 -> 46202 | J39: DATE | L39: =$A$1+Calendar!$AY$29+5 -> 46203 | R39: DATE | T39: =$A$1+Calendar!$AY$29+6 -> 46204
B40: REST DAY ? | J40: REST DAY ? | R40: REST DAY ?
B41: MUSCLE GROUPS | J41: MUSCLE GROUPS | R41: MUSCLE GROUPS
B44: EXERCISE | D44: WEIGHT | E44: SETS | F44: REPS | G44: REST | H44: TIME | J44: EXERCISE | L44: WEIGHT | M44: SETS | N44: REPS | O44: REST | P44: TIME | R44: EXERCISE | T44: WEIGHT | U44: SETS | V44: REPS | W44: REST | X44: TIME
Z46: N O T E
B60: CARDIO | J60: CARDIO | R60: CARDIO
B61: EXERCISE | D61: TIME | E61: SPEED | G61: DISTANCE | J61: EXERCISE | L61: TIME | M61: SPEED | O61: DISTANCE | R61: EXERCISE | T61: TIME | U61: SPEED | W61: DISTANCE

Sheet Week 3
A1: 14
B2: Week 3
J3: W O R K O U T D A Y S | N3: =7-$V$3 -> 7 | R3: R E S T D A Y S | V3: =COUNTIF(D9,Calendar!$AQ$7)+COUNTIF(L9,Calendar!$AQ$7)+COUNTIF(T9,Calendar!$AQ$7)+COUNTIF(AB9,Calendar!$AQ$7)+COUNTIF(D40,Calendar!$AQ$7)+COUNTIF(L40,Calendar!$AQ$7)+COUNTIF(T40,Calendar!$AQ$7) -> 0 | Z3: © Hey Morning. All rights reserved.
AJ5: data source of the second layer dropdown
B6: {=_xlfn.SWITCH(TEXT(D8,"DDDD"),"SUNDAY","S U N D A Y","MONDAY","M O N D A Y","TUESDAY","T U E S D A Y","WEDNESDAY","W E D N E S D A Y","THURSDAY","T H U R S D A Y","FRIDAY","F R I D A Y","SATURDAY","S A T U R D A Y","SUNDAY","S U N D A Y")} -> T H U R S D A Y | J6: {=_xlfn.SWITCH(TEXT(L8,"DDDD"),"SUNDAY","S U N D A Y","MONDAY","M O N D A Y","TUESDAY","T U E S D A Y","WEDNESDAY","W E D N E S D A Y","THURSDAY","T H U R S D A Y","FRIDAY","F R I D A Y","SATURDAY","S A T U R D A Y","SUNDAY","S U N D A Y")} -> F R I D A Y | R6: {=_xlfn.SWITCH(TEXT(T8,"DDDD"),"SUNDAY","S U N D A Y","MONDAY","M O N D A Y","TUESDAY","T U E S D A Y","WEDNESDAY","W E D N E S D A Y","THURSDAY","T H U R S D A Y","FRIDAY","F R I D A Y","SATURDAY","S A T U R D A Y","SUNDAY","S U N D A Y")} -> S A T U R D A Y | Z6: {=_xlfn.SWITCH(TEXT(AB8,"DDDD"),"SUNDAY","S U N D A Y","MONDAY","M O N D A Y","TUESDAY","T U E S D A Y","WEDNESDAY","W E D N E S D A Y","THURSDAY","T H U R S D A Y","FRIDAY","F R I D A Y","SATURDAY","S A T U R D A Y","SUNDAY","S U N D A Y")} -> S U N D A Y | AJ6: {=_xlfn.LET(_xlpm.a,IF($D$10<>"",INDEX(Setup!$AB$8:$AL$38,,MATCH($D$10,Setup!$AB$7:$AL$7,0)),{""}),_xlpm.b,IF($D$11<>"",INDEX(Setup!$AB$8:$AL$38,,MATCH($D$11,Setup!$AB$7:$AL$7,0)),{""}),_xlpm.c,IF($D$12<>"",INDEX(Setup!$AB$8:$AL$38,,MATCH($D$12,Setup!$AB$7:$AL$7,0)),{""}),_xlpm.stacked,_xlfn.VSTACK(_xlpm.a,_xlpm.b,_xlpm.c),IFERROR(TRANSPOSE(_xlfn._xlws.FILTER(_xlpm.stacked,(_xlpm.stacked<>0)*(_xlpm.stacked<>"")*(_xlpm.stacked<>"#N/A"))),""))}
AJ7: {=_xlfn.LET(_xlpm.a,IF($L$10<>"",INDEX(Setup!$AB$8:$AL$38,,MATCH($L$10,Setup!$AB$7:$AL$7,0)),{""}),_xlpm.b,IF($L$11<>"",INDEX(Setup!$AB$8:$AL$38,,MATCH($L$11,Setup!$AB$7:$AL$7,0)),{""}),_xlpm.c,IF($L$12<>"",INDEX(Setup!$AB$8:$AL$38,,MATCH($L$12,Setup!$AB$7:$AL$7,0)),{""}),_xlpm.stacked,_xlfn.VSTACK(_xlpm.a,_xlpm.b,_xlpm.c),IFERROR(TRANSPOSE(_xlfn._xlws.FILTER(_xlpm.stacked,(_xlpm.stacked<>0)*(_xlpm.stacked<>"")*(_xlpm.stacked<>"#N/A"))),""))}
B8: DATE | D8: =$A$1+Calendar!$AY$29 -> 46205 | J8: DATE | L8: =$A$1+Calendar!$AY$29+1 -> 46206 | R8: DATE | T8: =$A$1+Calendar!$AY$29+2 -> 46207 | Z8: DATE | AB8: =$A$1+Calendar!$AY$29+3 -> 46208 | AJ8: {=_xlfn.LET(_xlpm.a,IF($T$10<>"",INDEX(Setup!$AB$8:$AL$38,,MATCH($T$10,Setup!$AB$7:$AL$7,0)),{""}),_xlpm.b,IF($T$11<>"",INDEX(Setup!$AB$8:$AL$38,,MATCH($T$11,Setup!$AB$7:$AL$7,0)),{""}),_xlpm.c,IF($T$12<>"",INDEX(Setup!$AB$8:$AL$38,,MATCH($T$12,Setup!$AB$7:$AL$7,0)),{""}),_xlpm.stacked,_xlfn.VSTACK(_xlpm.a,_xlpm.b,_xlpm.c),IFERROR(TRANSPOSE(_xlfn._xlws.FILTER(_xlpm.stacked,(_xlpm.stacked<>0)*(_xlpm.stacked<>"")*(_xlpm.stacked<>"#N/A"))),""))}
B9: REST DAY ? | J9: REST DAY ? | R9: REST DAY ? | Z9: REST DAY ? | AJ9: {=_xlfn.LET(_xlpm.a,IF($AB$10<>"",INDEX(Setup!$AB$8:$AL$38,,MATCH($AB$10,Setup!$AB$7:$AL$7,0)),{""}),_xlpm.b,IF($AB$11<>"",INDEX(Setup!$AB$8:$AL$38,,MATCH($AB$11,Setup!$AB$7:$AL$7,0)),{""}),_xlpm.c,IF($AB$12<>"",INDEX(Setup!$AB$8:$AL$38,,MATCH($AB$12,Setup!$AB$7:$AL$7,0)),{""}),_xlpm.stacked,_xlfn.VSTACK(_xlpm.a,_xlpm.b,_xlpm.c),IFERROR(TRANSPOSE(_xlfn._xlws.FILTER(_xlpm.stacked,(_xlpm.stacked<>0)*(_xlpm.stacked<>"")*(_xlpm.stacked<>"#N/A"))),""))}
B10: MUSCLE GROUPS | J10: MUSCLE GROUPS | R10: MUSCLE GROUPS | Z10: MUSCLE GROUPS | AJ10: {=_xlfn.LET(_xlpm.a,IF($D$41<>"",INDEX(Setup!$AB$8:$AL$38,,MATCH($D$41,Setup!$AB$7:$AL$7,0)),{""}),_xlpm.b,IF($D$42<>"",INDEX(Setup!$AB$8:$AL$38,,MATCH($D$42,Setup!$AB$7:$AL$7,0)),{""}),_xlpm.c,IF($D$43<>"",INDEX(Setup!$AB$8:$AL$38,,MATCH($D$43,Setup!$AB$7:$AL$7,0)),{""}),_xlpm.stacked,_xlfn.VSTACK(_xlpm.a,_xlpm.b,_xlpm.c),IFERROR(TRANSPOSE(_xlfn._xlws.FILTER(_xlpm.stacked,(_xlpm.stacked<>0)*(_xlpm.stacked<>"")*(_xlpm.stacked<>"#N/A"))),""))}
AJ11: {=_xlfn.LET(_xlpm.a,IF($L$41<>"",INDEX(Setup!$AB$8:$AL$38,,MATCH($L$41,Setup!$AB$7:$AL$7,0)),{""}),_xlpm.b,IF($L$42<>"",INDEX(Setup!$AB$8:$AL$38,,MATCH($L$42,Setup!$AB$7:$AL$7,0)),{""}),_xlpm.c,IF($L$43<>"",INDEX(Setup!$AB$8:$AL$38,,MATCH($L$43,Setup!$AB$7:$AL$7,0)),{""}),_xlpm.stacked,_xlfn.VSTACK(_xlpm.a,_xlpm.b,_xlpm.c),IFERROR(TRANSPOSE(_xlfn._xlws.FILTER(_xlpm.stacked,(_xlpm.stacked<>0)*(_xlpm.stacked<>"")*(_xlpm.stacked<>"#N/A"))),""))}
AJ12: {=_xlfn.LET(_xlpm.a,IF($T$41<>"",INDEX(Setup!$AB$8:$AL$38,,MATCH($T$41,Setup!$AB$7:$AL$7,0)),{""}),_xlpm.b,IF($T$42<>"",INDEX(Setup!$AB$8:$AL$38,,MATCH($T$42,Setup!$AB$7:$AL$7,0)),{""}),_xlpm.c,IF($T$43<>"",INDEX(Setup!$AB$8:$AL$38,,MATCH($T$43,Setup!$AB$7:$AL$7,0)),{""}),_xlpm.stacked,_xlfn.VSTACK(_xlpm.a,_xlpm.b,_xlpm.c),IFERROR(TRANSPOSE(_xlfn._xlws.FILTER(_xlpm.stacked,(_xlpm.stacked<>0)*(_xlpm.stacked<>"")*(_xlpm.stacked<>"#N/A"))),""))}
B13: EXERCISE | D13: WEIGHT | E13: SETS | F13: REPS | G13: REST | H13: TIME | J13: EXERCISE | L13: WEIGHT | M13: SETS | N13: REPS | O13: REST | P13: TIME | R13: EXERCISE | T13: WEIGHT | U13: SETS | V13: REPS | W13: REST | X13: TIME | Z13: EXERCISE | AB13: WEIGHT | AC13: SETS | AD13: REPS | AE13: REST | AF13: TIME
B29: CARDIO | J29: CARDIO | R29: CARDIO | Z29: CARDIO
B30: EXERCISE | D30: TIME | E30: SPEED | G30: DISTANCE | J30: EXERCISE | L30: TIME | M30: SPEED | O30: DISTANCE | R30: EXERCISE | T30: TIME | U30: SPEED | W30: DISTANCE | Z30: EXERCISE | AB30: TIME | AC30: SPEED | AE30: DISTANCE
B37: {=_xlfn.SWITCH(TEXT(D39,"DDDD"),"SUNDAY","S U N D A Y","MONDAY","M O N D A Y","TUESDAY","T U E S D A Y","WEDNESDAY","W E D N E S D A Y","THURSDAY","T H U R S D A Y","FRIDAY","F R I D A Y","SATURDAY","S A T U R D A Y","SUNDAY","S U N D A Y")} -> M O N D A Y | J37: {=_xlfn.SWITCH(TEXT(L39,"DDDD"),"SUNDAY","S U N D A Y","MONDAY","M O N D A Y","TUESDAY","T U E S D A Y","WEDNESDAY","W E D N E S D A Y","THURSDAY","T H U R S D A Y","FRIDAY","F R I D A Y","SATURDAY","S A T U R D A Y","SUNDAY","S U N D A Y")} -> T U E S D A Y | R37: {=_xlfn.SWITCH(TEXT(T39,"DDDD"),"SUNDAY","S U N D A Y","MONDAY","M O N D A Y","TUESDAY","T U E S D A Y","WEDNESDAY","W E D N E S D A Y","THURSDAY","T H U R S D A Y","FRIDAY","F R I D A Y","SATURDAY","S A T U R D A Y","SUNDAY","S U N D A Y")} -> W E D N E S D A Y | Z37: G O A L
B39: DATE | D39: =$A$1+Calendar!$AY$29+4 -> 46209 | J39: DATE | L39: =$A$1+Calendar!$AY$29+5 -> 46210 | R39: DATE | T39: =$A$1+Calendar!$AY$29+6 -> 46211
B40: REST DAY ? | J40: REST DAY ? | R40: REST DAY ?
B41: MUSCLE GROUPS | J41: MUSCLE GROUPS | R41: MUSCLE GROUPS
B44: EXERCISE | D44: WEIGHT | E44: SETS | F44: REPS | G44: REST | H44: TIME | J44: EXERCISE | L44: WEIGHT | M44: SETS | N44: REPS | O44: REST | P44: TIME | R44: EXERCISE | T44: WEIGHT | U44: SETS | V44: REPS | W44: REST | X44: TIME
Z46: N O T E
B60: CARDIO | J60: CARDIO | R60: CARDIO
B61: EXERCISE | D61: TIME | E61: SPEED | G61: DISTANCE | J61: EXERCISE | L61: TIME | M61: SPEED | O61: DISTANCE | R61: EXERCISE | T61: TIME | U61: SPEED | W61: DISTANCE

Sheet Week 4
A1: 21
B2: Week 4
J3: W O R K O U T D A Y S | N3: =7-$V$3 -> 7 | R3: R E S T D A Y S | V3: =COUNTIF(D9,Calendar!$AQ$7)+COUNTIF(L9,Calendar!$AQ$7)+COUNTIF(T9,Calendar!$AQ$7)+COUNTIF(AB9,Calendar!$AQ$7)+COUNTIF(D40,Calendar!$AQ$7)+COUNTIF(L40,Calendar!$AQ$7)+COUNTIF(T40,Calendar!$AQ$7) -> 0 | Z3: © Hey Morning. All rights reserved.
AJ5: data source of the second layer dropdown
B6: {=_xlfn.SWITCH(TEXT(D8,"DDDD"),"SUNDAY","S U N D A Y","MONDAY","M O N D A Y","TUESDAY","T U E S D A Y","WEDNESDAY","W E D N E S D A Y","THURSDAY","T H U R S D A Y","FRIDAY","F R I D A Y","SATURDAY","S A T U R D A Y","SUNDAY","S U N D A Y")} -> T H U R S D A Y | J6: {=_xlfn.SWITCH(TEXT(L8,"DDDD"),"SUNDAY","S U N D A Y","MONDAY","M O N D A Y","TUESDAY","T U E S D A Y","WEDNESDAY","W E D N E S D A Y","THURSDAY","T H U R S D A Y","FRIDAY","F R I D A Y","SATURDAY","S A T U R D A Y","SUNDAY","S U N D A Y")} -> F R I D A Y | R6: {=_xlfn.SWITCH(TEXT(T8,"DDDD"),"SUNDAY","S U N D A Y","MONDAY","M O N D A Y","TUESDAY","T U E S D A Y","WEDNESDAY","W E D N E S D A Y","THURSDAY","T H U R S D A Y","FRIDAY","F R I D A Y","SATURDAY","S A T U R D A Y","SUNDAY","S U N D A Y")} -> S A T U R D A Y | Z6: {=_xlfn.SWITCH(TEXT(AB8,"DDDD"),"SUNDAY","S U N D A Y","MONDAY","M O N D A Y","TUESDAY","T U E S D A Y","WEDNESDAY","W E D N E S D A Y","THURSDAY","T H U R S D A Y","FRIDAY","F R I D A Y","SATURDAY","S A T U R D A Y","SUNDAY","S U N D A Y")} -> S U N D A Y | AJ6: {=_xlfn.LET(_xlpm.a,IF($D$10<>"",INDEX(Setup!$AB$8:$AL$38,,MATCH($D$10,Setup!$AB$7:$AL$7,0)),{""}),_xlpm.b,IF($D$11<>"",INDEX(Setup!$AB$8:$AL$38,,MATCH($D$11,Setup!$AB$7:$AL$7,0)),{""}),_xlpm.c,IF($D$12<>"",INDEX(Setup!$AB$8:$AL$38,,MATCH($D$12,Setup!$AB$7:$AL$7,0)),{""}),_xlpm.stacked,_xlfn.VSTACK(_xlpm.a,_xlpm.b,_xlpm.c),IFERROR(TRANSPOSE(_xlfn._xlws.FILTER(_xlpm.stacked,(_xlpm.stacked<>0)*(_xlpm.stacked<>"")*(_xlpm.stacked<>"#N/A"))),""))}
AJ7: {=_xlfn.LET(_xlpm.a,IF($L$10<>"",INDEX(Setup!$AB$8:$AL$38,,MATCH($L$10,Setup!$AB$7:$AL$7,0)),{""}),_xlpm.b,IF($L$11<>"",INDEX(Setup!$AB$8:$AL$38,,MATCH($L$11,Setup!$AB$7:$AL$7,0)),{""}),_xlpm.c,IF($L$12<>"",INDEX(Setup!$AB$8:$AL$38,,MATCH($L$12,Setup!$AB$7:$AL$7,0)),{""}),_xlpm.stacked,_xlfn.VSTACK(_xlpm.a,_xlpm.b,_xlpm.c),IFERROR(TRANSPOSE(_xlfn._xlws.FILTER(_xlpm.stacked,(_xlpm.stacked<>0)*(_xlpm.stacked<>"")*(_xlpm.stacked<>"#N/A"))),""))}
B8: DATE | D8: =$A$1+Calendar!$AY$29 -> 46212 | J8: DATE | L8: =$A$1+Calendar!$AY$29+1 -> 46213 | R8: DATE | T8: =$A$1+Calendar!$AY$29+2 -> 46214 | Z8: DATE | AB8: =$A$1+Calendar!$AY$29+3 -> 46215 | AJ8: {=_xlfn.LET(_xlpm.a,IF($T$10<>"",INDEX(Setup!$AB$8:$AL$38,,MATCH($T$10,Setup!$AB$7:$AL$7,0)),{""}),_xlpm.b,IF($T$11<>"",INDEX(Setup!$AB$8:$AL$38,,MATCH($T$11,Setup!$AB$7:$AL$7,0)),{""}),_xlpm.c,IF($T$12<>"",INDEX(Setup!$AB$8:$AL$38,,MATCH($T$12,Setup!$AB$7:$AL$7,0)),{""}),_xlpm.stacked,_xlfn.VSTACK(_xlpm.a,_xlpm.b,_xlpm.c),IFERROR(TRANSPOSE(_xlfn._xlws.FILTER(_xlpm.stacked,(_xlpm.stacked<>0)*(_xlpm.stacked<>"")*(_xlpm.stacked<>"#N/A"))),""))}
B9: REST DAY ? | J9: REST DAY ? | R9: REST DAY ? | Z9: REST DAY ? | AJ9: {=_xlfn.LET(_xlpm.a,IF($AB$10<>"",INDEX(Setup!$AB$8:$AL$38,,MATCH($AB$10,Setup!$AB$7:$AL$7,0)),{""}),_xlpm.b,IF($AB$11<>"",INDEX(Setup!$AB$8:$AL$38,,MATCH($AB$11,Setup!$AB$7:$AL$7,0)),{""}),_xlpm.c,IF($AB$12<>"",INDEX(Setup!$AB$8:$AL$38,,MATCH($AB$12,Setup!$AB$7:$AL$7,0)),{""}),_xlpm.stacked,_xlfn.VSTACK(_xlpm.a,_xlpm.b,_xlpm.c),IFERROR(TRANSPOSE(_xlfn._xlws.FILTER(_xlpm.stacked,(_xlpm.stacked<>0)*(_xlpm.stacked<>"")*(_xlpm.stacked<>"#N/A"))),""))}
B10: MUSCLE GROUPS | J10: MUSCLE GROUPS | R10: MUSCLE GROUPS | Z10: MUSCLE GROUPS | AJ10: {=_xlfn.LET(_xlpm.a,IF($D$41<>"",INDEX(Setup!$AB$8:$AL$38,,MATCH($D$41,Setup!$AB$7:$AL$7,0)),{""}),_xlpm.b,IF($D$42<>"",INDEX(Setup!$AB$8:$AL$38,,MATCH($D$42,Setup!$AB$7:$AL$7,0)),{""}),_xlpm.c,IF($D$43<>"",INDEX(Setup!$AB$8:$AL$38,,MATCH($D$43,Setup!$AB$7:$AL$7,0)),{""}),_xlpm.stacked,_xlfn.VSTACK(_xlpm.a,_xlpm.b,_xlpm.c),IFERROR(TRANSPOSE(_xlfn._xlws.FILTER(_xlpm.stacked,(_xlpm.stacked<>0)*(_xlpm.stacked<>"")*(_xlpm.stacked<>"#N/A"))),""))}
AJ11: {=_xlfn.LET(_xlpm.a,IF($L$41<>"",INDEX(Setup!$AB$8:$AL$38,,MATCH($L$41,Setup!$AB$7:$AL$7,0)),{""}),_xlpm.b,IF($L$42<>"",INDEX(Setup!$AB$8:$AL$38,,MATCH($L$42,Setup!$AB$7:$AL$7,0)),{""}),_xlpm.c,IF($L$43<>"",INDEX(Setup!$AB$8:$AL$38,,MATCH($L$43,Setup!$AB$7:$AL$7,0)),{""}),_xlpm.stacked,_xlfn.VSTACK(_xlpm.a,_xlpm.b,_xlpm.c),IFERROR(TRANSPOSE(_xlfn._xlws.FILTER(_xlpm.stacked,(_xlpm.stacked<>0)*(_xlpm.stacked<>"")*(_xlpm.stacked<>"#N/A"))),""))}
AJ12: {=_xlfn.LET(_xlpm.a,IF($T$41<>"",INDEX(Setup!$AB$8:$AL$38,,MATCH($T$41,Setup!$AB$7:$AL$7,0)),{""}),_xlpm.b,IF($T$42<>"",INDEX(Setup!$AB$8:$AL$38,,MATCH($T$42,Setup!$AB$7:$AL$7,0)),{""}),_xlpm.c,IF($T$43<>"",INDEX(Setup!$AB$8:$AL$38,,MATCH($T$43,Setup!$AB$7:$AL$7,0)),{""}),_xlpm.stacked,_xlfn.VSTACK(_xlpm.a,_xlpm.b,_xlpm.c),IFERROR(TRANSPOSE(_xlfn._xlws.FILTER(_xlpm.stacked,(_xlpm.stacked<>0)*(_xlpm.stacked<>"")*(_xlpm.stacked<>"#N/A"))),""))}
B13: EXERCISE | D13: WEIGHT | E13: SETS | F13: REPS | G13: REST | H13: TIME | J13: EXERCISE | L13: WEIGHT | M13: SETS | N13: REPS | O13: REST | P13: TIME | R13: EXERCISE | T13: WEIGHT | U13: SETS | V13: REPS | W13: REST | X13: TIME | Z13: EXERCISE | AB13: WEIGHT | AC13: SETS | AD13: REPS | AE13: REST | AF13: TIME
B29: CARDIO | J29: CARDIO | R29: CARDIO | Z29: CARDIO
B30: EXERCISE | D30: TIME | E30: SPEED | G30: DISTANCE | J30: EXERCISE | L30: TIME | M30: SPEED | O30: DISTANCE | R30: EXERCISE | T30: TIME | U30: SPEED | W30: DISTANCE | Z30: EXERCISE | AB30: TIME | AC30: SPEED | AE30: DISTANCE
B37: {=_xlfn.SWITCH(TEXT(D39,"DDDD"),"SUNDAY","S U N D A Y","MONDAY","M O N D A Y","TUESDAY","T U E S D A Y","WEDNESDAY","W E D N E S D A Y","THURSDAY","T H U R S D A Y","FRIDAY","F R I D A Y","SATURDAY","S A T U R D A Y","SUNDAY","S U N D A Y")} -> M O N D A Y | J37: {=_xlfn.SWITCH(TEXT(L39,"DDDD"),"SUNDAY","S U N D A Y","MONDAY","M O N D A Y","TUESDAY","T U E S D A Y","WEDNESDAY","W E D N E S D A Y","THURSDAY","T H U R S D A Y","FRIDAY","F R I D A Y","SATURDAY","S A T U R D A Y","SUNDAY","S U N D A Y")} -> T U E S D A Y | R37: {=_xlfn.SWITCH(TEXT(T39,"DDDD"),"SUNDAY","S U N D A Y","MONDAY","M O N D A Y","TUESDAY","T U E S D A Y","WEDNESDAY","W E D N E S D A Y","THURSDAY","T H U R S D A Y","FRIDAY","F R I D A Y","SATURDAY","S A T U R D A Y","SUNDAY","S U N D A Y")} -> W E D N E S D A Y | Z37: G O A L
B39: DATE | D39: =$A$1+Calendar!$AY$29+4 -> 46216 | J39: DATE | L39: =$A$1+Calendar!$AY$29+5 -> 46217 | R39: DATE | T39: =$A$1+Calendar!$AY$29+6 -> 46218
B40: REST DAY ? | J40: REST DAY ? | R40: REST DAY ?
B41: MUSCLE GROUPS | J41: MUSCLE GROUPS | R41: MUSCLE GROUPS
B44: EXERCISE | D44: WEIGHT | E44: SETS | F44: REPS | G44: REST | H44: TIME | J44: EXERCISE | L44: WEIGHT | M44: SETS | N44: REPS | O44: REST | P44: TIME | R44: EXERCISE | T44: WEIGHT | U44: SETS | V44: REPS | W44: REST | X44: TIME
Z46: N O T E
B60: CARDIO | J60: CARDIO | R60: CARDIO
B61: EXERCISE | D61: TIME | E61: SPEED | G61: DISTANCE | J61: EXERCISE | L61: TIME | M61: SPEED | O61: DISTANCE | R61: EXERCISE | T61: TIME | U61: SPEED | W61: DISTANCE

Sheet Week 5
A1: 28
B2: Week 5
J3: W O R K O U T D A Y S | N3: =7-$V$3 -> 7 | R3: R E S T D A Y S | V3: =COUNTIF(D9,Calendar!$AQ$7)+COUNTIF(L9,Calendar!$AQ$7)+COUNTIF(T9,Calendar!$AQ$7)+COUNTIF(AB9,Calendar!$AQ$7)+COUNTIF(D40,Calendar!$AQ$7)+COUNTIF(L40,Calendar!$AQ$7)+COUNTIF(T40,Calendar!$AQ$7) -> 0 | Z3: © Hey Morning. All rights reserved.
AJ5: data source of the second layer dropdown
B6: {=_xlfn.SWITCH(TEXT(D8,"DDDD"),"SUNDAY","S U N D A Y","MONDAY","M O N D A Y","TUESDAY","T U E S D A Y","WEDNESDAY","W E D N E S D A Y","THURSDAY","T H U R S D A Y","FRIDAY","F R I D A Y","SATURDAY","S A T U R D A Y","SUNDAY","S U N D A Y")} -> T H U R S D A Y | J6: {=_xlfn.SWITCH(TEXT(L8,"DDDD"),"SUNDAY","S U N D A Y","MONDAY","M O N D A Y","TUESDAY","T U E S D A Y","WEDNESDAY","W E D N E S D A Y","THURSDAY","T H U R S D A Y","FRIDAY","F R I D A Y","SATURDAY","S A T U R D A Y","SUNDAY","S U N D A Y")} -> F R I D A Y | R6: {=_xlfn.SWITCH(TEXT(T8,"DDDD"),"SUNDAY","S U N D A Y","MONDAY","M O N D A Y","TUESDAY","T U E S D A Y","WEDNESDAY","W E D N E S D A Y","THURSDAY","T H U R S D A Y","FRIDAY","F R I D A Y","SATURDAY","S A T U R D A Y","SUNDAY","S U N D A Y")} -> S A T U R D A Y | Z6: {=_xlfn.SWITCH(TEXT(AB8,"DDDD"),"SUNDAY","S U N D A Y","MONDAY","M O N D A Y","TUESDAY","T U E S D A Y","WEDNESDAY","W E D N E S D A Y","THURSDAY","T H U R S D A Y","FRIDAY","F R I D A Y","SATURDAY","S A T U R D A Y","SUNDAY","S U N D A Y")} -> S U N D A Y | AJ6: {=_xlfn.LET(_xlpm.a,IF($D$10<>"",INDEX(Setup!$AB$8:$AL$38,,MATCH($D$10,Setup!$AB$7:$AL$7,0)),{""}),_xlpm.b,IF($D$11<>"",INDEX(Setup!$AB$8:$AL$38,,MATCH($D$11,Setup!$AB$7:$AL$7,0)),{""}),_xlpm.c,IF($D$12<>"",INDEX(Setup!$AB$8:$AL$38,,MATCH($D$12,Setup!$AB$7:$AL$7,0)),{""}),_xlpm.stacked,_xlfn.VSTACK(_xlpm.a,_xlpm.b,_xlpm.c),IFERROR(TRANSPOSE(_xlfn._xlws.FILTER(_xlpm.stacked,(_xlpm.stacked<>0)*(_xlpm.stacked<>"")*(_xlpm.stacked<>"#N/A"))),""))}
AJ7: {=_xlfn.LET(_xlpm.a,IF($L$10<>"",INDEX(Setup!$AB$8:$AL$38,,MATCH($L$10,Setup!$AB$7:$AL$7,0)),{""}),_xlpm.b,IF($L$11<>"",INDEX(Setup!$AB$8:$AL$38,,MATCH($L$11,Setup!$AB$7:$AL$7,0)),{""}),_xlpm.c,IF($L$12<>"",INDEX(Setup!$AB$8:$AL$38,,MATCH($L$12,Setup!$AB$7:$AL$7,0)),{""}),_xlpm.stacked,_xlfn.VSTACK(_xlpm.a,_xlpm.b,_xlpm.c),IFERROR(TRANSPOSE(_xlfn._xlws.FILTER(_xlpm.stacked,(_xlpm.stacked<>0)*(_xlpm.stacked<>"")*(_xlpm.stacked<>"#N/A"))),""))}
B8: DATE | D8: =$A$1+Calendar!$AY$29 -> 46219 | J8: DATE | L8: =$A$1+Calendar!$AY$29+1 -> 46220 | R8: DATE | T8: =$A$1+Calendar!$AY$29+2 -> 46221 | Z8: DATE | AB8: =$A$1+Calendar!$AY$29+3 -> 46222 | AJ8: {=_xlfn.LET(_xlpm.a,IF($T$10<>"",INDEX(Setup!$AB$8:$AL$38,,MATCH($T$10,Setup!$AB$7:$AL$7,0)),{""}),_xlpm.b,IF($T$11<>"",INDEX(Setup!$AB$8:$AL$38,,MATCH($T$11,Setup!$AB$7:$AL$7,0)),{""}),_xlpm.c,IF($T$12<>"",INDEX(Setup!$AB$8:$AL$38,,MATCH($T$12,Setup!$AB$7:$AL$7,0)),{""}),_xlpm.stacked,_xlfn.VSTACK(_xlpm.a,_xlpm.b,_xlpm.c),IFERROR(TRANSPOSE(_xlfn._xlws.FILTER(_xlpm.stacked,(_xlpm.stacked<>0)*(_xlpm.stacked<>"")*(_xlpm.stacked<>"#N/A"))),""))}
B9: REST DAY ? | J9: REST DAY ? | R9: REST DAY ? | Z9: REST DAY ? | AJ9: {=_xlfn.LET(_xlpm.a,IF($AB$10<>"",INDEX(Setup!$AB$8:$AL$38,,MATCH($AB$10,Setup!$AB$7:$AL$7,0)),{""}),_xlpm.b,IF($AB$11<>"",INDEX(Setup!$AB$8:$AL$38,,MATCH($AB$11,Setup!$AB$7:$AL$7,0)),{""}),_xlpm.c,IF($AB$12<>"",INDEX(Setup!$AB$8:$AL$38,,MATCH($AB$12,Setup!$AB$7:$AL$7,0)),{""}),_xlpm.stacked,_xlfn.VSTACK(_xlpm.a,_xlpm.b,_xlpm.c),IFERROR(TRANSPOSE(_xlfn._xlws.FILTER(_xlpm.stacked,(_xlpm.stacked<>0)*(_xlpm.stacked<>"")*(_xlpm.stacked<>"#N/A"))),""))}
B10: MUSCLE GROUPS | J10: MUSCLE GROUPS | R10: MUSCLE GROUPS | Z10: MUSCLE GROUPS | AJ10: {=_xlfn.LET(_xlpm.a,IF($D$41<>"",INDEX(Setup!$AB$8:$AL$38,,MATCH($D$41,Setup!$AB$7:$AL$7,0)),{""}),_xlpm.b,IF($D$42<>"",INDEX(Setup!$AB$8:$AL$38,,MATCH($D$42,Setup!$AB$7:$AL$7,0)),{""}),_xlpm.c,IF($D$43<>"",INDEX(Setup!$AB$8:$AL$38,,MATCH($D$43,Setup!$AB$7:$AL$7,0)),{""}),_xlpm.stacked,_xlfn.VSTACK(_xlpm.a,_xlpm.b,_xlpm.c),IFERROR(TRANSPOSE(_xlfn._xlws.FILTER(_xlpm.stacked,(_xlpm.stacked<>0)*(_xlpm.stacked<>"")*(_xlpm.stacked<>"#N/A"))),""))}
AJ11: {=_xlfn.LET(_xlpm.a,IF($L$41<>"",INDEX(Setup!$AB$8:$AL$38,,MATCH($L$41,Setup!$AB$7:$AL$7,0)),{""}),_xlpm.b,IF($L$42<>"",INDEX(Setup!$AB$8:$AL$38,,MATCH($L$42,Setup!$AB$7:$AL$7,0)),{""}),_xlpm.c,IF($L$43<>"",INDEX(Setup!$AB$8:$AL$38,,MATCH($L$43,Setup!$AB$7:$AL$7,0)),{""}),_xlpm.stacked,_xlfn.VSTACK(_xlpm.a,_xlpm.b,_xlpm.c),IFERROR(TRANSPOSE(_xlfn._xlws.FILTER(_xlpm.stacked,(_xlpm.stacked<>0)*(_xlpm.stacked<>"")*(_xlpm.stacked<>"#N/A"))),""))}
AJ12: {=_xlfn.LET(_xlpm.a,IF($T$41<>"",INDEX(Setup!$AB$8:$AL$38,,MATCH($T$41,Setup!$AB$7:$AL$7,0)),{""}),_xlpm.b,IF($T$42<>"",INDEX(Setup!$AB$8:$AL$38,,MATCH($T$42,Setup!$AB$7:$AL$7,0)),{""}),_xlpm.c,IF($T$43<>"",INDEX(Setup!$AB$8:$AL$38,,MATCH($T$43,Setup!$AB$7:$AL$7,0)),{""}),_xlpm.stacked,_xlfn.VSTACK(_xlpm.a,_xlpm.b,_xlpm.c),IFERROR(TRANSPOSE(_xlfn._xlws.FILTER(_xlpm.stacked,(_xlpm.stacked<>0)*(_xlpm.stacked<>"")*(_xlpm.stacked<>"#N/A"))),""))}
B13: EXERCISE | D13: WEIGHT | E13: SETS | F13: REPS | G13: REST | H13: TIME | J13: EXERCISE | L13: WEIGHT | M13: SETS | N13: REPS | O13: REST | P13: TIME | R13: EXERCISE | T13: WEIGHT | U13: SETS | V13: REPS | W13: REST | X13: TIME | Z13: EXERCISE | AB13: WEIGHT | AC13: SETS | AD13: REPS | AE13: REST | AF13: TIME
B29: CARDIO | J29: CARDIO | R29: CARDIO | Z29: CARDIO
B30: EXERCISE | D30: TIME | E30: SPEED | G30: DISTANCE | J30: EXERCISE | L30: TIME | M30: SPEED | O30: DISTANCE | R30: EXERCISE | T30: TIME | U30: SPEED | W30: DISTANCE | Z30: EXERCISE | AB30: TIME | AC30: SPEED | AE30: DISTANCE
B37: {=_xlfn.SWITCH(TEXT(D39,"DDDD"),"SUNDAY","S U N D A Y","MONDAY","M O N D A Y","TUESDAY","T U E S D A Y","WEDNESDAY","W E D N E S D A Y","THURSDAY","T H U R S D A Y","FRIDAY","F R I D A Y","SATURDAY","S A T U R D A Y","SUNDAY","S U N D A Y")} -> M O N D A Y | J37: {=_xlfn.SWITCH(TEXT(L39,"DDDD"),"SUNDAY","S U N D A Y","MONDAY","M O N D A Y","TUESDAY","T U E S D A Y","WEDNESDAY","W E D N E S D A Y","THURSDAY","T H U R S D A Y","FRIDAY","F R I D A Y","SATURDAY","S A T U R D A Y","SUNDAY","S U N D A Y")} -> T U E S D A Y | R37: {=_xlfn.SWITCH(TEXT(T39,"DDDD"),"SUNDAY","S U N D A Y","MONDAY","M O N D A Y","TUESDAY","T U E S D A Y","WEDNESDAY","W E D N E S D A Y","THURSDAY","T H U R S D A Y","FRIDAY","F R I D A Y","SATURDAY","S A T U R D A Y","SUNDAY","S U N D A Y")} -> W E D N E S D A Y | Z37: G O A L
B39: DATE | D39: =$A$1+Calendar!$AY$29+4 -> 46223 | J39: DATE | L39: =$A$1+Calendar!$AY$29+5 -> 46224 | R39: DATE | T39: =$A$1+Calendar!$AY$29+6 -> 46225
B40: REST DAY ? | J40: REST DAY ? | R40: REST DAY ?
B41: MUSCLE GROUPS | J41: MUSCLE GROUPS | R41: MUSCLE GROUPS
B44: EXERCISE | D44: WEIGHT | E44: SETS | F44: REPS | G44: REST | H44: TIME | J44: EXERCISE | L44: WEIGHT | M44: SETS | N44: REPS | O44: REST | P44: TIME | R44: EXERCISE | T44: WEIGHT | U44: SETS | V44: REPS | W44: REST | X44: TIME
Z46: N O T E
B60: CARDIO | J60: CARDIO | R60: CARDIO
B61: EXERCISE | D61: TIME | E61: SPEED | G61: DISTANCE | J61: EXERCISE | L61: TIME | M61: SPEED | O61: DISTANCE | R61: EXERCISE | T61: TIME | U61: SPEED | W61: DISTANCE

Sheet Week 6
A1: 35
B2: Week 6
J3: W O R K O U T D A Y S | N3: =7-$V$3 -> 7 | R3: R E S T D A Y S | V3: =COUNTIF(D9,Calendar!$AQ$7)+COUNTIF(L9,Calendar!$AQ$7)+COUNTIF(T9,Calendar!$AQ$7)+COUNTIF(AB9,Calendar!$AQ$7)+COUNTIF(D40,Calendar!$AQ$7)+COUNTIF(L40,Calendar!$AQ$7)+COUNTIF(T40,Calendar!$AQ$7) -> 0 | Z3: © Hey Morning. All rights reserved.
AJ5: data source of the second layer dropdown
B6: {=_xlfn.SWITCH(TEXT(D8,"DDDD"),"SUNDAY","S U N D A Y","MONDAY","M O N D A Y","TUESDAY","T U E S D A Y","WEDNESDAY","W E D N E S D A Y","THURSDAY","T H U R S D A Y","FRIDAY","F R I D A Y","SATURDAY","S A T U R D A Y","SUNDAY","S U N D A Y")} -> T H U R S D A Y | J6: {=_xlfn.SWITCH(TEXT(L8,"DDDD"),"SUNDAY","S U N D A Y","MONDAY","M O N D A Y","TUESDAY","T U E S D A Y","WEDNESDAY","W E D N E S D A Y","THURSDAY","T H U R S D A Y","FRIDAY","F R I D A Y","SATURDAY","S A T U R D A Y","SUNDAY","S U N D A Y")} -> F R I D A Y | R6: {=_xlfn.SWITCH(TEXT(T8,"DDDD"),"SUNDAY","S U N D A Y","MONDAY","M O N D A Y","TUESDAY","T U E S D A Y","WEDNESDAY","W E D N E S D A Y","THURSDAY","T H U R S D A Y","FRIDAY","F R I D A Y","SATURDAY","S A T U R D A Y","SUNDAY","S U N D A Y")} -> S A T U R D A Y | Z6: {=_xlfn.SWITCH(TEXT(AB8,"DDDD"),"SUNDAY","S U N D A Y","MONDAY","M O N D A Y","TUESDAY","T U E S D A Y","WEDNESDAY","W E D N E S D A Y","THURSDAY","T H U R S D A Y","FRIDAY","F R I D A Y","SATURDAY","S A T U R D A Y","SUNDAY","S U N D A Y")} -> S U N D A Y | AJ6: {=_xlfn.LET(_xlpm.a,IF($D$10<>"",INDEX(Setup!$AB$8:$AL$38,,MATCH($D$10,Setup!$AB$7:$AL$7,0)),{""}),_xlpm.b,IF($D$11<>"",INDEX(Setup!$AB$8:$AL$38,,MATCH($D$11,Setup!$AB$7:$AL$7,0)),{""}),_xlpm.c,IF($D$12<>"",INDEX(Setup!$AB$8:$AL$38,,MATCH($D$12,Setup!$AB$7:$AL$7,0)),{""}),_xlpm.stacked,_xlfn.VSTACK(_xlpm.a,_xlpm.b,_xlpm.c),IFERROR(TRANSPOSE(_xlfn._xlws.FILTER(_xlpm.stacked,(_xlpm.stacked<>0)*(_xlpm.stacked<>"")*(_xlpm.stacked<>"#N/A"))),""))}
AJ7: {=_xlfn.LET(_xlpm.a,IF($L$10<>"",INDEX(Setup!$AB$8:$AL$38,,MATCH($L$10,Setup!$AB$7:$AL$7,0)),{""}),_xlpm.b,IF($L$11<>"",INDEX(Setup!$AB$8:$AL$38,,MATCH($L$11,Setup!$AB$7:$AL$7,0)),{""}),_xlpm.c,IF($L$12<>"",INDEX(Setup!$AB$8:$AL$38,,MATCH($L$12,Setup!$AB$7:$AL$7,0)),{""}),_xlpm.stacked,_xlfn.VSTACK(_xlpm.a,_xlpm.b,_xlpm.c),IFERROR(TRANSPOSE(_xlfn._xlws.FILTER(_xlpm.stacked,(_xlpm.stacked<>0)*(_xlpm.stacked<>"")*(_xlpm.stacked<>"#N/A"))),""))}
B8: DATE | D8: =$A$1+Calendar!$AY$29 -> 46226 | J8: DATE | L8: =$A$1+Calendar!$AY$29+1 -> 46227 | R8: DATE | T8: =$A$1+Calendar!$AY$29+2 -> 46228 | Z8: DATE | AB8: =$A$1+Calendar!$AY$29+3 -> 46229 | AJ8: {=_xlfn.LET(_xlpm.a,IF($T$10<>"",INDEX(Setup!$AB$8:$AL$38,,MATCH($T$10,Setup!$AB$7:$AL$7,0)),{""}),_xlpm.b,IF($T$11<>"",INDEX(Setup!$AB$8:$AL$38,,MATCH($T$11,Setup!$AB$7:$AL$7,0)),{""}),_xlpm.c,IF($T$12<>"",INDEX(Setup!$AB$8:$AL$38,,MATCH($T$12,Setup!$AB$7:$AL$7,0)),{""}),_xlpm.stacked,_xlfn.VSTACK(_xlpm.a,_xlpm.b,_xlpm.c),IFERROR(TRANSPOSE(_xlfn._xlws.FILTER(_xlpm.stacked,(_xlpm.stacked<>0)*(_xlpm.stacked<>"")*(_xlpm.stacked<>"#N/A"))),""))}
B9: REST DAY ? | J9: REST DAY ? | R9: REST DAY ? | Z9: REST DAY ? | AJ9: {=_xlfn.LET(_xlpm.a,IF($AB$10<>"",INDEX(Setup!$AB$8:$AL$38,,MATCH($AB$10,Setup!$AB$7:$AL$7,0)),{""}),_xlpm.b,IF($AB$11<>"",INDEX(Setup!$AB$8:$AL$38,,MATCH($AB$11,Setup!$AB$7:$AL$7,0)),{""}),_xlpm.c,IF($AB$12<>"",INDEX(Setup!$AB$8:$AL$38,,MATCH($AB$12,Setup!$AB$7:$AL$7,0)),{""}),_xlpm.stacked,_xlfn.VSTACK(_xlpm.a,_xlpm.b,_xlpm.c),IFERROR(TRANSPOSE(_xlfn._xlws.FILTER(_xlpm.stacked,(_xlpm.stacked<>0)*(_xlpm.stacked<>"")*(_xlpm.stacked<>"#N/A"))),""))}
B10: MUSCLE GROUPS | J10: MUSCLE GROUPS | R10: MUSCLE GROUPS | Z10: MUSCLE GROUPS | AJ10: {=_xlfn.LET(_xlpm.a,IF($D$41<>"",INDEX(Setup!$AB$8:$AL$38,,MATCH($D$41,Setup!$AB$7:$AL$7,0)),{""}),_xlpm.b,IF($D$42<>"",INDEX(Setup!$AB$8:$AL$38,,MATCH($D$42,Setup!$AB$7:$AL$7,0)),{""}),_xlpm.c,IF($D$43<>"",INDEX(Setup!$AB$8:$AL$38,,MATCH($D$43,Setup!$AB$7:$AL$7,0)),{""}),_xlpm.stacked,_xlfn.VSTACK(_xlpm.a,_xlpm.b,_xlpm.c),IFERROR(TRANSPOSE(_xlfn._xlws.FILTER(_xlpm.stacked,(_xlpm.stacked<>0)*(_xlpm.stacked<>"")*(_xlpm.stacked<>"#N/A"))),""))}
AJ11: {=_xlfn.LET(_xlpm.a,IF($L$41<>"",INDEX(Setup!$AB$8:$AL$38,,MATCH($L$41,Setup!$AB$7:$AL$7,0)),{""}),_xlpm.b,IF($L$42<>"",INDEX(Setup!$AB$8:$AL$38,,MATCH($L$42,Setup!$AB$7:$AL$7,0)),{""}),_xlpm.c,IF($L$43<>"",INDEX(Setup!$AB$8:$AL$38,,MATCH($L$43,Setup!$AB$7:$AL$7,0)),{""}),_xlpm.stacked,_xlfn.VSTACK(_xlpm.a,_xlpm.b,_xlpm.c),IFERROR(TRANSPOSE(_xlfn._xlws.FILTER(_xlpm.stacked,(_xlpm.stacked<>0)*(_xlpm.stacked<>"")*(_xlpm.stacked<>"#N/A"))),""))}
AJ12: {=_xlfn.LET(_xlpm.a,IF($T$41<>"",INDEX(Setup!$AB$8:$AL$38,,MATCH($T$41,Setup!$AB$7:$AL$7,0)),{""}),_xlpm.b,IF($T$42<>"",INDEX(Setup!$AB$8:$AL$38,,MATCH($T$42,Setup!$AB$7:$AL$7,0)),{""}),_xlpm.c,IF($T$43<>"",INDEX(Setup!$AB$8:$AL$38,,MATCH($T$43,Setup!$AB$7:$AL$7,0)),{""}),_xlpm.stacked,_xlfn.VSTACK(_xlpm.a,_xlpm.b,_xlpm.c),IFERROR(TRANSPOSE(_xlfn._xlws.FILTER(_xlpm.stacked,(_xlpm.stacked<>0)*(_xlpm.stacked<>"")*(_xlpm.stacked<>"#N/A"))),""))}
B13: EXERCISE | D13: WEIGHT | E13: SETS | F13: REPS | G13: REST | H13: TIME | J13: EXERCISE | L13: WEIGHT | M13: SETS | N13: REPS | O13: REST | P13: TIME | R13: EXERCISE | T13: WEIGHT | U13: SETS | V13: REPS | W13: REST | X13: TIME | Z13: EXERCISE | AB13: WEIGHT | AC13: SETS | AD13: REPS | AE13: REST | AF13: TIME
B29: CARDIO | J29: CARDIO | R29: CARDIO | Z29: CARDIO
B30: EXERCISE | D30: TIME | E30: SPEED | G30: DISTANCE | J30: EXERCISE | L30: TIME | M30: SPEED | O30: DISTANCE | R30: EXERCISE | T30: TIME | U30: SPEED | W30: DISTANCE | Z30: EXERCISE | AB30: TIME | AC30: SPEED | AE30: DISTANCE
B37: {=_xlfn.SWITCH(TEXT(D39,"DDDD"),"SUNDAY","S U N D A Y","MONDAY","M O N D A Y","TUESDAY","T U E S D A Y","WEDNESDAY","W E D N E S D A Y","THURSDAY","T H U R S D A Y","FRIDAY","F R I D A Y","SATURDAY","S A T U R D A Y","SUNDAY","S U N D A Y")} -> M O N D A Y | J37: {=_xlfn.SWITCH(TEXT(L39,"DDDD"),"SUNDAY","S U N D A Y","MONDAY","M O N D A Y","TUESDAY","T U E S D A Y","WEDNESDAY","W E D N E S D A Y","THURSDAY","T H U R S D A Y","FRIDAY","F R I D A Y","SATURDAY","S A T U R D A Y","SUNDAY","S U N D A Y")} -> T U E S D A Y | R37: {=_xlfn.SWITCH(TEXT(T39,"DDDD"),"SUNDAY","S U N D A Y","MONDAY","M O N D A Y","TUESDAY","T U E S D A Y","WEDNESDAY","W E D N E S D A Y","THURSDAY","T H U R S D A Y","FRIDAY","F R I D A Y","SATURDAY","S A T U R D A Y","SUNDAY","S U N D A Y")} -> W E D N E S D A Y | Z37: G O A L
B39: DATE | D39: =$A$1+Calendar!$AY$29+4 -> 46230 | J39: DATE | L39: =$A$1+Calendar!$AY$29+5 -> 46231 | R39: DATE | T39: =$A$1+Calendar!$AY$29+6 -> 46232
B40: REST DAY ? | J40: REST DAY ? | R40: REST DAY ?
B41: MUSCLE GROUPS | J41: MUSCLE GROUPS | R41: MUSCLE GROUPS
B44: EXERCISE | D44: WEIGHT | E44: SETS | F44: REPS | G44: REST | H44: TIME | J44: EXERCISE | L44: WEIGHT | M44: SETS | N44: REPS | O44: REST | P44: TIME | R44: EXERCISE | T44: WEIGHT | U44: SETS | V44: REPS | W44: REST | X44: TIME
Z46: N O T E
B60: CARDIO | J60: CARDIO | R60: CARDIO
B61: EXERCISE | D61: TIME | E61: SPEED | G61: DISTANCE | J61: EXERCISE | L61: TIME | M61: SPEED | O61: DISTANCE | R61: EXERCISE | T61: TIME | U61: SPEED | W61: DISTANCE

Sheet Calendar
B2: =Setup!O4 -> 46191 | AK2: #VALUE!
K3: planned workout days | T3: completed workout days | AC3: rest days
K4: =COUNTIF(AU18:BA23,">0") -> 0 | T4: =COUNTIF(AU10:BA15,"=1") -> 0 | AC4: =42-(COUNTIF(C21,"")+COUNTIF(H21,"")+COUNTIF(M21,"")+COUNTIF(R21,"")+COUNTIF(W21,"")+COUNTIF(AB21,"")+COUNTIF(AG21,"")+COUNTIF(C26,"")+COUNTIF(H26,"")+COUNTIF(M26,"")+COUNTIF(R26,"")+COUNTIF(W26,"")+COUNTIF(AB26,"")+COUNTIF(AG26,"")+COUNTIF(C31,"")+COUNTIF(H31,"")+COUNTIF(M31,"")+COUNTIF(R31,"")+COUNTIF(W31,"")+COUNTIF(AB31,"")+COUNTIF(AG31,"")+COUNTIF(C36,"")+COUNTIF(H36,"")+COUNTIF(M36,"")+COUNTIF(R36,"")+COUNTIF(W36,"")+COUNTIF(AB36,"")+COUNTIF(AG36,"")+COUNTIF(C41,"")+COUNTIF(H41,"")+COUNTIF(M41,"")+COUNTIF(R41,"")+COUNTIF(W41,"")+COUNTIF(AB41,"")+COUNTIF(AG41,"")+COUNTIF(C46,"")+COUNTIF(H46,"")+COUNTIF(M46,"")+COUNTIF(R46,"")+COUNTIF(W46,"")+COUNTIF(AB46,"")+COUNTIF(AG46,"")) -> 0
B5: W O R K O U T C A L E N D A R
AO7: =SUMPRODUCT($AO$11:$AO$52,$AP$11:$AP$52) -> 0 | AP7: Completed | AQ7: ✓
AO8: =SUM($AP$11:$AP$52)-$AO$7 -> 0 | AP8: Remaining
AN10: DAILY PROGRESS | AQ10: FILTERED DAILY PROGRESS | AU10: {=IFERROR(SUMPRODUCT((LEN(C22:C25)>0)*(B22:B25=$AQ$7))/AU18,0)} -> 0 | AV10: {=IFERROR(SUMPRODUCT((LEN(H22:H25)>0)*(G22:G25=AQ7))/INDIRECT(ADDRESS(ROW()+8,COLUMN())),0)} -> 0 | AW10: {=IFERROR(SUMPRODUCT((LEN(M22:M25)>0)*(L22:L25=AQ7))/INDIRECT(ADDRESS(ROW()+8,COLUMN())),0)} -> 0 | AX10: {=IFERROR(SUMPRODUCT((LEN(R22:R25)>0)*(Q22:Q25=AQ7))/INDIRECT(ADDRESS(ROW()+8,COLUMN())),0)} -> 0 | AY10: {=IFERROR(SUMPRODUCT((LEN(W22:W25)>0)*(V22:V25=AQ7))/INDIRECT(ADDRESS(ROW()+8,COLUMN())),0)} -> 0 | AZ10: {=IFERROR(SUMPRODUCT((LEN(AB22:AB25)>0)*(AA22:AA25=AQ7))/INDIRECT(ADDRESS(ROW()+8,COLUMN())),0)} -> 0 | BA10: {=IFERROR(SUMPRODUCT((LEN(AG22:AG25)>0)*(AF22:AF25=AQ7))/INDIRECT(ADDRESS(ROW()+8,COLUMN())),0)} -> 0
B11: =IFERROR($AO$7/SUM($AP$11:$AP$52),0) -> 0 | AN11: {=INDIRECT(ADDRESS(21+5*ROUNDDOWN((ROW()-11)/7,0),2+MOD(ROW()-11,7)*5))} -> 46191 | AO11: {=INDIRECT(ADDRESS(ROW($AU$10)+ROUNDDOWN((ROW()-11)/7,0),COLUMN($AU$10)+MOD(ROW()-11,7)))} -> 0 | AP11: {=INDIRECT(ADDRESS(ROW($AU$18)+ROUNDDOWN((ROW()-11)/7,0),COLUMN($AU$18)+MOD(ROW()-11,7)))} -> 0 | AQ11: {=_xlfn._xlws.FILTER(AN11:AP47,NOT(AN11:AN47=""),AP11:AP47>0)} -> 46191 | AR11: 0 | AS11: 0 | AU11: {=IFERROR(SUMPRODUCT((LEN(C27:C30)>0)*(B27:B30=$AQ$7))/INDIRECT(ADDRESS(ROW()+8,COLUMN())),0)} -> 0 | AV11: {=IFERROR(SUMPRODUCT((LEN(H27:H30)>0)*(G27:G30=AQ7))/INDIRECT(ADDRESS(ROW()+8,COLUMN())),0)} -> 0 | AW11: {=IFERROR(SUMPRODUCT((LEN(M27:M30)>0)*(L27:L30=AQ7))/INDIRECT(ADDRESS(ROW()+8,COLUMN())),0)} -> 0 | AX11: {=IFERROR(SUMPRODUCT((LEN(R27:R30)>0)*(Q27:Q30=AQ7))/INDIRECT(ADDRESS(ROW()+8,COLUMN())),0)} -> 0 | AY11: {=IFERROR(SUMPRODUCT((LEN(W27:W30)>0)*(V27:V30=AQ7))/INDIRECT(ADDRESS(ROW()+8,COLUMN())),0)} -> 0 | AZ11: {=IFERROR(SUMPRODUCT((LEN(AB27:AB30)>0)*(AA27:AA30=AQ7))/INDIRECT(ADDRESS(ROW()+8,COLUMN())),0)} -> 0 | BA11: {=IFERROR(SUMPRODUCT((LEN(AG27:AG30)>0)*(AF27:AF30=AQ7))/INDIRECT(ADDRESS(ROW()+8,COLUMN())),0)} -> 0
AN12: {=INDIRECT(ADDRESS(21+5*ROUNDDOWN((ROW()-11)/7,0),2+MOD(ROW()-11,7)*5))} -> 46192 | AO12: {=INDIRECT(ADDRESS(ROW($AU$10)+ROUNDDOWN((ROW()-11)/7,0),COLUMN($AU$10)+MOD(ROW()-11,7)))} -> 0 | AP12: {=INDIRECT(ADDRESS(ROW($AU$18)+ROUNDDOWN((ROW()-11)/7,0),COLUMN($AU$18)+MOD(ROW()-11,7)))} -> 0 | AQ12: 46192 | AR12: 0 | AS12: 0 | AU12: {=IFERROR(SUMPRODUCT((LEN(C32:C35)>0)*(B32:B35=$AQ$7))/INDIRECT(ADDRESS(ROW()+8,COLUMN())),0)} -> 0 | AV12: {=IFERROR(SUMPRODUCT((LEN(H32:H35)>0)*(G32:G35=AQ7))/INDIRECT(ADDRESS(ROW()+8,COLUMN())),0)} -> 0 | AW12: {=IFERROR(SUMPRODUCT((LEN(M32:M35)>0)*(L32:L35=AQ7))/INDIRECT(ADDRESS(ROW()+8,COLUMN())),0)} -> 0 | AX12: {=IFERROR(SUMPRODUCT((LEN(R32:R35)>0)*(Q32:Q35=AQ7))/INDIRECT(ADDRESS(ROW()+8,COLUMN())),0)} -> 0 | AY12: {=IFERROR(SUMPRODUCT((LEN(W32:W35)>0)*(V32:V35=AQ7))/INDIRECT(ADDRESS(ROW()+8,COLUMN())),0)} -> 0 | AZ12: {=IFERROR(SUMPRODUCT((LEN(AB32:AB35)>0)*(AA32:AA35=AQ7))/INDIRECT(ADDRESS(ROW()+8,COLUMN())),0)} -> 0 | BA12: {=IFERROR(SUMPRODUCT((LEN(AG32:AG35)>0)*(AF32:AF35=AQ7))/INDIRECT(ADDRESS(ROW()+8,COLUMN())),0)} -> 0
AN13: {=INDIRECT(ADDRESS(21+5*ROUNDDOWN((ROW()-11)/7,0),2+MOD(ROW()-11,7)*5))} -> 46193 | AO13: {=INDIRECT(ADDRESS(ROW($AU$10)+ROUNDDOWN((ROW()-11)/7,0),COLUMN($AU$10)+MOD(ROW()-11,7)))} -> 0 | AP13: {=INDIRECT(ADDRESS(ROW($AU$18)+ROUNDDOWN((ROW()-11)/7,0),COLUMN($AU$18)+MOD(ROW()-11,7)))} -> 0 | AQ13: 46193 | AR13: 0 | AS13: 0 | AU13: {=IFERROR(SUMPRODUCT((LEN(C37:C40)>0)*(B37:B40=$AQ$7))/INDIRECT(ADDRESS(ROW()+8,COLUMN())),0)} -> 0 | AV13: {=IFERROR(SUMPRODUCT((LEN(H37:H40)>0)*(G37:G40=AQ7))/INDIRECT(ADDRESS(ROW()+8,COLUMN())),0)} -> 0 | AW13: {=IFERROR(SUMPRODUCT((LEN(M37:M40)>0)*(L37:L40=AQ7))/INDIRECT(ADDRESS(ROW()+8,COLUMN())),0)} -> 0 | AX13: {=IFERROR(SUMPRODUCT((LEN(R37:R40)>0)*(Q37:Q40=AQ7))/INDIRECT(ADDRESS(ROW()+8,COLUMN())),0)} -> 0 | AY13: {=IFERROR(SUMPRODUCT((LEN(W37:W40)>0)*(V37:V40=AQ7))/INDIRECT(ADDRESS(ROW()+8,COLUMN())),0)} -> 0 | AZ13: {=IFERROR(SUMPRODUCT((LEN(AB37:AB40)>0)*(AA37:AA40=AQ7))/INDIRECT(ADDRESS(ROW()+8,COLUMN())),0)} -> 0 | BA13: {=IFERROR(SUMPRODUCT((LEN(AG37:AG40)>0)*(AF37:AF40=AQ7))/INDIRECT(ADDRESS(ROW()+8,COLUMN())),0)} -> 0
AN14: {=INDIRECT(ADDRESS(21+5*ROUNDDOWN((ROW()-11)/7,0),2+MOD(ROW()-11,7)*5))} -> 46194 | AO14: {=INDIRECT(ADDRESS(ROW($AU$10)+ROUNDDOWN((ROW()-11)/7,0),COLUMN($AU$10)+MOD(ROW()-11,7)))} -> 0 | AP14: {=INDIRECT(ADDRESS(ROW($AU$18)+ROUNDDOWN((ROW()-11)/7,0),COLUMN($AU$18)+MOD(ROW()-11,7)))} -> 0 | AQ14: 46194 | AR14: 0 | AS14: 0 | AU14: {=IFERROR(SUMPRODUCT((LEN(C42:C45)>0)*(B42:B45=$AQ$7))/INDIRECT(ADDRESS(ROW()+8,COLUMN())),0)} -> 0 | AV14: {=IFERROR(SUMPRODUCT((LEN(H42:H45)>0)*(G42:G45=AQ7))/INDIRECT(ADDRESS(ROW()+8,COLUMN())),0)} -> 0 | AW14: {=IFERROR(SUMPRODUCT((LEN(M42:M45)>0)*(L42:L45=AQ7))/INDIRECT(ADDRESS(ROW()+8,COLUMN())),0)} -> 0 | AX14: {=IFERROR(SUMPRODUCT((LEN(R42:R45)>0)*(Q42:Q45=AQ7))/INDIRECT(ADDRESS(ROW()+8,COLUMN())),0)} -> 0 | AY14: {=IFERROR(SUMPRODUCT((LEN(W42:W45)>0)*(V42:V45=AQ7))/INDIRECT(ADDRESS(ROW()+8,COLUMN())),0)} -> 0 | AZ14: {=IFERROR(SUMPRODUCT((LEN(AB42:AB45)>0)*(AA42:AA45=AQ7))/INDIRECT(ADDRESS(ROW()+8,COLUMN())),0)} -> 0 | BA14: {=IFERROR(SUMPRODUCT((LEN(AG42:AG45)>0)*(AF42:AF45=AQ7))/INDIRECT(ADDRESS(ROW()+8,COLUMN())),0)} -> 0
AN15: {=INDIRECT(ADDRESS(21+5*ROUNDDOWN((ROW()-11)/7,0),2+MOD(ROW()-11,7)*5))} -> 46195 | AO15: {=INDIRECT(ADDRESS(ROW($AU$10)+ROUNDDOWN((ROW()-11)/7,0),COLUMN($AU$10)+MOD(ROW()-11,7)))} -> 0 | AP15: {=INDIRECT(ADDRESS(ROW($AU$18)+ROUNDDOWN((ROW()-11)/7,0),COLUMN($AU$18)+MOD(ROW()-11,7)))} -> 0 | AQ15: 46195 | AR15: 0 | AS15: 0 | AU15: {=IFERROR(SUMPRODUCT((LEN(C47:C50)>0)*(B47:B50=$AQ$7))/INDIRECT(ADDRESS(ROW()+8,COLUMN())),0)} -> 0 | AV15: {=IFERROR(SUMPRODUCT((LEN(H47:H50)>0)*(G47:G50=AQ7))/INDIRECT(ADDRESS(ROW()+8,COLUMN())),0)} -> 0 | AW15: {=IFERROR(SUMPRODUCT((LEN(M47:M50)>0)*(L47:L50=AQ7))/INDIRECT(ADDRESS(ROW()+8,COLUMN())),0)} -> 0 | AX15: {=IFERROR(SUMPRODUCT((LEN(R47:R50)>0)*(Q47:Q50=AQ7))/INDIRECT(ADDRESS(ROW()+8,COLUMN())),0)} -> 0 | AY15: {=IFERROR(SUMPRODUCT((LEN(W47:W50)>0)*(V47:V50=AQ7))/INDIRECT(ADDRESS(ROW()+8,COLUMN())),0)} -> 0 | AZ15: {=IFERROR(SUMPRODUCT((LEN(AB47:AB50)>0)*(AA47:AA50=AQ7))/INDIRECT(ADDRESS(ROW()+8,COLUMN())),0)} -> 0 | BA15: {=IFERROR(SUMPRODUCT((LEN(AG47:AG50)>0)*(AF47:AF50=AQ7))/INDIRECT(ADDRESS(ROW()+8,COLUMN())),0)} -> 0
AN16: {=INDIRECT(ADDRESS(21+5*ROUNDDOWN((ROW()-11)/7,0),2+MOD(ROW()-11,7)*5))} -> 46196 | AO16: {=INDIRECT(ADDRESS(ROW($AU$10)+ROUNDDOWN((ROW()-11)/7,0),COLUMN($AU$10)+MOD(ROW()-11,7)))} -> 0 | AP16: {=INDIRECT(ADDRESS(ROW($AU$18)+ROUNDDOWN((ROW()-11)/7,0),COLUMN($AU$18)+MOD(ROW()-11,7)))} -> 0 | AQ16: 46196 | AR16: 0 | AS16: 0
AN17: {=INDIRECT(ADDRESS(21+5*ROUNDDOWN((ROW()-11)/7,0),2+MOD(ROW()-11,7)*5))} -> 46197 | AO17: {=INDIRECT(ADDRESS(ROW($AU$10)+ROUNDDOWN((ROW()-11)/7,0),COLUMN($AU$10)+MOD(ROW()-11,7)))} -> 0 | AP17: {=INDIRECT(ADDRESS(ROW($AU$18)+ROUNDDOWN((ROW()-11)/7,0),COLUMN($AU$18)+MOD(ROW()-11,7)))} -> 0 | AQ17: 46197 | AR17: 0 | AS17: 0
AN18: {=INDIRECT(ADDRESS(21+5*ROUNDDOWN((ROW()-11)/7,0),2+MOD(ROW()-11,7)*5))} -> 46198 | AO18: {=INDIRECT(ADDRESS(ROW($AU$10)+ROUNDDOWN((ROW()-11)/7,0),COLUMN($AU$10)+MOD(ROW()-11,7)))} -> 0 | AP18: {=INDIRECT(ADDRESS(ROW($AU$18)+ROUNDDOWN((ROW()-11)/7,0),COLUMN($AU$18)+MOD(ROW()-11,7)))} -> 0 | AQ18: 46198 | AR18: 0 | AS18: 0 | AU18: =IFERROR(4-COUNTBLANK(C22:C25),0) -> 0 | AV18: =IFERROR(4-COUNTBLANK(H22:H25),0) -> 0 | AW18: =IFERROR(4-COUNTBLANK(M22:M25),0) -> 0 | AX18: =IFERROR(4-COUNTBLANK(R22:R25),0) -> 0 | AY18: =IFERROR(4-COUNTBLANK(W22:W25),0) -> 0 | AZ18: =IFERROR(4-COUNTBLANK(AB22:AB25),0) -> 0 | BA18: =IFERROR(4-COUNTBLANK(AG22:AG25),0) -> 0
B19: {=_xlfn.SWITCH(UPPER(TEXT(B$21,"DDD")),"MON","M O N","TUE","T U E","WED","W E D","THU","T H U","FRI","F R I","SAT","S A T","SUN","S U N")} -> T H U | G19: {=_xlfn.SWITCH(UPPER(TEXT(G$21,"DDD")),"MON","M O N","TUE","T U E","WED","W E D","THU","T H U","FRI","F R I","SAT","S A T","SUN","S U N")} -> F R I | L19: {=_xlfn.SWITCH(UPPER(TEXT(L$21,"DDD")),"MON","M O N","TUE","T U E","WED","W E D","THU","T H U","FRI","F R I","SAT","S A T","SUN","S U N")} -> S A T | Q19: {=_xlfn.SWITCH(UPPER(TEXT(Q$21,"DDD")),"MON","M O N","TUE","T U E","WED","W E D","THU","T H U","FRI","F R I","SAT","S A T","SUN","S U N")} -> S U N | V19: {=_xlfn.SWITCH(UPPER(TEXT(V$21,"DDD")),"MON","M O N","TUE","T U E","WED","W E D","THU","T H U","FRI","F R I","SAT","S A T","SUN","S U N")} -> M O N | AA19: {=_xlfn.SWITCH(UPPER(TEXT(AA$21,"DDD")),"MON","M O N","TUE","T U E","WED","W E D","THU","T H U","FRI","F R I","SAT","S A T","SUN","S U N")} -> T U E | AF19: {=_xlfn.SWITCH(UPPER(TEXT(AF$21,"DDD")),"MON","M O N","TUE","T U E","WED","W E D","THU","T H U","FRI","F R I","SAT","S A T","SUN","S U N")} -> W E D | AK19: W E E K L Y P R O G R E S S | AN19: {=INDIRECT(ADDRESS(21+5*ROUNDDOWN((ROW()-11)/7,0),2+MOD(ROW()-11,7)*5))} -> 46199 | AO19: {=INDIRECT(ADDRESS(ROW($AU$10)+ROUNDDOWN((ROW()-11)/7,0),COLUMN($AU$10)+MOD(ROW()-11,7)))} -> 0 | AP19: {=INDIRECT(ADDRESS(ROW($AU$18)+ROUNDDOWN((ROW()-11)/7,0),COLUMN($AU$18)+MOD(ROW()-11,7)))} -> 0 | AQ19: 46199 | AR19: 0 | AS19: 0 | AU19: =IFERROR(4-COUNTBLANK(C27:C30),0) -> 0 | AV19: =IFERROR(4-COUNTBLANK(H27:H30),0) -> 0 | AW19: =IFERROR(4-COUNTBLANK(M27:M30),0) -> 0 | AX19: =IFERROR(4-COUNTBLANK(R27:R30),0) -> 0 | AY19: =IFERROR(4-COUNTBLANK(W27:W30),0) -> 0 | AZ19: =IFERROR(4-COUNTBLANK(AB27:AB30),0) -> 0 | BA19: =IFERROR(4-COUNTBLANK(AG27:AG30),0) -> 0
AN20: {=INDIRECT(ADDRESS(21+5*ROUNDDOWN((ROW()-11)/7,0),2+MOD(ROW()-11,7)*5))} -> 46200 | AO20: {=INDIRECT(ADDRESS(ROW($AU$10)+ROUNDDOWN((ROW()-11)/7,0),COLUMN($AU$10)+MOD(ROW()-11,7)))} -> 0 | AP20: {=INDIRECT(ADDRESS(ROW($AU$18)+ROUNDDOWN((ROW()-11)/7,0),COLUMN($AU$18)+MOD(ROW()-11,7)))} -> 0 | AQ20: 46200 | AR20: 0 | AS20: 0 | AU20: =IFERROR(4-COUNTBLANK(C32:C35),0) -> 0 | AV20: =IFERROR(4-COUNTBLANK(H32:H35),0) -> 0 | AW20: =IFERROR(4-COUNTBLANK(M32:M35),0) -> 0 | AX20: =IFERROR(4-COUNTBLANK(R32:R35),0) -> 0 | AY20: =IFERROR(4-COUNTBLANK(W32:W35),0) -> 0 | AZ20: =IFERROR(4-COUNTBLANK(AB32:AB35),0) -> 0 | BA20: =IFERROR(4-COUNTBLANK(AG32:AG35),0) -> 0
